Workbook

Sheet Oxidation
A1: Scan Rate | B1: Oxidation Peak Corrected for basline
A2: 0.001
A3: 0.0025 | B3: 0.01993 | C3: =B3*0.000001 -> 1.993e-08
A4: 0.005 | B4: 0.01677 | C4: =B4*0.000001 -> 1.677e-08
A5: 0.01 | B5: 0.01317 | C5: =B5*0.000001 -> 1.317e-08
A6: 0.025 | B6: 0.01704 | C6: =B6*0.000001 -> 1.704e-08
A7: 0.05 | B7: 0.01778 | C7: =B7*0.000001 -> 1.778e-08

Sheet Reduction
A1: Scan Rate | B1: Reduction Peak Corrected for Baseline
A2: 0.001
A3: 0.0025 | B3: -0.01773 | C3: =B3*0.000001 -> -1.773e-08
A4: 0.005 | C4: =B4*0.000001 -> 0
A5: 0.01 | B5: -0.01716 | C5: =B5*0.000001 -> -1.716e-08
A6: 0.025 | B6: -0.01627 | C6: =B6*0.000001 -> -1.627e-08
A7: 0.05 | B7: -0.03537 | C7: =B7*0.000001 -> -3.537e-08

Sheet E half
A1: Scan Rate | B1: Oxidation Ep | C1: E 1/2 | D1: E0 | F1: Scan Rate | G1: Reduction Ep | H1: E 1/2 | I1: E0 | K1: Log(scan rate)
A2: 0.001 | C2: =B2*0.5 -> 0 | D2: =C2+0.025247382 -> 0.025247382 | F2: 0.001 | H2: =G2*0.5 -> 0 | I2: =H2+0.025247382 -> 0.025247382 | K2: =LOG(A2) -> -3
A3: 0.0025 | B3: 0.0064 | C3: =B3*0.5 -> 0.0032 | D3: =C3+0.025247382 -> 0.028447382 | F3: 0.0025 | G3: 0.0827 | H3: =G3*0.5 -> 0.04135 | I3: =H3+0.025247382 -> 0.066597382 | K3: =LOG(A3) -> -2.60206 | N3: Standard Electrode Potential E0
A4: 0.005 | B4: 0.02151 | C4: =B4*0.5 -> 0.010755 | D4: =C4+0.025247382 -> 0.036002382 | F4: 0.005 | G4: 0.07263 | H4: =G4*0.5 -> 0.036315 | I4: =H4+0.025247382 -> 0.061562382 | K4: =LOG(A4) -> -2.30103
A5: 0.01 | B5: 0.02151 | C5: =B5*0.5 -> 0.010755 | D5: =C5+0.025247382 -> 0.036002382 | F5: 0.01 | G5: 0.05753 | H5: =G5*0.5 -> 0.028765 | I5: =H5+0.025247382 -> 0.054012382 | K5: =LOG(A5) -> -2
A6: 0.025 | B6: 0.02151 | C6: =B6*0.5 -> 0.010755 | D6: =C6+0.025247382 -> 0.036002382 | F6: 0.025 | G6: 0.0676 | H6: =G6*0.5 -> 0.0338 | I6: =H6+0.025247382 -> 0.059047382 | K6: =LOG(A6) -> -1.60206
A7: 0.05 | B7: 0.01648 | C7: =B7*0.5 -> 0.00824 | D7: =C7+0.025247382 -> 0.033487382 | F7: 0.05 | G7: 0.06256 | H7: =G7*0.5 -> 0.03128 | I7: =H7+0.025247382 -> 0.056527382 | K7: =LOG(A7) -> -1.30103 | O7: Oxidation | P7: Reduction
C8: =B8*0.5 -> 0 | D8: =C8+0.025247382 -> 0.025247382 | H8: =G8*0.5 -> 0 | I8: =H8+0.025247382 -> 0.025247382 | K8: =LOG(A8) -> #NUM! | N8: 0.1 | O8: =D3 -> 0.028447382 | P8: =I3 -> 0.066597382
C9: =B9*0.5 -> 0 | D9: =C9+0.025247382 -> 0.025247382 | H9: =G9*0.5 -> 0 | I9: =H9+0.025247382 -> 0.025247382 | K9: =LOG(A9) -> #NUM! | N9: 0.2 | O9: =D4 -> 0.036002382 | P9: =I4 -> 0.061562382
C10: =B10*0.5 -> 0 | D10: =C10+0.025247382 -> 0.025247382 | H10: =G10*0.5 -> 0 | I10: =H10+0.025247382 -> 0.025247382 | K10: =LOG(A10) -> #NUM! | N10: 0.3 | O10: =D5 -> 0.036002382 | P10: =I5 -> 0.054012382
C11: =B11*0.5 -> 0 | D11: =C11+0.025247382 -> 0.025247382 | H11: =G11*0.5 -> 0 | I11: =H11+0.025247382 -> 0.025247382 | K11: =LOG(A11) -> #NUM! | N11: Average | O11: =AVERAGE(O8:O10) -> 0.033484049 | P11: =AVERAGE(P8:P10) -> 0.060724049
C12: =B12*0.5 -> 0 | D12: =C12+0.025247382 -> 0.025247382 | H12: =G12*0.5 -> 0 | I12: =H12+0.025247382 -> 0.025247382 | K12: =LOG(A12) -> #NUM! | N12: Sdev | O12: =_xlfn.STDEV.S(O8:O10) -> 0.0043618813 | P12: =_xlfn.STDEV.S(P8:P10) -> 0.0063342449
C13: =B13*0.5 -> 0 | D13: =C13+0.025247382 -> 0.025247382 | H13: =G13*0.5 -> 0 | I13: =H13+0.025247382 -> 0.025247382 | K13: =LOG(A13) -> #NUM!
C14: =B14*0.5 -> 0 | D14: =C14+0.025247382 -> 0.025247382 | H14: =G14*0.5 -> 0 | I14: =H14+0.025247382 -> 0.025247382 | K14: =LOG(A14) -> #NUM!
C15: =B15*0.5 -> 0 | D15: =C15+0.025247382 -> 0.025247382 | H15: =G15*0.5 -> 0 | I15: =H15+0.025247382 -> 0.025247382 | K15: =LOG(A15) -> #NUM!
C16: =B16*0.5 -> 0 | D16: =C16+0.025247382 -> 0.025247382 | H16: =G16*0.5 -> 0 | I16: =H16+0.025247382 -> 0.025247382 | K16: =LOG(A16) -> #NUM!
C17: =B17*0.5 -> 0 | D17: =C17+0.025247382 -> 0.025247382 | H17: =G17*0.5 -> 0 | I17: =H17+0.025247382 -> 0.025247382 | K17: =LOG(A17) -> #NUM!
C18: =B18*0.5 -> 0 | D18: =C18+0.025247382 -> 0.025247382 | H18: =G18*0.5 -> 0 | I18: =H18+0.025247382 -> 0.025247382 | K18: =LOG(A18) -> #NUM!
C19: =B19*0.5 -> 0 | D19: =C19+0.025247382 -> 0.025247382 | H19: =G19*0.5 -> 0 | I19: =H19+0.025247382 -> 0.025247382 | K19: =LOG(A19) -> #NUM!
C20: =B20*0.5 -> 0 | D20: =C20+0.025247382 -> 0.025247382 | H20: =G20*0.5 -> 0 | I20: =H20+0.025247382 -> 0.025247382 | K20: =LOG(A20) -> #NUM!
C21: =B21*0.5 -> 0 | D21: =C21+0.025247382 -> 0.025247382 | H21: =G21*0.5 -> 0 | I21: =H21+0.025247382 -> 0.025247382 | K21: =LOG(A21) -> #NUM!
C22: =B22*0.5 -> 0 | D22: =C22+0.025247382 -> 0.025247382 | H22: =G22*0.5 -> 0 | I22: =H22+0.025247382 -> 0.025247382 | K22: =LOG(A22) -> #NUM!
C23: =B23*0.5 -> 0 | D23: =C23+0.025247382 -> 0.025247382 | H23: =G23*0.5 -> 0 | I23: =H23+0.025247382 -> 0.025247382 | K23: =LOG(A23) -> #NUM!
B29: 0.025247382

Sheet Log Ep-E0
A1: Scan Rate | B1: Oxidation Ep | C1: Oxidation E0 | D1: Ep-E0 | F1: Reduction Ep | G1: Reduction E0 | H1: Ep-E0
A2: 0.05 | B2: 0.08408 | C2: ='E half'!D2 -> 0.025247382 | D2: =B2-C2 -> 0.058832618 | F2: 0.0444 | G2: ='E half'!I2 -> 0.025247382 | H2: =F2-G2 -> 0.019152618
A3: 0.1 | B3: 0.09171 | C3: ='E half'!D3 -> 0.028447382 | D3: =B3-C3 -> 0.063262618 | F3: 0.0444 | G3: ='E half'!I3 -> 0.066597382 | H3: =F3-G3 -> -0.022197382
A4: 0.2 | B4: 0.0795 | C4: ='E half'!D4 -> 0.036002382 | D4: =B4-C4 -> 0.043497618 | F4: 0.04593 | G4: ='E half'!I4 -> 0.061562382 | H4: =F4-G4 -> -0.015632382
A5: 0.3 | B5: 0.08774 | C5: ='E half'!D5 -> 0.036002382 | D5: =B5-C5 -> 0.051737618 | F5: 0.04242 | G5: ='E half'!I5 -> 0.054012382 | H5: =F5-G5 -> -0.011592382
A6: 0.4 | B6: 0.09048 | C6: ='E half'!D6 -> 0.036002382 | D6: =B6-C6 -> 0.054477618 | F6: 0.03693 | G6: ='E half'!I6 -> 0.059047382 | H6: =F6-G6 -> -0.022117382
A7: 0.5 | B7: 0.09048 | C7: ='E half'!D7 -> 0.033487382 | D7: =B7-C7 -> 0.056992618 | F7: 0.03494 | G7: ='E half'!I7 -> 0.056527382 | H7: =F7-G7 -> -0.021587382
A8: 0.6 | B8: 0.09384 | C8: ='E half'!D8 -> 0.025247382 | D8: =B8-C8 -> 0.068592618 | F8: 0.03983 | G8: ='E half'!I8 -> 0.025247382 | H8: =F8-G8 -> 0.014582618
A9: 0.7 | B9: 0.08774 | C9: ='E half'!D9 -> 0.025247382 | D9: =B9-C9 -> 0.062492618 | F9: 0.03738 | G9: ='E half'!I9 -> 0.025247382 | H9: =F9-G9 -> 0.012132618
A10: 0.8 | B10: 0.08652 | C10: ='E half'!D10 -> 0.025247382 | D10: =B10-C10 -> 0.061272618 | F10: 0.0383 | G10: ='E half'!I10 -> 0.025247382 | H10: =F10-G10 -> 0.013052618
A11: 0.9 | B11: 0.08591 | C11: ='E half'!D11 -> 0.025247382 | D11: =B11-C11 -> 0.060662618 | F11: 0.02609 | G11: ='E half'!I11 -> 0.025247382 | H11: =F11-G11 -> 0.000842618
A12: 1 | B12: 0.1001 | C12: ='E half'!D12 -> 0.025247382 | D12: =B12-C12 -> 0.074852618 | F12: 0.04013 | G12: ='E half'!I12 -> 0.025247382 | H12: =F12-G12 -> 0.014882618
A13: 1.2 | B13: 0.08011 | C13: ='E half'!D13 -> 0.025247382 | D13: =B13-C13 -> 0.054862618 | F13: 0.04013 | G13: ='E half'!I13 -> 0.025247382 | H13: =F13-G13 -> 0.014882618
... A23: 7 | B23: 0.1001 | C23: ='E half'!D23 -> 0.025247382 | D23: =B23-C23 -> 0.074852618 | F23: 0.0001526 | G23: ='E half'!I23 -> 0.025247382 | H23: =F23-G23 -> -0.025094782
A27: 0.0025 | B27: 0.0064 | C27: ='E half'!D3 -> 0.028447382 | D27: =B27-C27 -> -0.022047382 | F27: 0.0827 | G27: ='E half'!I3 -> 0.066597382 | H27: =F27-G27 -> 0.016102618
A28: 0.005 | B28: 0.02151 | C28: ='E half'!D4 -> 0.036002382 | D28: =B28-C28 -> -0.014492382 | F28: 0.07263 | G28: ='E half'!I4 -> 0.061562382 | H28: =F28-G28 -> 0.011067618
A29: 0.01 | B29: 0.02151 | C29: ='E half'!D5 -> 0.036002382 | D29: =B29-C29 -> -0.014492382 | F29: 0.05753 | G29: ='E half'!I5 -> 0.054012382 | H29: =F29-G29 -> 0.003517618
A30: 0.025 | B30: 0.02151 | C30: ='E half'!D6 -> 0.036002382 | D30: =B30-C30 -> -0.014492382 | F30: 0.0676 | G30: ='E half'!I6 -> 0.059047382 | H30: =F30-G30 -> 0.008552618
A31: 0.05 | B31: 0.1648 | C31: ='E half'!D7 -> 0.033487382 | D31: =B31-C31 -> 0.13131262 | F31: 0.06256 | G31: ='E half'!I7 -> 0.056527382 | H31: =F31-G31 -> 0.006032618

Sheet Alpha
H2: x=0.2
B4: Slope = -2.3RT/anF | H4: Reduced | O4: Oxidised
H5: -0.0298 | O5: 0.008563
B6: n= electron transfer =1
B7: F= Faraday constant =96485.332
B8: a= heterogeneous rate constant = between 0 and 1
B9: R = rate constant =8.314 | H9: slope -0.02980 = -2.3RT / anF | O9: slope 0.008563 = -2.3RT/ anF
B10: T= temperature =293
H11: n x F | I11: 96485.332 | K11: R x T | L11: 2436.002 | O11: n x F | P11: 96485.332 | R11: R x T | S11: 2436.002
B12: when plotting from 0
H13: thus -0.0298 = -2.3*2436.002/96485.33a | O13: thus 0.008563= -2.3*2436.002/96485.33a
B15: alpha = -5602.8046/ (slope x 96485.33) | H15: equation -0.0298 = -5602.8/ 96485.33a | O15: equation 0.008563= -5602.8/ 96485.33a
B17: slope = -5602.8 / (96485.33 * a) | H17: Reduced heterogenous rate constant = 0.850703 | O17: Oxidised heterogenous rate constant = 0.008563
B19: akhil -0.06483 a=0.895712
B20: akhil 0.03396 a= -1.709923 | H20: ALPHA= 0.850703
B23: -5602.8046 | D23: =B23/B26 -> -6.5444582 | E23: 0.87545572
G25: JP ALPHA 0.995
B26: =0.008873*I11 -> 856.11435

Sheet PSI
I5: Scan Rate | J5: Oxidation Ep | K5: Reduction Ep | L5: Peak separation(n∆Ep) | M5: -(alpha2*F/RT)*PS | N5: PSI | P5: (value)^-0.5
B6: a. | I6: 0.0025 | J6: 0.0064 | K6: 0.0827 | L6: =J6-K6 -> -0.0763 | M6: =E24*L6 -> 0.75552389 | N6: =G16*EXP(M6) -> 1.851341 | P6: ='PSI graph'!Q6 -> 936.30736
I7: 0.005 | J7: 0.02151 | K7: 0.07263 | L7: =J7-K7 -> -0.05112 | M7: =L7*E24 -> 0.5061911 | N7: =G16*EXP(M7) -> 1.4427881 | P7: ='PSI graph'!Q7 -> 1112.7369
I8: 0.01 | J8: 0.02151 | K8: 0.05753 | L8: =J8-K8 -> -0.03602 | M8: =L8*E24 -> 0.35667065 | N8: =G16*EXP(M8) -> 1.2424149 | P8: ='PSI graph'!Q8 -> 8.5837873e+08
I9: 0.025 | J9: 0.02151 | K9: 0.0676 | L9: =J9-K9 -> -0.04609 | M9: =L9*E24 -> 0.45638396 | N9: =G16*EXP(M9) -> 1.3726872 | P9: ='PSI graph'!Q9 -> 4.1959e+08
I10: 0.05 | J10: 0.01648 | K10: 0.06256 | L10: =J10-K10 -> -0.04608 | M10: =L10*E24 -> 0.45628494 | N10: =G16*EXP(M10) -> 1.3725513 | P10: ='PSI graph'!Q10 -> 2.8434655e+08
L11: =J11-K11 -> 0 | M11: =L11*E24 -> 0 | N11: =G16*EXP(M11) -> 0.86969417
A12: 96485.332 | L12: =J12-K12 -> 0 | M12: =L12*E24 -> 0 | N12: =G16*EXP(M12) -> 0.86969417
B13: a=alpha | C13: 0.5 | L13: =J13-K13 -> 0 | M13: =L13*E24 -> 0 | N13: =G16*EXP(M13) -> 0.86969417
B14: F=96485.332 | L14: =J14-K14 -> 0 | M14: =L14*E24 -> 0 | N14: =G16*EXP(M14) -> 0.86969417
B15: R=8.314 | E15: alpha/pi | F15: alpha/pi^0.5 | G15: 2.18*alpha/pi^0.5 | L15: =J15-K15 -> 0 | M15: =L15*E24 -> 0 | N15: =G16*EXP(M15) -> 0.86969417
B16: T=293 | E16: =C13/PI() -> 0.15915494 | F16: =E16^0.5 -> 0.39894228 | G16: =2.18*F16 -> 0.86969417 | L16: =J16-K16 -> 0 | M16: =L16*E24 -> 0 | N16: =G16*EXP(M16) -> 0.86969417
B17: n=1 | L17: =J17-K17 -> 0 | M17: =L17*E24 -> 0 | N17: =G16*EXP(M17) -> 0.86969417
B18: ∆Ep=peak separation | L18: =J18-K18 -> 0 | M18: =L18*E24 -> 0 | N18: =G16*EXP(M18) -> 0.86969417
L19: =J19-K19 -> 0 | M19: =L19*E24 -> 0 | N19: =G16*EXP(M19) -> 0.86969417
E20: A squared | G20: A2*F | L20: =J20-K20 -> 0 | M20: =L20*E24 -> 0 | N20: =G16*EXP(M20) -> 0.86969417
E21: =C13^2 -> 0.25 | G21: =E21*A12 -> 24121.333 | L21: =J21-K21 -> 0 | M21: =L21*E24 -> 0 | N21: =G16*EXP(M21) -> 0.86969417
B22: RT= 2436.002 | L22: =J22-K22 -> 0 | M22: =L22*E24 -> 0 | N22: =G16*EXP(M22) -> 0.86969417
B23: 2436.002 | E23: A2*F/RT | L23: =J23-K23 -> 0 | M23: =L23*E24 -> 0 | N23: =G16*EXP(M23) -> 0.86969417
E24: =-G21/B23 -> -9.9020169 | L24: =J24-K24 -> 0 | M24: =L24*E24 -> 0 | N24: =G16*EXP(M24) -> 0.86969417
L25: =J25-K25 -> 0 | M25: =L25*E24 -> 0 | N25: =G16*EXP(M25) -> 0.86969417
L26: =J26-K26 -> 0 | M26: =L26*E24 -> 0 | N26: =G16*EXP(M26) -> 0.86969417
L27: =J27-K27 -> 0 | M27: =L27*E24 -> 0 | N27: =G16*EXP(M27) -> 0.86969417

Sheet PSI graph
A2: [πDnvF/(RT)]-0.5
E3: D diffusion coefficient | P3: [πDnvF/(RT)]-0.5
A4: D=diffusion coefficient | J4: for ox | O4: Calculating x axis | S4: OX | V4: Oxidised sample divided by Reduced
A5: n=electron transfer | K5: Scan Rate | L5: D for Randles-Sevcik equation | O5: 303117.6102 x v x D | P5: (303117.6102 x v x D)/RT | Q5: (value)^-0.5 | S5: ELECTRON TRANSFER RATE
A6: F=96485.332 | K6: 0.0025 | L6: 3.66682e-06 | M6: 2.90197e-06 | O6: =K6*L6*303117.6102 -> 0.0027786943 | P6: =O6/2436.002 -> 1.1406782e-06 | Q6: =P6^-0.5 -> 936.30736 | S6: =PSI!N6/Q6 -> 0.0019772791
A7: R=8.314 | K7: 0.005 | L7: 1.29811e-06 | O7: =K7*L7*303117.6102 -> 0.0019674 | P7: =O7/2436.002 -> 8.0763481e-07 | Q7: =P7^-0.5 -> 1112.7369 | S7: =PSI!N7/Q7 -> 0.0012966121
A8: T=293 | K8: 0.01 | L8: 1.0907082e-18 | M8: 6.79595e-07 | O8: =K8*L8*303117.6102 -> 3.3061286e-15 | P8: =O8/2436.002 -> 1.3571945e-18 | Q8: =P8^-0.5 -> 8.5837873e+08 | S8: =PSI!N8/Q8 -> 1.4473971e-09 | T8: =AVERAGE(S6:S10) -> 0.00065478016 | V8: =T8/'[1]PSI graph'!$T$8 -> 0.97930441
A9: v=scan rate | K9: 0.025 | L9: 1.8258967e-18 | M9: 2.44372e-07 | O9: =K9*L9*303117.6102 -> 1.3836536e-14 | P9: =O9/2436.002 -> 5.6800184e-18 | Q9: =P9^-0.5 -> 4.1959e+08 | S9: =PSI!N9/Q9 -> 3.2714965e-09
K10: 0.05 | L10: 1.9879275e-18 | M10: 5.77452e-07 | O10: =K10*L10*303117.6102 -> 3.0128791e-14 | P10: =O10/2436.002 -> 1.2368131e-17 | Q10: =P10^-0.5 -> 2.8434655e+08 | S10: =PSI!N10/Q10 -> 4.827037e-09
O11: =K11*L11*303117.6102 -> 0 | P11: =O11/2436.002 -> 0 | Q11: =P11^-0.5 -> #DIV/0!
O12: =K12*L12*303117.6102 -> 0 | P12: =O12/2436.002 -> 0 | Q12: =P12^-0.5 -> #DIV/0! | S12: RED
D13: R= 8.314 | J13: fo red | K13: 0.0025 | L13: 2.90197e-06 | O13: =K13*L13*303117.6102 -> 0.0021990955 | P13: =O13/2436.002 -> 9.0274783e-07 | Q13: =P13^-0.5 -> 1052.4871 | S13: =PSI!N6/Q13 -> 0.0017590154
A14: y axis = psi calculations | D14: T=293 | K14: 0.005 | O14: =K14*L14*303117.6102 -> 0 | P14: =O14/2436.002 -> 0 | Q14: =P14^-0.5 -> #DIV/0!
D15: n=1 | G15: C0 =129 nM | K15: 0.01 | L15: 1.8517041e-18 | O15: =K15*L15*303117.6102 -> 5.6128412e-15 | P15: =O15/2436.002 -> 2.3041201e-18 | Q15: =P15^-0.5 -> 6.5879067e+08 | S15: =PSI!N8/Q15 -> 1.8859024e-09 | T15: =AVERAGE(S13:S17) -> 0.0004397575 | V15: =T15/'[1]PSI graph'!$T$15 -> 0.65293424
D16: F= 96485.332 | G16: where, nM = nanomolar i.e. 10^-9 M | K16: 0.025 | L16: 1.6646086e-18 | O16: =K16*L16*303117.6102 -> 1.2614304e-14 | P16: =O16/2436.002 -> 5.1782816e-18 | Q16: =P16^-0.5 -> 4.3944767e+08 | S16: =PSI!N9/Q16 -> 3.1236648e-09
D17: v= scan rate | K17: 0.05 | L17: 7.8669636e-18 | O17: =K17*L17*303117.6102 -> 1.1923076e-13 | P17: =O17/2436.002 -> 4.8945264e-17 | Q17: =P17^-0.5 -> 1.42937e+08 | S17: =PSI!N10/Q17 -> 9.6024914e-09
D18: A = 1 cm^2 | G18: A = 1 cm^2 | O18: =K18*L18*303117.6102 -> 0 | P18: =O18/2436.002 -> 0 | Q18: =P18^-0.5 -> #DIV/0!
D19: C0 = 1.29 x 10^-7 | O19: =K19*L19*303117.6102 -> 0 | P19: =O19/2436.002 -> 0 | Q19: =P19^-0.5 -> #DIV/0!
O20: =K20*L20*303117.6102 -> 0 | P20: =O20/2436.002 -> 0 | Q20: =P20^-0.5 -> #DIV/0!
O21: =K21*L21*303117.6102 -> 0 | P21: =O21/2436.002 -> 0 | Q21: =P21^-0.5 -> #DIV/0!
O22: =K22*L22*303117.6102 -> 0 | P22: =O22/2436.002 -> 0 | Q22: =P22^-0.5 -> #DIV/0!
O23: =K23*L23*303117.6102 -> 0 | P23: =O23/2436.002 -> 0 | Q23: =P23^-0.5 -> #DIV/0!
O24: =K24*L24*303117.6102 -> 0 | P24: =O24/2436.002 -> 0 | Q24: =P24^-0.5 -> #DIV/0!
O25: =K25*L25*303117.6102 -> 0 | P25: =O25/2436.002 -> 0 | Q25: =P25^-0.5 -> #DIV/0!
O26: =K26*L26*303117.6102 -> 0 | P26: =O26/2436.002 -> 0 | Q26: =P26^-0.5 -> #DIV/0!
O27: =K27*L28*303117.6102 -> #VALUE! | P27: =O27/2436.002 -> #VALUE! | Q27: =P27^-0.5 -> #VALUE!
L28: 0.05Vs OX
L29: =PI()^0.5 -> 1.7724539 | M29: =L29*L30 -> 0.39633273
L30: =0.05^0.5 -> 0.2236068
L33: 1.778e-08 | M33: / | N33: 96485.332 | O33: 3.848 | P33: 2e-06 | Q33: =L10^0.5 -> 1.4099388e-09
N34: =N33*O33*P33*Q33 -> 1.0469516e-09
N36: =N34/M29 -> 2.6415977e-09
N38: =L33/N36 -> 6.730775
N40: =N38/Q10 -> 2.3671027e-08
L43: 0.025Vs OX
L44: =0.00000001704 -> 1.704e-08 | M44: / | N44: 96485.332 | O44: 3.848 | P44: 2e-06 | Q44: =L9^0.5 -> 1.3512575e-09
N45: =N44*O44*P44*Q44 -> 1.0033777e-09
N47: =N45/M29 -> 2.531655e-09
N49: =L44/N47 -> 6.730775
N51: =N49/Q9 -> 1.6041314e-08
...

Sheet Oxidation current function
B4: Scan Rate | C4: Cocnentration | D4: Conc*scan rate | E4: peak current | F4: peak current/(conc*scan rate)
B5: 0.05 | C5: 5e-06 | D5: =B5*C5 -> 2.5e-07 | E5: 0.1607 | F5: =E5/D5 -> 642800
B6: 0.1 | C6: 5e-06 | D6: =B6*C6 -> 5e-07 | E6: 0.1779 | F6: =E6/D6 -> 355800
B7: 0.2 | C7: 5e-06 | D7: =B7*C7 -> 1e-06 | E7: 0.2241 | F7: =E7/D7 -> 224100
B8: 0.3 | C8: 5e-06 | D8: =B8*C8 -> 1.5e-06 | E8: 0.2736 | F8: =E8/D8 -> 182400
B9: 0.4 | C9: 5e-06 | D9: =B9*C9 -> 2e-06 | E9: 0.3149 | F9: =E9/D9 -> 157450
B10: 0.5 | C10: 5e-06 | D10: =B10*C10 -> 2.5e-06 | E10: 0.3568 | F10: =E10/D10 -> 142720
B11: 0.6 | C11: 5e-06 | D11: =B11*C11 -> 3e-06 | E11: 0.3659 | F11: =E11/D11 -> 121966.67
B12: 0.7 | C12: 5e-06 | D12: =B12*C12 -> 3.5e-06 | E12: 0.3653 | F12: =E12/D12 -> 104371.43
B13: 0.8 | C13: 5e-06 | D13: =B13*C13 -> 4e-06 | E13: 0.3755 | F13: =E13/D13 -> 93875
B14: 0.9 | C14: 5e-06 | D14: =B14*C14 -> 4.5e-06 | E14: 0.4197 | F14: =E14/D14 -> 93266.667
B15: 1 | C15: 5e-06 | D15: =B15*C15 -> 5e-06 | E15: 0.3978 | F15: =E15/D15 -> 79560
B16: 1.2 | C16: 5e-06 | D16: =B16*C16 -> 6e-06 | E16: 0.445 | F16: =E16/D16 -> 74166.667
... B26: 7 | C26: 5e-06 | D26: =B26*C26 -> 3.5e-05 | E26: 0.6906 | F26: =E26/D26 -> 19731.429

Sheet Reduction current function
C5: Scan Rate | D5: Cocnentration | E5: Conc*scan rate | F5: peak current | G5: peak current/(conc*scan rate)
C6: 0.05 | D6: 5e-06 | E6: =C6*D6 -> 2.5e-07 | F6: -0.1358 | G6: =F6/E6 -> -543200
C7: 0.1 | D7: 5e-06 | E7: =C7*D7 -> 5e-07 | F7: -0.1965 | G7: =F7/E7 -> -393000
C8: 0.2 | D8: 5e-06 | E8: =C8*D8 -> 1e-06 | F8: -0.2643 | G8: =F8/E8 -> -264300
C9: 0.3 | D9: 5e-06 | E9: =C9*D9 -> 1.5e-06 | F9: -0.2778 | G9: =F9/E9 -> -185200
C10: 0.4 | D10: 5e-06 | E10: =C10*D10 -> 2e-06 | F10: -0.3752 | G10: =F10/E10 -> -187600
C11: 0.5 | D11: 5e-06 | E11: =C11*D11 -> 2.5e-06 | F11: -0.4002 | G11: =F11/E11 -> -160080
C12: 0.6 | D12: 5e-06 | E12: =C12*D12 -> 3e-06 | F12: -0.4106 | G12: =F12/E12 -> -136866.67
C13: 0.7 | D13: 5e-06 | E13: =C13*D13 -> 3.5e-06 | F13: -0.4853 | G13: =F13/E13 -> -138657.14
C14: 0.8 | D14: 5e-06 | E14: =C14*D14 -> 4e-06 | F14: -0.486 | G14: =F14/E14 -> -121500
C15: 0.9 | D15: 5e-06 | E15: =C15*D15 -> 4.5e-06 | F15: -0.478 | G15: =F15/E15 -> -106222.22
C16: 1 | D16: 5e-06 | E16: =C16*D16 -> 5e-06 | F16: -0.4762 | G16: =F16/E16 -> -95240
C17: 1.2 | D17: 5e-06 | E17: =C17*D17 -> 6e-06 | F17: -0.575 | G17: =F17/E17 -> -95833.333
... C27: 7 | D27: 5e-06 | E27: =C27*D27 -> 3.5e-05 | F27: -0.7462 | G27: =F27/E27 -> -21320

Sheet psi_x0009__x0009__x0009__x0009__x0009__x0009__x0009__x0009__x000a__x0009__x0009__x0009__x0009__x0009__x0009__x0009__x0009__x000a__x0009__x0009__x0009__x0009__x0009__x0009__x0009__x0009__x000a__x0009_
J1: Scan Rate
J2: 0.05
J3: 0.1
J4: 0.2
J5: 0.3
J6: 0.4
J7: 0.5
J8: 0.6
B9: a=alpha | J9: 0.7
B10: F=96485.332 | J10: 0.8
B11: R=8.314 | F11: ALPHA= 0.850703 | J11: 0.9
B12: T=293 | J12: 1
B13: n=1 | J13: 1.2
B14: ∆Ep=peak separation | F14: alpha | H14: alpha / pi | J14: 1.4
F15: 0.850703 | H15: 0.271 | J15: 1.6
J16: 1.8
F17: (alpha/pi)^0.5 | H17: (alpha/pi)^0.5*2.18 | J17: 2
B18: RT= 2436.002 | F18: 0.51961524 | H18: 1.1327612 | J18: 2.5
J19: 3
F20: alpha squared | H20: a2 * F | J20: 3.5
F21: 0.72369559 | H21: 69826.01 | J21: 4
J22: 4.5
F23: a2 * F / RT | J23: 5
F24: 28.664 | J24: 5.5
J25: 6
J26: 7
