Workbook

Sheet Oxidation
A1: Scan Rate | B1: Oxidation Peak Corrected for basline
A2: 0.01 | B2: 2.1943e-08 | C2: =B2*1000000 -> 0.021943
A3: 0.025 | B3: 2.1909e-08 | C3: =B3*1000000 -> 0.021909
A4: 0.05 | B4: 2.17e-08 | C4: =B4*1000000 -> 0.0217

Sheet Reduction
A1: Scan Rate | B1: Reduction Peak Corrected for Baseline
A2: 0.01 | B2: -1.85887e-08 | C2: =B2*1000000 -> -0.0185887
A3: 0.025 | B3: -1.8725e-08 | C3: =B3*1000000 -> -0.018725
A4: 0.05 | B4: -2.7526e-08 | C4: =B4*1000000 -> -0.027526

Sheet E half
A1: Scan Rate | B1: Oxidation Ep | C1: E 1/2 | D1: E0 | F1: Scan Rate | G1: Reduction Ep | H1: E 1/2 | I1: E0 | K1: Log(scan rate)
A2: 0.01 | B2: 0.03159 | C2: =B2*0.5 -> 0.015795 | D2: =C2+0.025247382 -> 0.041042382 | F2: 0.01 | G2: 0.08774 | H2: =G2*0.5 -> 0.04387 | I2: =H2+0.025247382 -> 0.069117382 | K2: =LOG(A2) -> -2
A3: 0.025 | B3: 0.03159 | C3: =B3*0.5 -> 0.015795 | D3: =C3+0.025247382 -> 0.041042382 | F3: 0.025 | G3: 0.08774 | H3: =G3*0.5 -> 0.04387 | I3: =H3+0.025247382 -> 0.069117382 | K3: =LOG(A3) -> -1.60206 | N3: Standard Electrode Potential E0
A4: 0.05 | B4: 0.02655 | C4: =B4*0.5 -> 0.013275 | D4: =C4+0.025247382 -> 0.038522382 | F4: 0.05 | G4: 0.0827 | H4: =G4*0.5 -> 0.04135 | I4: =H4+0.025247382 -> 0.066597382 | K4: =LOG(A4) -> -1.30103
O7: Oxidation | P7: Reduction
N8: 0.1 | O8: =D3 -> 0.041042382 | P8: =I3 -> 0.069117382
N9: 0.2 | O9: =D4 -> 0.038522382 | P9: =I4 -> 0.066597382
N10: 0.3 | O10: =D5 -> 0 | P10: =I5 -> 0
N11: Average | O11: =AVERAGE(O8:O10) -> 0.026521588 | P11: =AVERAGE(P8:P10) -> 0.045238255
N12: Sdev | O12: =_xlfn.STDEV.S(O8:O10) -> 0.023002904 | P12: =_xlfn.STDEV.S(P8:P10) -> 0.039197734
B29: 0.025247382

Sheet Log Ep-E0
A1: Scan Rate | B1: Oxidation Ep | C1: Oxidation E0 | D1: Ep-E0 | F1: Reduction Ep | G1: Reduction E0 | H1: Ep-E0
A2: 0.05 | B2: 0.08408 | C2: ='E half'!D2 -> 0.041042382 | D2: =B2-C2 -> 0.043037618 | F2: 0.0444 | G2: ='E half'!I2 -> 0.069117382 | H2: =F2-G2 -> -0.024717382
A3: 0.1 | B3: 0.09171 | C3: ='E half'!D3 -> 0.041042382 | D3: =B3-C3 -> 0.050667618 | F3: 0.0444 | G3: ='E half'!I3 -> 0.069117382 | H3: =F3-G3 -> -0.024717382
A4: 0.2 | B4: 0.0795 | C4: ='E half'!D4 -> 0.038522382 | D4: =B4-C4 -> 0.040977618 | F4: 0.04593 | G4: ='E half'!I4 -> 0.066597382 | H4: =F4-G4 -> -0.020667382
A5: 0.3 | B5: 0.08774 | C5: ='E half'!D5 -> 0 | D5: =B5-C5 -> 0.08774 | F5: 0.04242 | G5: ='E half'!I5 -> 0 | H5: =F5-G5 -> 0.04242
A6: 0.4 | B6: 0.09048 | C6: ='E half'!D6 -> 0 | D6: =B6-C6 -> 0.09048 | F6: 0.03693 | G6: ='E half'!I6 -> 0 | H6: =F6-G6 -> 0.03693
A7: 0.5 | B7: 0.09048 | C7: ='E half'!D7 -> 0 | D7: =B7-C7 -> 0.09048 | F7: 0.03494 | G7: ='E half'!I7 -> 0 | H7: =F7-G7 -> 0.03494
A8: 0.6 | B8: 0.09384 | C8: ='E half'!D8 -> 0 | D8: =B8-C8 -> 0.09384 | F8: 0.03983 | G8: ='E half'!I8 -> 0 | H8: =F8-G8 -> 0.03983
A9: 0.7 | B9: 0.08774 | C9: ='E half'!D9 -> 0 | D9: =B9-C9 -> 0.08774 | F9: 0.03738 | G9: ='E half'!I9 -> 0 | H9: =F9-G9 -> 0.03738
A10: 0.8 | B10: 0.08652 | C10: ='E half'!D10 -> 0 | D10: =B10-C10 -> 0.08652 | F10: 0.0383 | G10: ='E half'!I10 -> 0 | H10: =F10-G10 -> 0.0383
A11: 0.9 | B11: 0.08591 | C11: ='E half'!D11 -> 0 | D11: =B11-C11 -> 0.08591 | F11: 0.02609 | G11: ='E half'!I11 -> 0 | H11: =F11-G11 -> 0.02609
A12: 1 | B12: 0.1001 | C12: ='E half'!D12 -> 0 | D12: =B12-C12 -> 0.1001 | F12: 0.04013 | G12: ='E half'!I12 -> 0 | H12: =F12-G12 -> 0.04013
A13: 1.2 | B13: 0.08011 | C13: ='E half'!D13 -> 0 | D13: =B13-C13 -> 0.08011 | F13: 0.04013 | G13: ='E half'!I13 -> 0 | H13: =F13-G13 -> 0.04013
... A23: 7 | B23: 0.1001 | C23: ='E half'!D23 -> 0 | D23: =B23-C23 -> 0.1001 | F23: 0.0001526 | G23: ='E half'!I23 -> 0 | H23: =F23-G23 -> 0.0001526
A29: 0.01 | B29: ='E half'!B2 -> 0.03159 | C29: ='E half'!D2 -> 0.041042382 | D29: =B29-C29 -> -0.009452382 | F29: ='E half'!G2 -> 0.08774 | G29: ='E half'!I2 -> 0.069117382 | H29: =F29-G29 -> 0.018622618
A30: 0.025 | B30: ='E half'!B3 -> 0.03159 | C30: ='E half'!D3 -> 0.041042382 | D30: =B30-C30 -> -0.009452382 | F30: ='E half'!G3 -> 0.08774 | G30: ='E half'!I3 -> 0.069117382 | H30: =F30-G30 -> 0.018622618
A31: 0.05 | B31: ='E half'!B4 -> 0.02655 | C31: ='E half'!D4 -> 0.038522382 | D31: =B31-C31 -> -0.011972382 | F31: ='E half'!G4 -> 0.0827 | G31: ='E half'!I4 -> 0.066597382 | H31: =F31-G31 -> 0.016102618

Sheet Alpha
H2: x=0.2
B4: Slope = -2.3RT/anF | H4: Reduced | O4: Oxidised
H5: -0.0298 | O5: 0.008563
B6: n= electron transfer =1
B7: F= Faraday constant =96485.332
B8: a= heterogeneous rate constant = between 0 and 1
B9: R = rate constant =8.314 | H9: slope -0.02980 = -2.3RT / anF | O9: slope 0.008563 = -2.3RT/ anF
B10: T= temperature =293
H11: n x F | I11: 96485.332 | K11: R x T | L11: 2436.002 | O11: n x F | P11: 96485.332 | R11: R x T | S11: 2436.002
B12: when plotting from 0
H13: thus -0.0298 = -2.3*2436.002/96485.33a | O13: thus 0.008563= -2.3*2436.002/96485.33a
B15: alpha = -5602.8046/ (slope x 96485.33) | H15: equation -0.0298 = -5602.8/ 96485.33a | O15: equation 0.008563= -5602.8/ 96485.33a
B17: slope = -5602.8 / (96485.33 * a) | H17: Reduced heterogenous rate constant = 0.850703 | O17: Oxidised heterogenous rate constant = 0.008563
B19: akhil -0.06483 a=0.895712
B20: akhil 0.03396 a= -1.709923 | H20: ALPHA= 0.850703
B23: -5602.8046 | D23: =B23/B26 -> -6.5444582 | E23: 0.87545572
G25: JP ALPHA 0.995
B26: =0.008873*I11 -> 856.11435

Sheet PSI
I5: Scan Rate | J5: Oxidation Ep | K5: Reduction Ep | L5: Peak separation(n∆Ep) | M5: -(alpha2*F/RT)*PS | N5: PSI | P5: (value)^-0.5
B6: a.
I8: 0.01 | J8: ='E half'!B2 -> 0.03159 | K8: ='E half'!G2 -> 0.08774 | L8: =J8-K8 -> -0.05615 | M8: =L8*E24 -> 0.55599825 | N8: =G16*EXP(M8) -> 1.516469 | P8: ='PSI graph'!Q8 -> 5.162031e+08
I9: 0.025 | J9: ='E half'!B3 -> 0.03159 | K9: ='E half'!G3 -> 0.08774 | L9: =J9-K9 -> -0.05615 | M9: =L9*E24 -> 0.55599825 | N9: =G16*EXP(M9) -> 1.516469 | P9: ='PSI graph'!Q9 -> 3.2647551e+08
I10: 0.05 | J10: ='E half'!B4 -> 0.02655 | K10: ='E half'!G4 -> 0.0827 | L10: =J10-K10 -> -0.05615 | M10: =L10*E24 -> 0.55599825 | N10: =G16*EXP(M10) -> 1.516469 | P10: ='PSI graph'!Q10 -> 2.3298072e+08
A12: 96485.332
B13: a=alpha | C13: 0.5
B14: F=96485.332
B15: R=8.314 | E15: alpha/pi | F15: alpha/pi^0.5 | G15: 2.18*alpha/pi^0.5
B16: T=293 | E16: =C13/PI() -> 0.15915494 | F16: =E16^0.5 -> 0.39894228 | G16: =2.18*F16 -> 0.86969417
B17: n=1
B18: ∆Ep=peak separation
E20: A squared | G20: A2*F
E21: =C13^2 -> 0.25 | G21: =E21*A12 -> 24121.333
B22: RT= 2436.002
B23: 2436.002 | E23: A2*F/RT
E24: =-G21/B23 -> -9.9020169

Sheet PSI graph
A2: [πDnvF/(RT)]-0.5
E3: D diffusion coefficient | P3: [πDnvF/(RT)]-0.5
A4: D=diffusion coefficient | J4: for ox | O4: Calculating x axis | S4: OX | V4: Oxidised sample divided by Reduced
A5: n=electron transfer | K5: Scan Rate | L5: D for Randles-Sevcik equation | O5: 303117.6102 x v x D | P5: (303117.6102 x v x D)/RT | Q5: (value)^-0.5 | S5: ELECTRON TRANSFER RATE
A6: F=96485.332
A7: R=8.314
A8: T=293 | K8: 0.01 | L8: 3.0159577e-18 | O8: =K8*L8*303117.6102 -> 9.141899e-15 | P8: =O8/2436.002 -> 3.752829e-18 | Q8: =P8^-0.5 -> 5.162031e+08 | S8: =PSI!N8/Q8 -> 2.9377371e-09 | T8: =AVERAGE(S6:S10) -> 4.6972321e-09
A9: v=scan rate | K9: 0.025 | L9: 3.0159577e-18 | O9: =K9*L9*303117.6102 -> 2.2854748e-14 | P9: =O9/2436.002 -> 9.3820726e-18 | Q9: =P9^-0.5 -> 3.2647551e+08 | S9: =PSI!N9/Q9 -> 4.6449701e-09
K10: 0.05 | L10: 2.9611233e-18 | O10: =K10*L10*303117.6102 -> 4.4878431e-14 | P10: =O10/2436.002 -> 1.8422986e-17 | Q10: =P10^-0.5 -> 2.3298072e+08 | S10: =PSI!N10/Q10 -> 6.5089891e-09
O11: =K11*L11*303117.6102 -> 0 | P11: =O11/2436.002 -> 0 | Q11: =P11^-0.5 -> #DIV/0!
O12: =K12*L12*303117.6102 -> 0 | P12: =O12/2436.002 -> 0 | Q12: =P12^-0.5 -> #DIV/0! | S12: RED
D13: R= 8.314 | J13: fo red
A14: y axis = psi calculations | D14: T=293
D15: n=1 | G15: C0 =129 nM | K15: 0.01 | L15: 2.1755192e-18 | O15: =K15*L15*303117.6102 -> 6.5943817e-15 | P15: =O15/2436.002 -> 2.707051e-18 | Q15: =P15^-0.5 -> 6.0778752e+08 | S15: =PSI!N8/Q15 -> 2.4950643e-09 | T15: =AVERAGE(S13:S17) -> 4.9033454e-09
D16: F= 96485.332 | G16: where, nM = nanomolar i.e. 10^-9 M | K16: 0.025 | L16: 2.1989747e-18 | O16: =K16*L16*303117.6102 -> 1.6663699e-14 | P16: =O16/2436.002 -> 6.8405933e-18 | Q16: =P16^-0.5 -> 3.8234297e+08 | S16: =PSI!N9/Q16 -> 3.966253e-09
D17: v= scan rate | K17: 0.05 | L17: 4.7555682e-18 | O17: =K17*L17*303117.6102 -> 7.2074823e-14 | P17: =O17/2436.002 -> 2.9587341e-17 | Q17: =P17^-0.5 -> 1.8384297e+08 | S17: =PSI!N10/Q17 -> 8.2487189e-09
D18: A = 1 cm^2 | G18: A = 1 cm^2
D19: C0 = 1.29 x 10^-7
L53: 0.01Vs OX
L54: =0.00000001317 -> 1.317e-08 | M54: / | N54: 96485.332 | O54: 3.848 | P54: 2e-06 | Q54: =L8^0.5 -> 1.7366513e-09
N55: =N54*O54*P54*Q54 -> 1.2895524e-09
N57: =N55/M29 -> #DIV/0!
N59: =L54/N57 -> #DIV/0!
N61: =N59/Q8 -> #DIV/0!
L64: 0.005Vs OX
L65: =0.00000001677 -> 1.677e-08 | M65: / | N65: 96485.332 | O65: 3.848 | P65: 2e-06 | Q65: =L7^0.5 -> 0
N66: =N65*O65*P65*Q65 -> 0
N68: =N66/M29 -> #DIV/0!
N70: =L65/N68 -> #DIV/0!
N72: =N70/Q7 -> #DIV/0!
L74: 0.0025Vs OX
L75: =0.00000001993 -> 1.993e-08 | M75: / | N75: 96485.332 | O75: 3.848 | P75: 2e-06 | Q75: =L6^0.5 -> 0
N77: =N75*O75*P75*Q75 -> 0
N79: =N77/M29 -> #DIV/0!
N81: =L75/N79 -> #DIV/0!
N83: =N81/Q6 -> #DIV/0!

Sheet Oxidation current function
B4: Scan Rate | C4: Cocnentration | D4: Conc*scan rate | E4: peak current | F4: peak current/(conc*scan rate)
B5: 0.05 | C5: 5e-06 | D5: =B5*C5 -> 2.5e-07 | E5: 0.1607 | F5: =E5/D5 -> 642800
B6: 0.1 | C6: 5e-06 | D6: =B6*C6 -> 5e-07 | E6: 0.1779 | F6: =E6/D6 -> 355800
B7: 0.2 | C7: 5e-06 | D7: =B7*C7 -> 1e-06 | E7: 0.2241 | F7: =E7/D7 -> 224100
B8: 0.3 | C8: 5e-06 | D8: =B8*C8 -> 1.5e-06 | E8: 0.2736 | F8: =E8/D8 -> 182400
B9: 0.4 | C9: 5e-06 | D9: =B9*C9 -> 2e-06 | E9: 0.3149 | F9: =E9/D9 -> 157450
B10: 0.5 | C10: 5e-06 | D10: =B10*C10 -> 2.5e-06 | E10: 0.3568 | F10: =E10/D10 -> 142720
B11: 0.6 | C11: 5e-06 | D11: =B11*C11 -> 3e-06 | E11: 0.3659 | F11: =E11/D11 -> 121966.67
B12: 0.7 | C12: 5e-06 | D12: =B12*C12 -> 3.5e-06 | E12: 0.3653 | F12: =E12/D12 -> 104371.43
B13: 0.8 | C13: 5e-06 | D13: =B13*C13 -> 4e-06 | E13: 0.3755 | F13: =E13/D13 -> 93875
B14: 0.9 | C14: 5e-06 | D14: =B14*C14 -> 4.5e-06 | E14: 0.4197 | F14: =E14/D14 -> 93266.667
B15: 1 | C15: 5e-06 | D15: =B15*C15 -> 5e-06 | E15: 0.3978 | F15: =E15/D15 -> 79560
B16: 1.2 | C16: 5e-06 | D16: =B16*C16 -> 6e-06 | E16: 0.445 | F16: =E16/D16 -> 74166.667
... B26: 7 | C26: 5e-06 | D26: =B26*C26 -> 3.5e-05 | E26: 0.6906 | F26: =E26/D26 -> 19731.429

Sheet Reduction current function
C5: Scan Rate | D5: Cocnentration | E5: Conc*scan rate | F5: peak current | G5: peak current/(conc*scan rate)
C6: 0.05 | D6: 5e-06 | E6: =C6*D6 -> 2.5e-07 | F6: -0.1358 | G6: =F6/E6 -> -543200
C7: 0.1 | D7: 5e-06 | E7: =C7*D7 -> 5e-07 | F7: -0.1965 | G7: =F7/E7 -> -393000
C8: 0.2 | D8: 5e-06 | E8: =C8*D8 -> 1e-06 | F8: -0.2643 | G8: =F8/E8 -> -264300
C9: 0.3 | D9: 5e-06 | E9: =C9*D9 -> 1.5e-06 | F9: -0.2778 | G9: =F9/E9 -> -185200
C10: 0.4 | D10: 5e-06 | E10: =C10*D10 -> 2e-06 | F10: -0.3752 | G10: =F10/E10 -> -187600
C11: 0.5 | D11: 5e-06 | E11: =C11*D11 -> 2.5e-06 | F11: -0.4002 | G11: =F11/E11 -> -160080
C12: 0.6 | D12: 5e-06 | E12: =C12*D12 -> 3e-06 | F12: -0.4106 | G12: =F12/E12 -> -136866.67
C13: 0.7 | D13: 5e-06 | E13: =C13*D13 -> 3.5e-06 | F13: -0.4853 | G13: =F13/E13 -> -138657.14
C14: 0.8 | D14: 5e-06 | E14: =C14*D14 -> 4e-06 | F14: -0.486 | G14: =F14/E14 -> -121500
C15: 0.9 | D15: 5e-06 | E15: =C15*D15 -> 4.5e-06 | F15: -0.478 | G15: =F15/E15 -> -106222.22
C16: 1 | D16: 5e-06 | E16: =C16*D16 -> 5e-06 | F16: -0.4762 | G16: =F16/E16 -> -95240
C17: 1.2 | D17: 5e-06 | E17: =C17*D17 -> 6e-06 | F17: -0.575 | G17: =F17/E17 -> -95833.333
... C27: 7 | D27: 5e-06 | E27: =C27*D27 -> 3.5e-05 | F27: -0.7462 | G27: =F27/E27 -> -21320

Sheet psi_x0009__x0009__x0009__x0009__x0009__x0009__x0009__x0009__x000a__x0009__x0009__x0009__x0009__x0009__x0009__x0009__x0009__x000a__x0009__x0009__x0009__x0009__x0009__x0009__x0009__x0009__x000a__x0009_
J1: Scan Rate
J2: 0.05
J3: 0.1
J4: 0.2
J5: 0.3
J6: 0.4
J7: 0.5
J8: 0.6
B9: a=alpha | J9: 0.7
B10: F=96485.332 | J10: 0.8
B11: R=8.314 | F11: ALPHA= 0.850703 | J11: 0.9
B12: T=293 | J12: 1
B13: n=1 | J13: 1.2
B14: ∆Ep=peak separation | F14: alpha | H14: alpha / pi | J14: 1.4
F15: 0.850703 | H15: 0.271 | J15: 1.6
J16: 1.8
F17: (alpha/pi)^0.5 | H17: (alpha/pi)^0.5*2.18 | J17: 2
B18: RT= 2436.002 | F18: 0.51961524 | H18: 1.1327612 | J18: 2.5
J19: 3
F20: alpha squared | H20: a2 * F | J20: 3.5
F21: 0.72369559 | H21: 69826.01 | J21: 4
J22: 4.5
F23: a2 * F / RT | J23: 5
F24: 28.664 | J24: 5.5
J25: 6
J26: 7
