Workbook

Sheet Food full composition_all
A1: 1 | B1: 2 | C1: 3 | D1: 4 | E1: 5 | F1: 6 | G1: 7 | H1: 8 | I1: 9 | J1: 10 | K1: 11 | L1: 12 | M1: 13 | N1: 14 | O1: 15 | P1: 16 | Q1: 17 | R1: 18 | S1: 19 | T1: 20 | U1: 21 | V1: 22 | W1: 23 | X1: 24 | Y1: 25 | Z1: 26 | AA1: 27 | AB1: 28 | AC1: 29 | AD1: 30 | AE1: 31 | AF1: 32 | AG1: 33 | AH1: 34 | AI1: 35 | AJ1: 36 | AK1: 37 | AL1: 38 | AM1: 39 | AN1: 40 | AO1: 41 | AP1: 42 | AQ1: 43 | AR1: 44 | AS1: 45 | AT1: 46 | AU1: 48 | AV1: 49 | AW1: 50 | AX1: 51 | AY1: 52 | AZ1: 53 | BA1: 54 | BB1: 55 | BC1: 56 | BD1: 57 | BE1: 58 | BF1: 59 | BG1: 60 | BH1: 61 | BI1: 62 | BJ1: 63 | BK1: 64 | BL1: 65 | BM1: 66 | BN1: 67 | BO1: 68 | BP1: 69 | BQ1: 70 | BR1: 71
A2: SampleID | B2: Food type | C2: Meat inclusion* | D2: Moisture %* | E2: Main ingredient | F2: % | G2: Second | H2: % | I2: Third | J2: % | K2: Fourth | L2: % | M2: Fifth | N2: % | O2: Sixth | P2: % | Q2: Seventh | R2: % | S2: Eighth | T2: % | U2: Ninth | V2: % | W2: Tenth | X2: % | Y2: Eleventh | Z2: % | AA2: Twelth | AB2: % | AC2: Thirteenth | AD2: % | AE2: Fourteenth | AF2: % | AG2: Fifteenth | AH2: % | AI2: Sixteenth | AJ2: % | AK2: Seventeenth | AL2: % | AM2: Eighteenth | AN2: % | AO2: Nineteenth | AP2: % | AQ2: Twentieth | AS2: 21 | AU2: 22 | AW2: 23 | AY2: 24 | BA2: 25 | BC2: 26 | BE2: 27 | BG2: 28 | BI2: 29 | BK2: 30 | BM2: 31 | BO2: 32 | BQ2: 33 | BS2: % of ingredients listed
A3: S#259 | B3: Plant-based | C3: - | D3: 8 | E3: Potato starch, unspecified | F3: 24.5 | G3: Pea, unspecified | H3: 16 | I3: Soy protein concentrate, unspecified | J3: 11 | K3: Brown rice, cooked | L3: 7.5 | M3: Brewer's yeast, unspecified | N3: 5.8 | O3: Sweet potato, cooked | P3: 4.3 | Q3: Whole oats, raw | R3: 5.5 | S3: Pea, cooked | T3: 4 | U3: Pea, cooked | V3: 3 | W3: Carrot, unspecified | X3: 2 | Y3: Sunflower oil, unspecified | Z3: 0.09 | AA3: Hydrolysed vegetables | AC3: Lentil, cooked | AD3: 0.5 | AE3: Sunflower oil, unspecified | AF3: 0.5 | AG3: Minerals | AI3: Micro algae | AK3: Blueberry, unspecified | AL3: 0.5 | AM3: Cranberries | AO3: Pumpkin | BS3: =(F3+H3+J3+L3+N3+P3+R3+T3+V3+X3+Z3+AB3+AD3+AF3+AH3+AJ3+AL3+AN3+AP3+AR3+AT3+AV3+AX3+AZ3+BB3+BD3+BF3+BH3+BJ3+BL3+BN3+BP3+BR3) -> 85.19
A4: S#265 | B4: Standard Poultry | C4: 30 | D4: 10 | E4: Chicken meat, raw | F4: 30 | G4: Chicken meat, cooked | H4: 22 | I4: Pea, unspecified | J4: 12 | K4: Chickpea, cooked | L4: 5.5 | M4: Pea, unspecified | N4: 5.8 | O4: Poultry fat, unspecified | P4: 5 | Q4: Sweet potato, cooked | R4: 4 | S4: Chicken protein hydrolysate, unpecified | T4: 3.5 | U4: Potato starch, unspecified | V4: 1.2 | W4: Pea, unspecified | X4: 2 | Y4: Dried hicory root | AA4: Minerals | AC4: Carrot, cooked | AD4: 4 | AE4: Broccoli, cooked | AF4: 4 | AG4: Apple, raw | AH4: 2 | AI4: Dried kelp | AK4: Dried rosemary | BS4: =(F4+H4+J4+L4+N4+P4+R4+T4+V4+X4+Z4+AB4+AD4+AF4+AH4+AJ4+AL4+AN4+AP4+AR4+AT4+AV4+AX4+AZ4+BB4+BD4+BF4+BH4+BJ4+BL4+BN4+BP4+BR4) -> 101
A5: S#266 | B5: Standard Poultry | C5: 27.5 | D5: 10 | E5: Brown rice, cooked | F5: 37.8 | G5: Poultry by-product meal, unspecified | H5: 27.5 | I5: Oat bran, raw | J5: 18.7 | K5: Pea, cooked | L5: 7.2 | M5: Flaxseed, unspecified | N5: 5.8 | O5: Beet pulp, unspecified | P5: 4.3 | Q5: Poultry fat, unspecified | R5: 3.3 | S5: Vitamins & minerals | U5: Herb blend | W5: MOS | Y5: FOS | AA5: Glucosamine | AC5: Chondroitin sulphate | AE5: Seaweed | AG5: Yucca, cooked | AH5: 0.5 | BS5: =(F5+H5+J5+L5+N5+P5+R5+T5+V5+X5+Z5+AB5+AD5+AF5+AH5+AJ5+AL5+AN5+AP5+AR5+AT5+AV5+AX5+AZ5+BB5+BD5+BF5+BH5+BJ5+BL5+BN5+BP5+BR5) -> 105.1
A6: S#267 | B6: Standard Poultry | C6: 40 | D6: 10 | E6: Chicken meat, raw | F6: 40 | G6: White rice, cooked | H6: 19 | I6: Potato, cooked | J6: 18.7 | K6: Poultry fat, unspecified | L6: 7.2 | M6: Beet pulp, unspecified | N6: 5.8 | O6: Egg powder, unspecified | P6: 4.3 | Q6: Chicken meat, raw | R6: 3.3 | S6: Fish meal, unspecified | T6: 3.3 | U6: Brewer's yeast, unspecified | V6: 1.2 | W6: Krill | Y6: Flaxseed, unspecified | Z6: 0.3775 | AA6: Minerals | AC6: Prebiotic FOS | AE6: Prebiotic MOS | AG6: Yucca, cooked | AH6: 0.5 | AI6: Glucosamine | AK6: MSM | AM6: Chondroitin | AO6: Cranberries | AQ6: Nucleotides | BS6: =(F6+H6+J6+L6+N6+P6+R6+T6+V6+X6+Z6+AB6+AD6+AF6+AH6+AJ6+AL6+AN6+AP6+AR6+AT6+AV6+AX6+AZ6+BB6+BD6+BF6+BH6+BJ6+BL6+BN6+BP6+BR6) -> 103.6775
A7: S#268 | B7: Small and Medium dog Poultry | C7: 30 | D7: 10 | E7: Mechanically separated chicken meat, unspecified | F7: 30 | G7: Corn gluten meal 21, unspecified | H7: 17 | I7: Corn gluten meal 21, unspecified | J7: 18.7 | K7: Barley, unspecified | L7: 7.2 | M7: Poultry fat, unspecified | N7: 5.8 | O7: Chicken meat, raw | P7: 4.8 | Q7: Sorghum, unspecified | R7: 3.3 | S7: Beet pulp, unspecified | T7: 2.9 | U7: Poultry fat, unspecified | V7: 1.2 | W7: Minerals | Y7: Fructooligosaccharides | AA7: Brewer's yeast, unspecified | AB7: 0.6025 | BS7: =(F7+H7+J7+L7+N7+P7+R7+T7+V7+X7+Z7+AB7+AD7+AF7+AH7+AJ7+AL7+AN7+AP7+AR7+AT7+AV7+AX7+AZ7+BB7+BD7+BF7+BH7+BJ7+BL7+BN7+BP7+BR7) -> 91.5025
A8: S#269 | B8: Standard Poultry | C8: 20 | D8: 10 | E8: Chicken meat, raw | F8: 20 | G8: Wheat gluten, unspecified | H8: 17 | I8: Poultry by-product meal, unspecified | J8: 18.7 | K8: Corn gluten meal 21, unspecified | L8: 7.2 | M8: White rice, cooked | N8: 9 | O8: Poultry fat, unspecified | P8: 4.3 | Q8: Beet pulp, unspecified | R8: 3.3 | S8: Digest | U8: Soy flour, unspecified | V8: 1.2 | W8: Corn gluten meal 21, unspecified | X8: 2 | Y8: Wheat gluten, unspecified | Z8: 0.3775 | AA8: Minerals | AC8: Egg powder, unspecified | AD8: 0.5 | AE8: Fish oil, unspecified | AF8: 0.5 | BS8: =(F8+H8+J8+L8+N8+P8+R8+T8+V8+X8+Z8+AB8+AD8+AF8+AH8+AJ8+AL8+AN8+AP8+AR8+AT8+AV8+AX8+AZ8+BB8+BD8+BF8+BH8+BJ8+BL8+BN8+BP8+BR8) -> 84.0775
A9: S#270 | B9: Standard Poultry | C9: 26 | D9: 10 | E9: Corn gluten meal 21, unspecified | F9: 24.5 | G9: Poultry by-product meal, unspecified | H9: 26 | I9: Poultry fat, unspecified | J9: 18.7 | K9: White rice, cooked | L9: 5 | M9: Chicken liver, cooked | N9: 5.8 | O9: Flaxseed, unspecified | P9: 4.3 | Q9: Whole oats, raw | R9: 3.3 | S9: Corn gluten meal 21, unspecified | T9: 3.3 | U9: Alfalfa | W9: Brewer's yeast, unspecified | X9: 2 | Y9: Pea, cooked | Z9: 0.3775 | AA9: Minerals | AC9: Carrot, unspecified | AD9: 0.5 | AE9: Seaweed | AG9: Milk thistle | AI9: Marigold | AK9: Rosemary | AM9: Nettle | AO9: Mint | AQ9: Yucca, cooked | AR9: 0.5 | AS9: Blackcurrant | AU9: Pomegranate | AW9: Rosehip | AY9: Spinach, cooked | AZ9: 0.5 | BA9: Beets, cooked | BB9: 0.5 | BC9: Fenugreek | BE9: Thyme | BG9: Carob pod meal | BI9: Aniseed | BK9: Turmeric | BM9: Dandelion | BO9: Ginger | BQ9: Oregano | BS9: =(F9+H9+J9+L9+N9+P9+R9+T9+V9+X9+Z9+AB9+AD9+AF9+AH9+AJ9+AL9+AN9+AP9+AR9+AT9+AV9+AX9+AZ9+BB9+BD9+BF9+BH9+BJ9+BL9+BN9+BP9+BR9) -> 95.2775
A10: S#271 | B10: Standard Beef | C10: 43 | D10: 10 | E10: Beef meat, unspecified | F10: 36 | G10: Beef liver, raw | H10: 7 | I10: Potato, cooked | J10: 18 | K10: Whole wheat, unspecified | L10: 13 | M10: Egg, cooked | N10: 5.8 | O10: Whole wheat, unspecified | P10: 4 | Q10: Sweet potato, cooked | R10: 3.3 | S10: Minerals | U10: Amaranth | W10: Quinoa, unspecified | X10: 2 | Y10: Beef tallow, unspecified | Z10: 0.3775 | AA10: Botanicals & herbs | AC10: Fish oil, unspecified | AD10: 0.5 | AE10: Potato starch, unspecified | AF10: 0.5 | AG10: Nutritional yeast | AI10: Prebiotics | AK10: Carrot, unspecified | AL10: 0.5 | AM10: Apple, raw | AN10: 0.5 | AO10: Joint care mix | AQ10: Cranberries | AS10: Spinach, cooked | AT10: 0.5 | BS10: =(F10+H10+J10+L10+N10+P10+R10+T10+V10+X10+Z10+AB10+AD10+AF10+AH10+AJ10+AL10+AN10+AP10+AR10+AT10+AV10+AX10+AZ10+BB10+BD10+BF10+BH10+BJ10+BL10+BN10+BP10+BR10) -> 91.9775
A11: S#272 | B11: Standard Beef | C11: 18 | D11: 10 | E11: Cereals | F11: 20 | G11: Meat and bone meal, unspecified | H11: 18 | I11: Sunflower oil, unspecified | J11: 18.7 | K11: Textured vegetable protein, cooked | L11: 3 | M11: Minerals | O11: Vegetables | BS11: =(F11+H11+J11+L11+N11+P11+R11+T11+V11+X11+Z11+AB11+AD11+AF11+AH11+AJ11+AL11+AN11+AP11+AR11+AT11+AV11+AX11+AZ11+BB11+BD11+BF11+BH11+BJ11+BL11+BN11+BP11+BR11) -> 59.7
A12: S#273 | B12: Small dog Beef | C12: 15 | D12: 10 | E12: Cereals | F12: 45 | G12: Meat and bone meal, unspecified | H12: 16 | I12: Textured vegetable protein, cooked | J12: 18.7 | K12: Sunflower oil, unspecified | L12: 7.2 | M12: Glycerol | O12: Minerals | Q12: Propylene glycol | S12: Vegetables | BS12: =(F12+H12+J12+L12+N12+P12+R12+T12+V12+X12+Z12+AB12+AD12+AF12+AH12+AJ12+AL12+AN12+AP12+AR12+AT12+AV12+AX12+AZ12+BB12+BD12+BF12+BH12+BJ12+BL12+BN12+BP12+BR12) -> 86.9
A13: S#274 | B13: Standard Lamb | C13: 0 | D13: 10 | E13: Corn gluten meal 21, unspecified | F13: 24.5 | G13: Wheat gluten, unspecified | H13: 17 | I13: Lamb meal, unspecified | J13: 18.7 | K13: Soy flour, unspecified | L13: 7.2 | M13: Poultry fat, unspecified | N13: 5.8 | O13: Corn gluten meal 21, unspecified | P13: 4.3 | Q13: Brewer's yeast, unspecified | R13: 3.3 | S13: Digest | U13: Sunflower oil, unspecified | V13: 1.2 | W13: Flaxseed, unspecified | X13: 2 | Y13: Minerals | BS13: =(F13+H13+J13+L13+N13+P13+R13+T13+V13+X13+Z13+AB13+AD13+AF13+AH13+AJ13+AL13+AN13+AP13+AR13+AT13+AV13+AX13+AZ13+BB13+BD13+BF13+BH13+BJ13+BL13+BN13+BP13+BR13) -> 84
A14: S#275 | B14: Standard Lamb | C14: 27 | D14: 10 | E14: Lamb meat, raw | F14: 27 | G14: Lamb meat, raw | H14: 5 | I14: Sweet potato, cooked | J14: 20 | K14: Potato, cooked | L14: 16 | M14: Pea, cooked | N14: 5.8 | O14: Potato starch, unspecified | P14: 4.3 | Q14: Pea, cooked | R14: 4 | S14: Lentil, cooked | T14: 3.3 | U14: Flaxseed, unspecified | V14: 1.2 | W14: Lamb meal, unspecified | X14: 2 | Y14: Minerals | AA14: Botanicals & herbs | AC14: Sunflower oil, unspecified | AD14: 0.5 | AE14: Pea, unspecified | AF14: 0.5 | AG14: Prebiotics | AI14: Joint care mix | AK14: Cranberries | AM14: Apple, raw | AN14: 0.5 | AO14: Spinach, cooked | AP14: 0.5 | BS14: =(F14+H14+J14+L14+N14+P14+R14+T14+V14+X14+Z14+AB14+AD14+AF14+AH14+AJ14+AL14+AN14+AP14+AR14+AT14+AV14+AX14+AZ14+BB14+BD14+BF14+BH14+BJ14+BL14+BN14+BP14+BR14) -> 90.6
A15: S#276 | B15: Standard Lamb | C15: 34 | D15: 10 | E15: Lamb meal, unspecified | F15: 29 | G15: Lamb meat, raw | H15: 5 | I15: White rice, cooked | J15: 26 | K15: Corn gluten meal 21, unspecified | L15: 7.2 | M15: Poultry fat, unspecified | N15: 5.8 | O15: Beet pulp, unspecified | P15: 4.3 | Q15: Egg powder, unspecified | R15: 3.3 | S15: Chicken protein hydrolysate, unpecified | T15: 3.3 | U15: Brewer's yeast, unspecified | V15: 1.2 | W15: Flaxseed, unspecified | X15: 2 | Y15: Krill | AA15: Minerals | AC15: Prebiotic FOS | AE15: Prebiotic MOS | AG15: Yucca, cooked | AH15: 0.5 | AI15: Glucosamine | AK15: MSM | AM15: Chondroitin | AO15: Cranberries | AQ15: Nucleotides | BS15: =(F15+H15+J15+L15+N15+P15+R15+T15+V15+X15+Z15+AB15+AD15+AF15+AH15+AJ15+AL15+AN15+AP15+AR15+AT15+AV15+AX15+AZ15+BB15+BD15+BF15+BH15+BJ15+BL15+BN15+BP15+BR15) -> 87.6
A16: S#277 | B16: Standard Lamb | C16: 45 | D16: 10 | E16: Lamb meal, unspecified | F16: 25 | G16: Lamb meat, raw | H16: 20 | I16: Sweet potato, cooked | J16: 31 | K16: Beet pulp, unspecified | L16: 7.2 | M16: Flaxseed, unspecified | N16: 4 | O16: Lamb meal, unspecified | P16: 4.3 | Q16: Pea, cooked | R16: 3.3 | S16: Sunflower oil, unspecified | T16: 3.3 | U16: Botanicals | W16: Minerals | BS16: =(F16+H16+J16+L16+N16+P16+R16+T16+V16+X16+Z16+AB16+AD16+AF16+AH16+AJ16+AL16+AN16+AP16+AR16+AT16+AV16+AX16+AZ16+BB16+BD16+BF16+BH16+BJ16+BL16+BN16+BP16+BR16) -> 98.1
A17: S#278 | B17: Standard Lamb | C17: 23.5 | D17: 10 | E17: Lamb meal, unspecified | F17: 23.5 | G17: Barley, unspecified | H17: 17 | I17: Brown rice, cooked | J17: 18.7 | K17: White rice, cooked | L17: 7.2 | M17: Flaxseed, unspecified | N17: 5.8 | O17: Sweet potato, cooked | P17: 3.9 | Q17: Lamb meal, unspecified | R17: 3.5 | S17: Lamb meal, unspecified | T17: 2.9 | U17: Sugarcane fiber, unspecified | V17: 1.2 | W17: Alfalfa meal | Y17: Sunflower oil, unspecified | Z17: 0.3775 | AA17: Seaweed | AC17: Sodium chloride | AE17: Fish oil, unspecified | AF17: 0.5 | AG17: Potassium chloride | AI17: Chia seeds, raw seeds | AJ17: 0.1 | AK17: Calcium carbonate | AM17: Yucca, cooked | AN17: 0.5 | AO17: Green tea extract | AQ17: Pomegranate extract | AS17: Rosemary extract | BS17: =(F17+H17+J17+L17+N17+P17+R17+T17+V17+X17+Z17+AB17+AD17+AF17+AH17+AJ17+AL17+AN17+AP17+AR17+AT17+AV17+AX17+AZ17+BB17+BD17+BF17+BH17+BJ17+BL17+BN17+BP17+BR17) -> 85.1775
A18: S#279 | B18: Renal | C18: 0 | D18: 9.5 | E18: White rice, cooked | F18: 29.2 | G18: Corn gluten meal 21, unspecified | H18: 17 | I18: Poultry fat, unspecified | J18: 18.7 | K18: Corn gluten meal 21, unspecified | L18: 7.2 | M18: Corn gluten meal 21, unspecified | N18: 5.8 | O18: Meat and bone meal, unspecified | P18: 4.3 | Q18: Beet pulp, unspecified | R18: 3.3 | S18: Wheat gluten, unspecified | T18: 3.3 | U18: Minerals | W18: Fish oil, unspecified | X18: 2 | Y18: Textured vegetable protein, cooked | Z18: 0.3775 | AA18: Soybean oil, unspecified | AB18: 0.6025 | AC18: Psyllium husks and seeds | AE18: Fructooligosaccharides | AG18: mono/di glycerides | AI18: Marigold extract | BS18: =(F18+H18+J18+L18+N18+P18+R18+T18+V18+X18+Z18+AB18+AD18+AF18+AH18+AJ18+AL18+AN18+AP18+AR18+AT18+AV18+AX18+AZ18+BB18+BD18+BF18+BH18+BJ18+BL18+BN18+BP18+BR18) -> 91.78
A19: S#280 | B19: Renal | C19: 0 | D19: 9.5 | E19: White rice, cooked | F19: 29.2 | G19: Corn gluten meal 21, unspecified | H19: 17 | I19: Poultry fat, unspecified | J19: 18.7 | K19: Corn gluten meal 21, unspecified | L19: 7.2 | M19: Poultry by-product meal, unspecified | N19: 5.8 | O19: Meat and bone meal, unspecified | P19: 4.3 | Q19: Beet pulp, unspecified | R19: 3.3 | S19: Wheat gluten, unspecified | T19: 3.3 | U19: Fish oil, unspecified | V19: 1.2 | W19: Minerals | Y19: Textured vegetable protein, cooked | Z19: 0.3775 | AA19: Soybean oil, unspecified | AB19: 0.6025 | AC19: Psyllium husks and seeds | AE19: Fructooligosaccharides | AG19: mono/di glycerides | AI19: Marigold extract | BS19: =(F19+H19+J19+L19+N19+P19+R19+T19+V19+X19+Z19+AB19+AD19+AF19+AH19+AJ19+AL19+AN19+AP19+AR19+AT19+AV19+AX19+AZ19+BB19+BD19+BF19+BH19+BJ19+BL19+BN19+BP19+BR19) -> 90.98
A20: S#281 | B20: Renal | C20: 0 | D20: 8.5 | E20: White rice, cooked | F20: 29.2 | G20: Wheat gluten, unspecified | H20: 17 | I20: Corn gluten meal 21, unspecified | J20: 18.7 | K20: Fish oil, unspecified | L20: 7.7 | M20: Pork meat and bone meal, unspecified | N20: 5.8 | O20: Egg powder, unspecified | P20: 4.3 | Q20: Antarctic krill | S20: Chicken protein hydrolysate, unpecified | T20: 3.3 | U20: Potato starch, unspecified | V20: 1.2 | W20: Minerals | Y20: Vitamins and trace elements | AA20: Fish meal, unspecified | AB20: 0.6025 | AC20: Brewer's yeast, unspecified | AD20: 0.5 | AE20: Cellulose powder | AG20: Rosemary extract | BS20: =(F20+H20+J20+L20+N20+P20+R20+T20+V20+X20+Z20+AB20+AD20+AF20+AH20+AJ20+AL20+AN20+AP20+AR20+AT20+AV20+AX20+AZ20+BB20+BD20+BF20+BH20+BJ20+BL20+BN20+BP20+BR20) -> 88.3025
A21: S#282 | B21: Renal | C21: 0 | D21: 10 | E21: Cereals | F21: 29.2 | G21: Sunflower oil, unspecified | H21: 17 | I21: Textured vegetable protein, cooked | J21: 18.7 | K21: Egg, cooked | L21: 7.2 | M21: Textured vegetable protein, cooked | N21: 5.8 | O21: Meat and bone meal, unspecified | P21: 4.3 | Q21: Minerals | S21: Sunflower seed, toasted | T21: 3.3 | BS21: =(F21+H21+J21+L21+N21+P21+R21+T21+V21+X21+Z21+AB21+AD21+AF21+AH21+AJ21+AL21+AN21+AP21+AR21+AT21+AV21+AX21+AZ21+BB21+BD21+BF21+BH21+BJ21+BL21+BN21+BP21+BR21) -> 85.5
A22: S#283 | B22: Renal | C22: 0 | D22: 10 | E22: Corn gluten meal 21, unspecified | F22: 29.2 | G22: White rice, cooked | H22: 17 | I22: Egg powder, unspecified | J22: 18.7 | K22: Whey protein concentrate, unspecified | L22: 7.2 | M22: Pork meat and bone meal, unspecified | N22: 5.8 | O22: Sugar digest | Q22: Beet pulp, unspecified | R22: 3.3 | S22: Minerals | U22: Soybean oil, unspecified | V22: 1.2 | W22: Fish oil, unspecified | X22: 2 | BS22: =(F22+H22+J22+L22+N22+P22+R22+T22+V22+X22+Z22+AB22+AD22+AF22+AH22+AJ22+AL22+AN22+AP22+AR22+AT22+AV22+AX22+AZ22+BB22+BD22+BF22+BH22+BJ22+BL22+BN22+BP22+BR22) -> 84.4
A23: S#284 | B23: Plant-based | C23: - | D23: 10 | E23: Potato, cooked | F23: 6.3 | G23: Brown rice, cooked | H23: 6.3 | I23: Pea, cooked | J23: 6.3 | K23: Sunflower oil, unspecified | L23: 7.5 | M23: Brewer's yeast, unspecified | N23: 5.8 | O23: Vegetable stock | Q23: Pea, unspecified | R23: 5.5 | S23: Dried algae | U23: Mixed herbs | W23: Chicory | Y23: Egg powder, unspecified | Z23: 0.09 | AA23: Seaweed | AC23: Carrot, unspecified | AD23: 0.5 | AE23: Tomato, raw | AF23: 0.5 | AG23: Apple, raw | AH23: 0.5 | BS23: =(F23+H23+J23+L23+N23+P23+R23+T23+V23+X23+Z23+AB23+AD23+AF23+AH23+AJ23+AL23+AN23+AP23+AR23+AT23+AV23+AX23+AZ23+BB23+BD23+BF23+BH23+BJ23+BL23+BN23+BP23+BR23) -> 39.29
A24: S#285 | B24: Plant-based | C24: - | D24: 8 | E24: Soy, cooked | F24: 24.5 | G24: Wheat gluten, unspecified | H24: 16 | I24: Corn gluten meal 21, unspecified | J24: 11 | K24: Sunflower seed, toasted | L24: 7.5 | M24: Lupine | O24: Coconut oil, unspecified | P24: 4.3 | Q24: Minerals | S24: Brewer's yeast, unspecified | T24: 4 | U24: Baobab | W24: White rice, cooked | X24: 2 | BS24: =(F24+H24+J24+L24+N24+P24+R24+T24+V24+X24+Z24+AB24+AD24+AF24+AH24+AJ24+AL24+AN24+AP24+AR24+AT24+AV24+AX24+AZ24+BB24+BD24+BF24+BH24+BJ24+BL24+BN24+BP24+BR24) -> 69.3
A25: S#286 | B25: Standard Poultry | C25: 60 | D25: 10 | E25: Chicken meat, raw | F25: 30 | G25: Chicken meat, raw | H25: 24 | I25: White rice, cooked | J25: 19 | K25: Poultry fat, unspecified | L25: 4 | M25: Chicken liver, cooked | N25: 2 | O25: Whole oats, raw | P25: 3.5 | Q25: Dried alfalfa | S25: Fish oil, unspecified | T25: 3.3 | U25: Minerals | W25: Vitamins | Y25: Flaxseed, unspecified | Z25: 0.7 | AA25: Carrot, unspecified | AB25: 0.4 | AC25: Yucca, cooked | AD25: 0.5 | BS25: =(F25+H25+J25+L25+N25+P25+R25+T25+V25+X25+Z25+AB25+AD25+AF25+AH25+AJ25+AL25+AN25+AP25+AR25+AT25+AV25+AX25+AZ25+BB25+BD25+BF25+BH25+BJ25+BL25+BN25+BP25+BR25) -> 87.4
A26: S#288 | B26: Plant-based | C26: - | D26: 8 | E26: Soy, cooked | F26: 24.5 | G26: Corn gluten meal 21, unspecified | H26: 16 | I26: White rice, cooked | J26: 11 | K26: Sunflower oil, unspecified | L26: 7.5 | M26: Pea, cooked | N26: 5.8 | O26: Beet pulp, unspecified | P26: 4.3 | Q26: Brewer's yeast, unspecified | R26: 5.5 | S26: Tomato, raw | T26: 4 | U26: Vegetable stock | W26: Minerals | Y26: Yucca, cooked | Z26: 0.09 | AA26: Fructooligosaccharides | BS26: =(F26+H26+J26+L26+N26+P26+R26+T26+V26+X26+Z26+AB26+AD26+AF26+AH26+AJ26+AL26+AN26+AP26+AR26+AT26+AV26+AX26+AZ26+BB26+BD26+BF26+BH26+BJ26+BL26+BN26+BP26+BR26) -> 78.69
A27: S#289 | B27: Plant-based | C27: - | D27: 10 | E27: Brown rice, cooked | F27: 30 | G27: Pea, cooked | H27: 16 | I27: Lentil, cooked | J27: 11 | K27: Corn gluten meal 21, unspecified | L27: 7.5 | M27: Vegetables | O27: Sunflower oil, unspecified | P27: 4.3 | Q27: Brewer's yeast, unspecified | R27: 5.5 | S27: Hemp protein | U27: Potato starch, unspecified | V27: 3 | W27: Minerals | Y27: Apple, raw | Z27: 0.09 | AA27: Moringa oleifera | AC27: Dried mixed herbs | AE27: Yucca, cooked | AF27: 0.5 | AG27: Dried chicory root | AI27: Red fruit extract | AK27: Citrus extract | AM27: Glucosamine hydrochloride | AO27: Methyl sulfonyl methane | AQ27: Antioxidants | AS27: Probiotics | AU27: L-Carnitine | BS27: =(F27+H27+J27+L27+N27+P27+R27+T27+V27+X27+Z27+AB27+AD27+AF27+AH27+AJ27+AL27+AN27+AP27+AR27+AT27+AV27+AX27+AZ27+BB27+BD27+BF27+BH27+BJ27+BL27+BN27+BP27+BR27) -> 77.89
A28: S#290 | B28: Plant-based | C28: - | D28: 10 | E28: Wheat gluten, unspecified | F28: 24.5 | G28: Corn gluten meal 21, unspecified | H28: 16 | I28: Soy, cooked | J28: 11 | K28: Wheat gluten, unspecified | L28: 7.5 | M28: Corn gluten meal 21, unspecified | N28: 5.8 | O28: Beet pulp, unspecified | P28: 4.3 | Q28: Sunflower oil, unspecified | R28: 5.5 | S28: White rice, cooked | T28: 4 | U28: Spaghetti, cooked | V28: 3 | W28: Brewer's yeast, unspecified | X28: 2 | Y28: Minerals | AA28: Flaxseed, unspecified | AB28: 1.005 | AC28: Dicalcium phosphate | AE28: Sodium chloride | AG28: Fructooligosaccharide | AI28: Rosemary | AK28: Parsley | AM28: Yucca, cooked | AN28: 0.5 | BS28: =(F28+H28+J28+L28+N28+P28+R28+T28+V28+X28+Z28+AB28+AD28+AF28+AH28+AJ28+AL28+AN28+AP28+AR28+AT28+AV28+AX28+AZ28+BB28+BD28+BF28+BH28+BJ28+BL28+BN28+BP28+BR28) -> 85.105
A29: S#291 | B29: Standard Lamb | C29: 26 | D29: 10 | E29: Lamb meal, unspecified | F29: 26 | G29: White rice, cooked | H29: 20 | I29: Corn gluten meal 21, unspecified | J29: 18.7 | K29: Barley, unspecified | L29: 7.2 | M29: Poultry fat, unspecified | N29: 5.8 | O29: Poultry fat, unspecified | P29: 4.3 | Q29: Beet pulp, unspecified | R29: 3.3 | S29: Flaxseed, unspecified | T29: 3.3 | U29: Minerals | W29: Seaweed | Y29: FOS | AA29: Yucca, cooked | AB29: 0.01 | BS29: =(F29+H29+J29+L29+N29+P29+R29+T29+V29+X29+Z29+AB29+AD29+AF29+AH29+AJ29+AL29+AN29+AP29+AR29+AT29+AV29+AX29+AZ29+BB29+BD29+BF29+BH29+BJ29+BL29+BN29+BP29+BR29) -> 88.61
A30: S#292 | B30: Standard Beef | C30: 15 | D30: 10 | E30: Cereals | F30: 24.5 | G30: Meat and bone meal, unspecified | H30: 15 | I30: Sunflower oil, unspecified | J30: 18.7 | K30: Sunflower oil, unspecified | L30: 7.2 | M30: Textured vegetable protein, cooked | N30: 5.8 | O30: Minerals | BS30: =(F30+H30+J30+L30+N30+P30+R30+T30+V30+X30+Z30+AB30+AD30+AF30+AH30+AJ30+AL30+AN30+AP30+AR30+AT30+AV30+AX30+AZ30+BB30+BD30+BF30+BH30+BJ30+BL30+BN30+BP30+BR30) -> 71.2
A31: S#293 | B31: Standard Beef | C31: 27 | D31: 10 | E31: Beef meat, unspecified | F31: 14 | G31: Meat and bone meal, unspecified | H31: 13 | I31: Sweet potato, cooked | J31: 25 | K31: Potato, cooked | L31: 7.2 | M31: Pea, unspecified | N31: 8 | O31: Poultry fat, unspecified | P31: 5 | Q31: Poultry fat, unspecified | R31: 3.3 | S31: Beet pulp, unspecified | T31: 3.3 | U31: Minerals | W31: Apple, raw | X31: 4 | Y31: Fish oil, unspecified | Z31: 0.5 | AA31: Dried chicory | BS31: =(F31+H31+J31+L31+N31+P31+R31+T31+V31+X31+Z31+AB31+AD31+AF31+AH31+AJ31+AL31+AN31+AP31+AR31+AT31+AV31+AX31+AZ31+BB31+BD31+BF31+BH31+BJ31+BL31+BN31+BP31+BR31) -> 83.3
A32: S#294 | B32: All Sizes Beef | C32: 30 | D32: 10 | E32: Meat and bone meal, unspecified | F32: 30 | G32: Whole wheat, unspecified | H32: 17 | I32: Glycerol | K32: Poultry fat, unspecified | L32: 6 | M32: Dextrose, unspecified | N32: 5.8 | O32: Flaxseed, unspecified | P32: 4.3 | Q32: Beet pulp, unspecified | R32: 3.3 | S32: Vitamins & minerals | U32: Chicory | W32: Yucca, cooked | BS32: =(F32+H32+J32+L32+N32+P32+R32+T32+V32+X32+Z32+AB32+AD32+AF32+AH32+AJ32+AL32+AN32+AP32+AR32+AT32+AV32+AX32+AZ32+BB32+BD32+BF32+BH32+BJ32+BL32+BN32+BP32+BR32) -> 66.4
A33: S#300 | B33: Renal | C33: - | D33: 10 | E33: White rice, cooked | F33: 65 | G33: Egg powder, unspecified | H33: 18 | I33: Poultry fat, unspecified | J33: 18.7 | K33: Apple, raw | L33: 7.2 | M33: Fish oil, unspecified | N33: 3 | O33: Chicken liver hydrolysate, unspecified | P33: 4.3 | Q33: Brewer's yeast, unspecified | R33: 3.3 | S33: Calcium carbonate | U33: Algae | W33: Potassium citrate | Y33: Fructooligosaccharides | AA33: B-glucans | AC33: Mannan-oligosaccharides | AE33: Yucca, cooked | AF33: 0.5 | AG33: Curcuma & green tea decaf extract | AI33: Lactobacillus acidophilus | BS33: =(F33+H33+J33+L33+N33+P33+R33+T33+V33+X33+Z33+AB33+AD33+AF33+AH33+AJ33+AL33+AN33+AP33+AR33+AT33+AV33+AX33+AZ33+BB33+BD33+BF33+BH33+BJ33+BL33+BN33+BP33+BR33) -> 120
C35: * Values taken from food packaging

Sheet Estimating unknown %
A1: Estimates of unknown values
B3: Ingredient number
B4: 1 | C4: 2 | D4: 3 | E4: 4 | F4: 5 | G4: 6 | H4: 7 | I4: 8 | J4: 9 | K4: 10 | L4: 11 | M4: 12
A5: Meat-based | B5: =AVERAGE('Food full composition_all'!F4:F17,'Food full composition_all'!F25,'Food full composition_all'!F29:F32) -> 28.252632 | C5: =AVERAGE('Food full composition_all'!H4:H6,'Food full composition_all'!H9:H12,'Food full composition_all'!H15,'Food full composition_all'!H14,'Food full composition_all'!H16,'Food full composition_all'!H25,'Food full composition_all'!H29:H31) -> 16.964286 | D5: =AVERAGE('Food full composition_all'!J4,'Food full composition_all'!J10,'Food full composition_all'!J14:J16,'Food full composition_all'!J23,'Food full composition_all'!J25,'Food full composition_all'!J27,'Food full composition_all'!J31) -> 18.7 | E5: =AVERAGE('Food full composition_all'!L4,'Food full composition_all'!L9:L11,'Food full composition_all'!L14,'Food full composition_all'!N25,'Food full composition_all'!L32) -> 7.2142857 | F5: =AVERAGE('Food full composition_all'!N8,'Food full composition_all'!N16,'Food full composition_all'!N25,'Food full composition_all'!N31) -> 5.75 | G5: =AVERAGE('Food full composition_all'!P4,'Food full composition_all'!P7,'Food full composition_all'!P10,'Food full composition_all'!P11,'Food full composition_all'!P17,'Food full composition_all'!P25,'Food full composition_all'!P31) -> 4.3666667 | H5: =AVERAGE('Food full composition_all'!R4,'Food full composition_all'!R14,'Food full composition_all'!R17,'Food full composition_all'!R25) -> 3.8333333 | I5: =AVERAGE('Food full composition_all'!T4,'Food full composition_all'!T7,'Food full composition_all'!T12,'Food full composition_all'!T17) -> 3.1 | J5: =AVERAGE('Food full composition_all'!V10,'Food full composition_all'!V16) -> #DIV/0! | K5: =AVERAGE('Food full composition_all'!X10,'Food full composition_all'!X29,'Food full composition_all'!X31) -> 3 | L5: =AVERAGE('Food full composition_all'!Z7,'Food full composition_all'!Z25,'Food full composition_all'!Z29,'Food full composition_all'!Z31) -> 0.6 | M5: =AVERAGE('Food full composition_all'!AB10,'Food full composition_all'!AB14,'Food full composition_all'!AB29,'Food full composition_all'!AB25) -> 0.205
A6: Renal | B6: as above as no data
A7: Vegetarian | B7: 24.5 | C7: ='Food full composition_all'!$H$27 -> 16 | D7: ='Food full composition_all'!$J$27 -> 11 | E7: =AVERAGE('Food full composition_all'!L27) -> 7.5 | F7: as above as no data | G7: as above as no data | H7: =AVERAGE('Food full composition_all'!R27) -> 5.5 | I7: 4 | J7: 3 | K7: no data, as above. | L7: =AVERAGE('Food full composition_all'!Z26) -> 0.09 | M7: =AVERAGE('Food full composition_all'!AB26:AB27) -> #DIV/0!

Sheet Impact (100g DM)
C1: Atwater kcal ME/100g as fed | F1: Impact
D2: Ingredient | E2: % of composition | F2: Ingredient Land use (m2/1000 kcal) | G2: Land use by % (m2/100g dog food fed) | H2: Ingredient Co2eq emission (kg/1000 kcal) | I2: Co2eq emission (kg/100g dog food) | J2: Ingredient SO2eq emission (g/1000 kcal) | K2: SO2eq emission (g/100g dog food) | L2: Ingredient PO43-eq (g/1000 kcal) | M2: PO43-eq (g/100g dog food) | N2: Ingredient Freshwater withdrawal (L/1000 kcal) | O2: Freshwater withdrawal (L/100g dog food) | P2: Ingredient Stress-weighted water use (L/1000 kcal) | Q2: Stress-weighted water use (L/100g dog food)
A3: S#259 | B3: 1 | C3: 326.369 | D3: =VLOOKUP($A3,'Food full composition_all'!$A$3:$AU$33,5+($B3*2),0) -> Pea, unspecified | E3: =VLOOKUP($A3,'Food full composition_all'!$A$3:$AU$33,6+($B3*2),0) -> 16 | F3: =VLOOKUP(D3,'Impact value reference table'!$B$3:$G$216,2,FALSE) -> 1.48 | G3: =(F3/(1000/$C$3))/100*E3 -> 0.077284179 | H3: =VLOOKUP(D3,'Impact value reference table'!$B$3:$G$216,3,FALSE) -> 13.31 | I3: =(H3/(1000/$C$3))/100*E3 -> 0.69503542 | J3: =VLOOKUP(D3,'Impact value reference table'!$B$3:$G$216,4,FALSE) -> 2.81 | K3: =(J3/(1000/$C$3))/100*E3 -> 0.1467355 | L3: =VLOOKUP(D3,'Impact value reference table'!$B$3:$G$216,5,FALSE) -> 2.51 | M3: =(L3/(1000/$C$3))/100*E3 -> 0.13106979 | N3: =VLOOKUP(D3,'Impact value reference table'!$B$3:$G$216,6,FALSE) -> 131.58 | O3: =(N3/(1000/$C$3))/100*E3 -> 6.8709813 | P3: =VLOOKUP(D3,'Impact value reference table'!$B$3:$G$216,7,FALSE) -> #REF! | Q3: =(P3/(1000/$C$3))/100*E3 -> #REF!
A4: S#259 | B4: 2 | D4: =VLOOKUP($A4,'Food full composition_all'!$A$3:$AU$33,5+($B4*2),0) -> Soy protein concentrate, unspecified | E4: =VLOOKUP($A4,'Food full composition_all'!$A$3:$AU$33,6+($B4*2),0) -> 11 | F4: =VLOOKUP(D4,'Impact value reference table'!$B$3:$G$216,2,FALSE) -> 15.81 | G4: =(F4/(1000/$C$3))/100*E4 -> 0.56758833 | H4: =VLOOKUP(D4,'Impact value reference table'!$B$3:$G$216,3,FALSE) -> 1.73 | I4: =(H4/(1000/$C$3))/100*E4 -> 0.062108021 | J4: =VLOOKUP(D4,'Impact value reference table'!$B$3:$G$216,4,FALSE) -> 21.65 | K4: =(J4/(1000/$C$3))/100*E4 -> 0.77724777 | L4: =VLOOKUP(D4,'Impact value reference table'!$B$3:$G$216,5,FALSE) -> 17.32 | M4: =(L4/(1000/$C$3))/100*E4 -> 0.62179822 | N4: =VLOOKUP(D4,'Impact value reference table'!$B$3:$G$216,6,FALSE) -> 441.72 | O4: =(N4/(1000/$C$3))/100*E4 -> 15.858009 | P4: =VLOOKUP(D4,'Impact value reference table'!$B$3:$G$216,7,FALSE) -> #REF! | Q4: =(P4/(1000/$C$3))/100*E4 -> #REF!
A5: S#259 | B5: 3 | D5: =VLOOKUP($A5,'Food full composition_all'!$A$3:$AU$33,5+($B5*2),0) -> Brown rice, cooked | E5: =VLOOKUP($A5,'Food full composition_all'!$A$3:$AU$33,6+($B5*2),0) -> 7.5 | F5: =VLOOKUP(D5,'Impact value reference table'!$B$3:$G$216,2,FALSE) -> 0.8 | G5: =(F5/(1000/$C$3))/100*E5 -> 0.01958214 | H5: =VLOOKUP(D5,'Impact value reference table'!$B$3:$G$216,3,FALSE) -> 1.2 | I5: =(H5/(1000/$C$3))/100*E5 -> 0.02937321 | J5: =VLOOKUP(D5,'Impact value reference table'!$B$3:$G$216,4,FALSE) -> 7.4 | K5: =(J5/(1000/$C$3))/100*E5 -> 0.1811348 | L5: =VLOOKUP(D5,'Impact value reference table'!$B$3:$G$216,5,FALSE) -> 10 | M5: =(L5/(1000/$C$3))/100*E5 -> 0.24477675 | N5: =VLOOKUP(D5,'Impact value reference table'!$B$3:$G$216,6,FALSE) -> 610 | O5: =(N5/(1000/$C$3))/100*E5 -> 14.931382 | P5: =VLOOKUP(D5,'Impact value reference table'!$B$3:$G$216,7,FALSE) -> #REF! | Q5: =(P5/(1000/$C$3))/100*E5 -> #REF!
A6: S#259 | B6: 4 | D6: =VLOOKUP($A6,'Food full composition_all'!$A$3:$AU$33,5+($B6*2),0) -> Brewer's yeast, unspecified | E6: =VLOOKUP($A6,'Food full composition_all'!$A$3:$AU$33,6+($B6*2),0) -> 5.8 | F6: =VLOOKUP(D6,'Impact value reference table'!$B$3:$G$216,2,FALSE) -> 0 | G6: =(F6/(1000/$C$3))/100*E6 -> 0 | H6: =VLOOKUP(D6,'Impact value reference table'!$B$3:$G$216,3,FALSE) -> 0 | I6: =(H6/(1000/$C$3))/100*E6 -> 0 | J6: =VLOOKUP(D6,'Impact value reference table'!$B$3:$G$216,4,FALSE) -> 0 | K6: =(J6/(1000/$C$3))/100*E6 -> 0 | L6: =VLOOKUP(D6,'Impact value reference table'!$B$3:$G$216,5,FALSE) -> 0 | M6: =(L6/(1000/$C$3))/100*E6 -> 0 | N6: =VLOOKUP(D6,'Impact value reference table'!$B$3:$G$216,6,FALSE) -> 0 | O6: =(N6/(1000/$C$3))/100*E6 -> 0 | P6: =VLOOKUP(D6,'Impact value reference table'!$B$3:$G$216,7,FALSE) -> #REF! | Q6: =(P6/(1000/$C$3))/100*E6 -> #REF!
A7: S#259 | B7: 5 | D7: =VLOOKUP($A7,'Food full composition_all'!$A$3:$AU$33,5+($B7*2),0) -> Sweet potato, cooked | E7: =VLOOKUP($A7,'Food full composition_all'!$A$3:$AU$33,6+($B7*2),0) -> 4.3 | F7: =VLOOKUP(D7,'Impact value reference table'!$B$3:$G$216,2,FALSE) -> 1.2 | G7: =(F7/(1000/$C$3))/100*E7 -> 0.01684064 | H7: =VLOOKUP(D7,'Impact value reference table'!$B$3:$G$216,3,FALSE) -> 0.6 | I7: =(H7/(1000/$C$3))/100*E7 -> 0.0084203202 | J7: =VLOOKUP(D7,'Impact value reference table'!$B$3:$G$216,4,FALSE) -> 5.3 | K7: =(J7/(1000/$C$3))/100*E7 -> 0.074379495 | L7: =VLOOKUP(D7,'Impact value reference table'!$B$3:$G$216,5,FALSE) -> 4.8 | M7: =(L7/(1000/$C$3))/100*E7 -> 0.067362562 | N7: =VLOOKUP(D7,'Impact value reference table'!$B$3:$G$216,6,FALSE) -> 81 | O7: =(N7/(1000/$C$3))/100*E7 -> 1.1367432 | P7: =VLOOKUP(D7,'Impact value reference table'!$B$3:$G$216,7,FALSE) -> #REF! | Q7: =(P7/(1000/$C$3))/100*E7 -> #REF!
A8: S#259 | B8: 6 | D8: =VLOOKUP($A8,'Food full composition_all'!$A$3:$AU$33,5+($B8*2),0) -> Whole oats, raw | E8: =VLOOKUP($A8,'Food full composition_all'!$A$3:$AU$33,6+($B8*2),0) -> 5.5 | F8: =VLOOKUP(D8,'Impact value reference table'!$B$3:$G$216,2,FALSE) -> 7.6 | G8: =(F8/(1000/$C$3))/100*E8 -> 0.13642224 | H8: =VLOOKUP(D8,'Impact value reference table'!$B$3:$G$216,3,FALSE) -> 2.5 | I8: =(H8/(1000/$C$3))/100*E8 -> 0.044875738 | J8: =VLOOKUP(D8,'Impact value reference table'!$B$3:$G$216,4,FALSE) -> 4.1 | K8: =(J8/(1000/$C$3))/100*E8 -> 0.073596209 | L8: =VLOOKUP(D8,'Impact value reference table'!$B$3:$G$216,5,FALSE) -> 4.3 | M8: =(L8/(1000/$C$3))/100*E8 -> 0.077186269 | N8: =VLOOKUP(D8,'Impact value reference table'!$B$3:$G$216,6,FALSE) -> 184 | O8: =(N8/(1000/$C$3))/100*E8 -> 3.3028543 | P8: =VLOOKUP(D8,'Impact value reference table'!$B$3:$G$216,7,FALSE) -> #REF! | Q8: =(P8/(1000/$C$3))/100*E8 -> #REF!
A9: S#259 | B9: 7 | D9: =VLOOKUP($A9,'Food full composition_all'!$A$3:$AU$33,5+($B9*2),0) -> Pea, cooked | E9: =VLOOKUP($A9,'Food full composition_all'!$A$3:$AU$33,6+($B9*2),0) -> 4 | F9: =VLOOKUP(D9,'Impact value reference table'!$B$3:$G$216,2,FALSE) -> 1.41 | G9: =(F9/(1000/$C$3))/100*E9 -> 0.018407212 | H9: =VLOOKUP(D9,'Impact value reference table'!$B$3:$G$216,3,FALSE) -> 12.72 | I9: =(H9/(1000/$C$3))/100*E9 -> 0.16605655 | J9: =VLOOKUP(D9,'Impact value reference table'!$B$3:$G$216,4,FALSE) -> 2.69 | K9: =(J9/(1000/$C$3))/100*E9 -> 0.035117304 | L9: =VLOOKUP(D9,'Impact value reference table'!$B$3:$G$216,5,FALSE) -> 2.4 | M9: =(L9/(1000/$C$3))/100*E9 -> 0.031331424 | N9: =VLOOKUP(D9,'Impact value reference table'!$B$3:$G$216,6,FALSE) -> 125.81 | O9: =(N9/(1000/$C$3))/100*E9 -> 1.6424194 | P9: =VLOOKUP(D9,'Impact value reference table'!$B$3:$G$216,7,FALSE) -> #REF! | Q9: =(P9/(1000/$C$3))/100*E9 -> #REF!
A10: S#259 | B10: 8 | D10: =VLOOKUP($A10,'Food full composition_all'!$A$3:$AU$33,5+($B10*2),0) -> Pea, cooked | E10: =VLOOKUP($A10,'Food full composition_all'!$A$3:$AU$33,6+($B10*2),0) -> 3 | F10: =VLOOKUP(D10,'Impact value reference table'!$B$3:$G$216,2,FALSE) -> 1.41 | G10: =(F10/(1000/$C$3))/100*E10 -> 0.013805409 | H10: =VLOOKUP(D10,'Impact value reference table'!$B$3:$G$216,3,FALSE) -> 12.72 | I10: =(H10/(1000/$C$3))/100*E10 -> 0.12454241 | J10: =VLOOKUP(D10,'Impact value reference table'!$B$3:$G$216,4,FALSE) -> 2.69 | K10: =(J10/(1000/$C$3))/100*E10 -> 0.026337978 | L10: =VLOOKUP(D10,'Impact value reference table'!$B$3:$G$216,5,FALSE) -> 2.4 | M10: =(L10/(1000/$C$3))/100*E10 -> 0.023498568 | N10: =VLOOKUP(D10,'Impact value reference table'!$B$3:$G$216,6,FALSE) -> 125.81 | O10: =(N10/(1000/$C$3))/100*E10 -> 1.2318145 | P10: =VLOOKUP(D10,'Impact value reference table'!$B$3:$G$216,7,FALSE) -> #REF! | Q10: =(P10/(1000/$C$3))/100*E10 -> #REF!
A11: S#259 | B11: 9 | D11: =VLOOKUP($A11,'Food full composition_all'!$A$3:$AU$33,5+($B11*2),0) -> Carrot, unspecified | E11: =VLOOKUP($A11,'Food full composition_all'!$A$3:$AU$33,6+($B11*2),0) -> 2 | F11: =VLOOKUP(D11,'Impact value reference table'!$B$3:$G$216,2,FALSE) -> 0.73 | G11: =(F11/(1000/$C$3))/100*E11 -> 0.0047649874 | H11: =VLOOKUP(D11,'Impact value reference table'!$B$3:$G$216,3,FALSE) -> 0.98 | I11: =(H11/(1000/$C$3))/100*E11 -> 0.0063968324 | J11: =VLOOKUP(D11,'Impact value reference table'!$B$3:$G$216,4,FALSE) -> 7.07 | K11: =(J11/(1000/$C$3))/100*E11 -> 0.046148577 | L11: =VLOOKUP(D11,'Impact value reference table'!$B$3:$G$216,5,FALSE) -> 3.9 | M11: =(L11/(1000/$C$3))/100*E11 -> 0.025456782 | N11: =VLOOKUP(D11,'Impact value reference table'!$B$3:$G$216,6,FALSE) -> 68.29 | O11: =(N11/(1000/$C$3))/100*E11 -> 0.44575478 | P11: =VLOOKUP(D11,'Impact value reference table'!$B$3:$G$216,7,FALSE) -> #REF! | Q11: =(P11/(1000/$C$3))/100*E11 -> #REF!
A12: S#259 | B12: 10 | D12: =VLOOKUP($A12,'Food full composition_all'!$A$3:$AU$33,5+($B12*2),0) -> Sunflower oil, unspecified | E12: =VLOOKUP($A12,'Food full composition_all'!$A$3:$AU$33,6+($B12*2),0) -> 0.09 | F12: =VLOOKUP(D12,'Impact value reference table'!$B$3:$G$216,2,FALSE) -> 2.08 | G12: =(F12/(1000/$C$3))/100*E12 -> 0.00061096277 | H12: =VLOOKUP(D12,'Impact value reference table'!$B$3:$G$216,3,FALSE) -> 0.42 | I12: =(H12/(1000/$C$3))/100*E12 -> 0.00012336748 | J12: =VLOOKUP(D12,'Impact value reference table'!$B$3:$G$216,4,FALSE) -> 3.11 | K12: =(J12/(1000/$C$3))/100*E12 -> 0.00091350683 | L12: =VLOOKUP(D12,'Impact value reference table'!$B$3:$G$216,5,FALSE) -> 5.67 | M12: =(L12/(1000/$C$3))/100*E12 -> 0.001665461 | N12: =VLOOKUP(D12,'Impact value reference table'!$B$3:$G$216,6,FALSE) -> 112 | O12: =(N12/(1000/$C$3))/100*E12 -> 0.032897995 | P12: =VLOOKUP(D12,'Impact value reference table'!$B$3:$G$216,7,FALSE) -> #REF! | Q12: =(P12/(1000/$C$3))/100*E12 -> #REF!
A13: S#259 | B13: 11 | D13: =VLOOKUP($A13,'Food full composition_all'!$A$3:$AU$33,5+($B13*2),0) -> Hydrolysed vegetables | E13: =VLOOKUP($A13,'Food full composition_all'!$A$3:$AU$33,6+($B13*2),0) -> 0 | F13: =VLOOKUP(D13,'Impact value reference table'!$B$3:$G$216,2,FALSE) -> #N/A | G13: =(F13/(1000/$C$3))/100*E13 -> #N/A | H13: =VLOOKUP(D13,'Impact value reference table'!$B$3:$G$216,3,FALSE) -> #N/A | I13: =(H13/(1000/$C$3))/100*E13 -> #N/A | J13: =VLOOKUP(D13,'Impact value reference table'!$B$3:$G$216,4,FALSE) -> #N/A | K13: =(J13/(1000/$C$3))/100*E13 -> #N/A | L13: =VLOOKUP(D13,'Impact value reference table'!$B$3:$G$216,5,FALSE) -> #N/A | M13: =(L13/(1000/$C$3))/100*E13 -> #N/A | N13: =VLOOKUP(D13,'Impact value reference table'!$B$3:$G$216,6,FALSE) -> #N/A | O13: =(N13/(1000/$C$3))/100*E13 -> #N/A | P13: =VLOOKUP(D13,'Impact value reference table'!$B$3:$G$216,7,FALSE) -> #N/A | Q13: =(P13/(1000/$C$3))/100*E13 -> #N/A
A14: S#259 | B14: 12 | D14: =VLOOKUP($A14,'Food full composition_all'!$A$3:$AU$33,5+($B14*2),0) -> Lentil, cooked | E14: =VLOOKUP($A14,'Food full composition_all'!$A$3:$AU$33,6+($B14*2),0) -> 0.5 | F14: =VLOOKUP(D14,'Impact value reference table'!$B$3:$G$216,2,FALSE) -> 5.68 | G14: =(F14/(1000/$C$3))/100*E14 -> 0.0092688796 | H14: =VLOOKUP(D14,'Impact value reference table'!$B$3:$G$216,3,FALSE) -> 0.62 | I14: =(H14/(1000/$C$3))/100*E14 -> 0.0010117439 | J14: =VLOOKUP(D14,'Impact value reference table'!$B$3:$G$216,4,FALSE) -> 7.78 | K14: =(J14/(1000/$C$3))/100*E14 -> 0.012695754 | L14: =VLOOKUP(D14,'Impact value reference table'!$B$3:$G$216,5,FALSE) -> 6.22 | M14: =(L14/(1000/$C$3))/100*E14 -> 0.010150076 | N14: =VLOOKUP(D14,'Impact value reference table'!$B$3:$G$216,6,FALSE) -> 158.63 | O14: =(N14/(1000/$C$3))/100*E14 -> 0.25885957 | P14: =VLOOKUP(D14,'Impact value reference table'!$B$3:$G$216,7,FALSE) -> #REF! | Q14: =(P14/(1000/$C$3))/100*E14 -> #REF!
A15: S#259 | B15: 13 | D15: =VLOOKUP($A15,'Food full composition_all'!$A$3:$AU$33,5+($B15*2),0) -> Sunflower oil, unspecified | E15: =VLOOKUP($A15,'Food full composition_all'!$A$3:$AU$33,6+($B15*2),0) -> 0.5 | F15: =VLOOKUP(D15,'Impact value reference table'!$B$3:$G$216,2,FALSE) -> 2.08 | G15: =(F15/(1000/$C$3))/100*E15 -> 0.0033942376 | H15: =VLOOKUP(D15,'Impact value reference table'!$B$3:$G$216,3,FALSE) -> 0.42 | I15: =(H15/(1000/$C$3))/100*E15 -> 0.0006853749 | J15: =VLOOKUP(D15,'Impact value reference table'!$B$3:$G$216,4,FALSE) -> 3.11 | K15: =(J15/(1000/$C$3))/100*E15 -> 0.0050750379 | L15: =VLOOKUP(D15,'Impact value reference table'!$B$3:$G$216,5,FALSE) -> 5.67 | M15: =(L15/(1000/$C$3))/100*E15 -> 0.0092525611 | N15: =VLOOKUP(D15,'Impact value reference table'!$B$3:$G$216,6,FALSE) -> 112 | O15: =(N15/(1000/$C$3))/100*E15 -> 0.18276664 | P15: =VLOOKUP(D15,'Impact value reference table'!$B$3:$G$216,7,FALSE) -> #REF! | Q15: =(P15/(1000/$C$3))/100*E15 -> #REF!
... A17: S#259 | B17: 15 | D17: =VLOOKUP($A17,'Food full composition_all'!$A$3:$AU$33,5+($B17*2),0) -> Micro algae | E17: =VLOOKUP($A17,'Food full composition_all'!$A$3:$AU$33,6+($B17*2),0) -> 0 | F17: =VLOOKUP(D17,'Impact value reference table'!$B$3:$G$216,2,FALSE) -> #N/A | G17: =(F17/(1000/$C$3))/100*E17 -> #N/A | H17: =VLOOKUP(D17,'Impact value reference table'!$B$3:$G$216,3,FALSE) -> #N/A | I17: =(H17/(1000/$C$3))/100*E17 -> #N/A | J17: =VLOOKUP(D17,'Impact value reference table'!$B$3:$G$216,4,FALSE) -> #N/A | K17: =(J17/(1000/$C$3))/100*E17 -> #N/A | L17: =VLOOKUP(D17,'Impact value reference table'!$B$3:$G$216,5,FALSE) -> #N/A | M17: =(L17/(1000/$C$3))/100*E17 -> #N/A | N17: =VLOOKUP(D17,'Impact value reference table'!$B$3:$G$216,6,FALSE) -> #N/A | O17: =(N17/(1000/$C$3))/100*E17 -> #N/A | P17: =VLOOKUP(D17,'Impact value reference table'!$B$3:$G$216,7,FALSE) -> #N/A | Q17: =(P17/(1000/$C$3))/100*E17 -> #N/A
A18: S#259 | B18: 16 | D18: =VLOOKUP($A18,'Food full composition_all'!$A$3:$AU$33,5+($B18*2),0) -> Blueberry, unspecified | E18: 0 | F18: =VLOOKUP(D18,'Impact value reference table'!$B$3:$G$216,2,FALSE) -> 4.21 | G18: =(F18/(1000/$C$3))/100*E18 -> 0 | H18: =VLOOKUP(D18,'Impact value reference table'!$B$3:$G$216,3,FALSE) -> 2.63 | I18: =(H18/(1000/$C$3))/100*E18 -> 0 | J18: =VLOOKUP(D18,'Impact value reference table'!$B$3:$G$216,4,FALSE) -> 21.05 | K18: =(J18/(1000/$C$3))/100*E18 -> 0 | L18: =VLOOKUP(D18,'Impact value reference table'!$B$3:$G$216,5,FALSE) -> 10.7 | M18: =(L18/(1000/$C$3))/100*E18 -> 0 | N18: =VLOOKUP(D18,'Impact value reference table'!$B$3:$G$216,6,FALSE) -> 736.84 | O18: =(N18/(1000/$C$3))/100*E18 -> 0 | P18: =VLOOKUP(D18,'Impact value reference table'!$B$3:$G$216,7,FALSE) -> #REF! | Q18: =(P18/(1000/$C$3))/100*E18 -> #REF!
A19: S#259 | B19: 17 | D19: =VLOOKUP($A19,'Food full composition_all'!$A$3:$AU$33,5+($B19*2),0) -> Cranberries | E19: =VLOOKUP($A19,'Food full composition_all'!$A$3:$AU$33,6+($B19*2),0) -> 0 | F19: =VLOOKUP(D19,'Impact value reference table'!$B$3:$G$216,2,FALSE) -> #N/A | G19: =(F19/(1000/$C$3))/100*E19 -> #N/A | H19: =VLOOKUP(D19,'Impact value reference table'!$B$3:$G$216,3,FALSE) -> #N/A | I19: =(H19/(1000/$C$3))/100*E19 -> #N/A | J19: =VLOOKUP(D19,'Impact value reference table'!$B$3:$G$216,4,FALSE) -> #N/A | K19: =(J19/(1000/$C$3))/100*E19 -> #N/A | L19: =VLOOKUP(D19,'Impact value reference table'!$B$3:$G$216,5,FALSE) -> #N/A | M19: =(L19/(1000/$C$3))/100*E19 -> #N/A | N19: =VLOOKUP(D19,'Impact value reference table'!$B$3:$G$216,6,FALSE) -> #N/A | O19: =(N19/(1000/$C$3))/100*E19 -> #N/A | P19: =VLOOKUP(D19,'Impact value reference table'!$B$3:$G$216,7,FALSE) -> #N/A | Q19: =(P19/(1000/$C$3))/100*E19 -> #N/A
A20: S#259 | B20: 18 | D20: =VLOOKUP($A20,'Food full composition_all'!$A$3:$AU$33,5+($B20*2),0) -> Pumpkin | E20: =VLOOKUP($A20,'Food full composition_all'!$A$3:$AU$33,6+($B20*2),0) -> 0 | F20: =VLOOKUP(D20,'Impact value reference table'!$B$3:$G$216,2,FALSE) -> #N/A | G20: =(F20/(1000/$C$3))/100*E20 -> #N/A | H20: =VLOOKUP(D20,'Impact value reference table'!$B$3:$G$216,3,FALSE) -> #N/A | I20: =(H20/(1000/$C$3))/100*E20 -> #N/A | J20: =VLOOKUP(D20,'Impact value reference table'!$B$3:$G$216,4,FALSE) -> #N/A | K20: =(J20/(1000/$C$3))/100*E20 -> #N/A | L20: =VLOOKUP(D20,'Impact value reference table'!$B$3:$G$216,5,FALSE) -> #N/A | M20: =(L20/(1000/$C$3))/100*E20 -> #N/A | N20: =VLOOKUP(D20,'Impact value reference table'!$B$3:$G$216,6,FALSE) -> #N/A | O20: =(N20/(1000/$C$3))/100*E20 -> #N/A | P20: =VLOOKUP(D20,'Impact value reference table'!$B$3:$G$216,7,FALSE) -> #N/A | Q20: =(P20/(1000/$C$3))/100*E20 -> #N/A
A21: S#259 | B21: 19 | D21: =VLOOKUP($A21,'Food full composition_all'!$A$3:$AU$33,5+($B21*2),0) -> 0 | E21: =VLOOKUP($A21,'Food full composition_all'!$A$3:$AU$33,6+($B21*2),0) -> 0 | F21: =VLOOKUP(D21,'Impact value reference table'!$B$3:$G$216,2,FALSE) -> #N/A | G21: =(F21/(1000/$C$3))/100*E21 -> #N/A | H21: =VLOOKUP(D21,'Impact value reference table'!$B$3:$G$216,3,FALSE) -> #N/A | I21: =(H21/(1000/$C$3))/100*E21 -> #N/A | J21: =VLOOKUP(D21,'Impact value reference table'!$B$3:$G$216,4,FALSE) -> #N/A | K21: =(J21/(1000/$C$3))/100*E21 -> #N/A | L21: =VLOOKUP(D21,'Impact value reference table'!$B$3:$G$216,5,FALSE) -> #N/A | M21: =(L21/(1000/$C$3))/100*E21 -> #N/A | N21: =VLOOKUP(D21,'Impact value reference table'!$B$3:$G$216,6,FALSE) -> #N/A | O21: =(N21/(1000/$C$3))/100*E21 -> #N/A | P21: =VLOOKUP(D21,'Impact value reference table'!$B$3:$G$216,7,FALSE) -> #N/A | Q21: =(P21/(1000/$C$3))/100*E21 -> #N/A
A22: S#265 | B22: 1 | C22: 350.944 | D22: =VLOOKUP($A22,'Food full composition_all'!$A$3:$AU$33,5+($B22*2),0) -> Chicken meat, cooked | E22: =VLOOKUP($A22,'Food full composition_all'!$A$3:$AU$33,6+($B22*2),0) -> 22 | F22: =VLOOKUP(D22,'Impact value reference table'!$B$3:$G$216,2,FALSE) -> 8 | G22: =(F22/(1000/$C$22))/100*E22 -> 0.61766144 | H22: =VLOOKUP(D22,'Impact value reference table'!$B$3:$G$216,3,FALSE) -> 6.42 | I22: =(H22/(1000/$C$22))/100*E22 -> 0.49567331 | J22: =VLOOKUP(D22,'Impact value reference table'!$B$3:$G$216,4,FALSE) -> 66.49 | K22: =(J22/(1000/$C$22))/100*E22 -> 5.1335386 | L22: =VLOOKUP(D22,'Impact value reference table'!$B$3:$G$216,5,FALSE) -> 31.55 | M22: =(L22/(1000/$C$22))/100*E22 -> 2.4359023 | N22: =VLOOKUP(D22,'Impact value reference table'!$B$3:$G$216,6,FALSE) -> 429.36 | O22: =(N22/(1000/$C$22))/100*E22 -> 33.149889 | P22: =VLOOKUP(D22,'Impact value reference table'!$B$3:$G$216,7,FALSE) -> #REF! | Q22: =(P22/(1000/$C$22))/100*E22 -> #REF!
A23: S#265 | B23: 2 | D23: =VLOOKUP($A23,'Food full composition_all'!$A$3:$AU$33,5+($B23*2),0) -> Pea, unspecified | E23: =VLOOKUP($A23,'Food full composition_all'!$A$3:$AU$33,6+($B23*2),0) -> 12 | F23: =VLOOKUP(D23,'Impact value reference table'!$B$3:$G$216,2,FALSE) -> 1.48 | G23: =(F23/(1000/$C$22))/100*E23 -> 0.062327654 | H23: =VLOOKUP(D23,'Impact value reference table'!$B$3:$G$216,3,FALSE) -> 13.31 | I23: =(H23/(1000/$C$22))/100*E23 -> 0.56052776 | J23: =VLOOKUP(D23,'Impact value reference table'!$B$3:$G$216,4,FALSE) -> 2.81 | K23: =(J23/(1000/$C$22))/100*E23 -> 0.11833832 | L23: =VLOOKUP(D23,'Impact value reference table'!$B$3:$G$216,5,FALSE) -> 2.51 | M23: =(L23/(1000/$C$22))/100*E23 -> 0.10570433 | N23: =VLOOKUP(D23,'Impact value reference table'!$B$3:$G$216,6,FALSE) -> 131.58 | O23: =(N23/(1000/$C$22))/100*E23 -> 5.5412654 | P23: =VLOOKUP(D23,'Impact value reference table'!$B$3:$G$216,7,FALSE) -> #REF! | Q23: =(P23/(1000/$C$22))/100*E23 -> #REF!
A24: S#265 | B24: 3 | D24: =VLOOKUP($A24,'Food full composition_all'!$A$3:$AU$33,5+($B24*2),0) -> Chickpea, cooked | E24: =VLOOKUP($A24,'Food full composition_all'!$A$3:$AU$33,6+($B24*2),0) -> 5.5 | F24: =VLOOKUP(D24,'Impact value reference table'!$B$3:$G$216,2,FALSE) -> 3.94 | G24: =(F24/(1000/$C$22))/100*E24 -> 0.076049565 | H24: =VLOOKUP(D24,'Impact value reference table'!$B$3:$G$216,3,FALSE) -> 0.43 | I24: =(H24/(1000/$C$22))/100*E24 -> 0.0082998256 | J24: =VLOOKUP(D24,'Impact value reference table'!$B$3:$G$216,4,FALSE) -> 5.4 | K24: =(J24/(1000/$C$22))/100*E24 -> 0.10423037 | L24: =VLOOKUP(D24,'Impact value reference table'!$B$3:$G$216,5,FALSE) -> 4.32 | M24: =(L24/(1000/$C$22))/100*E24 -> 0.083384294 | N24: =VLOOKUP(D24,'Impact value reference table'!$B$3:$G$216,6,FALSE) -> 110.21 | O24: =(N24/(1000/$C$22))/100*E24 -> 2.1272646 | P24: =VLOOKUP(D24,'Impact value reference table'!$B$3:$G$216,7,FALSE) -> #REF! | Q24: =(P24/(1000/$C$22))/100*E24 -> #REF!
A25: S#265 | B25: 4 | D25: =VLOOKUP($A25,'Food full composition_all'!$A$3:$AU$33,5+($B25*2),0) -> Pea, unspecified | E25: =VLOOKUP($A25,'Food full composition_all'!$A$3:$AU$33,6+($B25*2),0) -> 5.8 | F25: =VLOOKUP(D25,'Impact value reference table'!$B$3:$G$216,2,FALSE) -> 1.48 | G25: =(F25/(1000/$C$22))/100*E25 -> 0.030125033 | H25: =VLOOKUP(D25,'Impact value reference table'!$B$3:$G$216,3,FALSE) -> 13.31 | I25: =(H25/(1000/$C$22))/100*E25 -> 0.27092175 | J25: =VLOOKUP(D25,'Impact value reference table'!$B$3:$G$216,4,FALSE) -> 2.81 | K25: =(J25/(1000/$C$22))/100*E25 -> 0.057196853 | L25: =VLOOKUP(D25,'Impact value reference table'!$B$3:$G$216,5,FALSE) -> 2.51 | M25: =(L25/(1000/$C$22))/100*E25 -> 0.051090428 | N25: =VLOOKUP(D25,'Impact value reference table'!$B$3:$G$216,6,FALSE) -> 131.58 | O25: =(N25/(1000/$C$22))/100*E25 -> 2.6782783 | P25: =VLOOKUP(D25,'Impact value reference table'!$B$3:$G$216,7,FALSE) -> #REF! | Q25: =(P25/(1000/$C$22))/100*E25 -> #REF!
A26: S#265 | B26: 5 | D26: =VLOOKUP($A26,'Food full composition_all'!$A$3:$AU$33,5+($B26*2),0) -> Poultry fat, unspecified | E26: =VLOOKUP($A26,'Food full composition_all'!$A$3:$AU$33,6+($B26*2),0) -> 5 | F26: =VLOOKUP(D26,'Impact value reference table'!$B$3:$G$216,2,FALSE) -> 0 | G26: =(F26/(1000/$C$22))/100*E26 -> 0 | H26: =VLOOKUP(D26,'Impact value reference table'!$B$3:$G$216,3,FALSE) -> 0 | I26: =(H26/(1000/$C$22))/100*E26 -> 0 | J26: =VLOOKUP(D26,'Impact value reference table'!$B$3:$G$216,4,FALSE) -> 0 | K26: =(J26/(1000/$C$22))/100*E26 -> 0 | L26: =VLOOKUP(D26,'Impact value reference table'!$B$3:$G$216,5,FALSE) -> 0 | M26: =(L26/(1000/$C$22))/100*E26 -> 0 | N26: =VLOOKUP(D26,'Impact value reference table'!$B$3:$G$216,6,FALSE) -> 0 | O26: =(N26/(1000/$C$22))/100*E26 -> 0 | P26: =VLOOKUP(D26,'Impact value reference table'!$B$3:$G$216,7,FALSE) -> #REF! | Q26: =(P26/(1000/$C$22))/100*E26 -> #REF!
A27: S#265 | B27: 6 | D27: =VLOOKUP($A27,'Food full composition_all'!$A$3:$AU$33,5+($B27*2),0) -> Sweet potato, cooked | E27: =VLOOKUP($A27,'Food full composition_all'!$A$3:$AU$33,6+($B27*2),0) -> 4 | F27: =VLOOKUP(D27,'Impact value reference table'!$B$3:$G$216,2,FALSE) -> 1.2 | G27: =(F27/(1000/$C$22))/100*E27 -> 0.016845312 | H27: =VLOOKUP(D27,'Impact value reference table'!$B$3:$G$216,3,FALSE) -> 0.6 | I27: =(H27/(1000/$C$22))/100*E27 -> 0.008422656 | J27: =VLOOKUP(D27,'Impact value reference table'!$B$3:$G$216,4,FALSE) -> 5.3 | K27: =(J27/(1000/$C$22))/100*E27 -> 0.074400128 | L27: =VLOOKUP(D27,'Impact value reference table'!$B$3:$G$216,5,FALSE) -> 4.8 | M27: =(L27/(1000/$C$22))/100*E27 -> 0.067381248 | N27: =VLOOKUP(D27,'Impact value reference table'!$B$3:$G$216,6,FALSE) -> 81 | O27: =(N27/(1000/$C$22))/100*E27 -> 1.1370586 | P27: =VLOOKUP(D27,'Impact value reference table'!$B$3:$G$216,7,FALSE) -> #REF! | Q27: =(P27/(1000/$C$22))/100*E27 -> #REF!
A28: S#265 | B28: 7 | D28: =VLOOKUP($A28,'Food full composition_all'!$A$3:$AU$33,5+($B28*2),0) -> Chicken protein hydrolysate, unpecified | E28: =VLOOKUP($A28,'Food full composition_all'!$A$3:$AU$33,6+($B28*2),0) -> 3.5 | F28: =VLOOKUP(D28,'Impact value reference table'!$B$3:$G$216,2,FALSE) -> 17.46 | G28: =(F28/(1000/$C$22))/100*E28 -> 0.21446188 | H28: =VLOOKUP(D28,'Impact value reference table'!$B$3:$G$216,3,FALSE) -> 14.02 | I28: =(H28/(1000/$C$22))/100*E28 -> 0.17220822 | J28: =VLOOKUP(D28,'Impact value reference table'!$B$3:$G$216,4,FALSE) -> 145.08 | K28: =(J28/(1000/$C$22))/100*E28 -> 1.7820234 | L28: =VLOOKUP(D28,'Impact value reference table'!$B$3:$G$216,5,FALSE) -> 68.85 | M28: =(L28/(1000/$C$22))/100*E28 -> 0.8456873 | N28: =VLOOKUP(D28,'Impact value reference table'!$B$3:$G$216,6,FALSE) -> 936.89 | O28: =(N28/(1000/$C$22))/100*E28 -> 11.507857 | P28: =VLOOKUP(D28,'Impact value reference table'!$B$3:$G$216,7,FALSE) -> #REF! | Q28: =(P28/(1000/$C$22))/100*E28 -> #REF!
A29: S#265 | B29: 8 | D29: =VLOOKUP($A29,'Food full composition_all'!$A$3:$AU$33,5+($B29*2),0) -> Potato starch, unspecified | E29: =VLOOKUP($A29,'Food full composition_all'!$A$3:$AU$33,6+($B29*2),0) -> 1.2 | F29: =VLOOKUP(D29,'Impact value reference table'!$B$3:$G$216,2,FALSE) -> 1.2 | G29: =(F29/(1000/$C$22))/100*E29 -> 0.0050535936 | H29: =VLOOKUP(D29,'Impact value reference table'!$B$3:$G$216,3,FALSE) -> 0.6 | I29: =(H29/(1000/$C$22))/100*E29 -> 0.0025267968 | J29: =VLOOKUP(D29,'Impact value reference table'!$B$3:$G$216,4,FALSE) -> 5.3 | K29: =(J29/(1000/$C$22))/100*E29 -> 0.022320038 | L29: =VLOOKUP(D29,'Impact value reference table'!$B$3:$G$216,5,FALSE) -> 4.8 | M29: =(L29/(1000/$C$22))/100*E29 -> 0.020214374 | N29: =VLOOKUP(D29,'Impact value reference table'!$B$3:$G$216,6,FALSE) -> 81 | O29: =(N29/(1000/$C$22))/100*E29 -> 0.34111757 | P29: =VLOOKUP(D29,'Impact value reference table'!$B$3:$G$216,7,FALSE) -> #REF! | Q29: =(P29/(1000/$C$22))/100*E29 -> #REF!
A30: S#265 | B30: 9 | D30: =VLOOKUP($A30,'Food full composition_all'!$A$3:$AU$33,5+($B30*2),0) -> Pea, unspecified | E30: =VLOOKUP($A30,'Food full composition_all'!$A$3:$AU$33,6+($B30*2),0) -> 2 | F30: =VLOOKUP(D30,'Impact value reference table'!$B$3:$G$216,2,FALSE) -> 1.48 | G30: =(F30/(1000/$C$22))/100*E30 -> 0.010387942 | H30: =VLOOKUP(D30,'Impact value reference table'!$B$3:$G$216,3,FALSE) -> 13.31 | I30: =(H30/(1000/$C$22))/100*E30 -> 0.093421293 | J30: =VLOOKUP(D30,'Impact value reference table'!$B$3:$G$216,4,FALSE) -> 2.81 | K30: =(J30/(1000/$C$22))/100*E30 -> 0.019723053 | L30: =VLOOKUP(D30,'Impact value reference table'!$B$3:$G$216,5,FALSE) -> 2.51 | M30: =(L30/(1000/$C$22))/100*E30 -> 0.017617389 | N30: =VLOOKUP(D30,'Impact value reference table'!$B$3:$G$216,6,FALSE) -> 131.58 | O30: =(N30/(1000/$C$22))/100*E30 -> 0.92354423 | P30: =VLOOKUP(D30,'Impact value reference table'!$B$3:$G$216,7,FALSE) -> #REF! | Q30: =(P30/(1000/$C$22))/100*E30 -> #REF!
A31: S#265 | B31: 10 | D31: =VLOOKUP($A31,'Food full composition_all'!$A$3:$AU$33,5+($B31*2),0) -> Dried hicory root | E31: =VLOOKUP($A31,'Food full composition_all'!$A$3:$AU$33,6+($B31*2),0) -> 0 | F31: =VLOOKUP(D31,'Impact value reference table'!$B$3:$G$216,2,FALSE) -> #N/A | G31: =(F31/(1000/$C$22))/100*E31 -> #N/A | H31: =VLOOKUP(D31,'Impact value reference table'!$B$3:$G$216,3,FALSE) -> #N/A | I31: =(H31/(1000/$C$22))/100*E31 -> #N/A | J31: =VLOOKUP(D31,'Impact value reference table'!$B$3:$G$216,4,FALSE) -> #N/A | K31: =(J31/(1000/$C$22))/100*E31 -> #N/A | L31: =VLOOKUP(D31,'Impact value reference table'!$B$3:$G$216,5,FALSE) -> #N/A | M31: =(L31/(1000/$C$22))/100*E31 -> #N/A | N31: =VLOOKUP(D31,'Impact value reference table'!$B$3:$G$216,6,FALSE) -> #N/A | O31: =(N31/(1000/$C$22))/100*E31 -> #N/A | P31: =VLOOKUP(D31,'Impact value reference table'!$B$3:$G$216,7,FALSE) -> #N/A | Q31: =(P31/(1000/$C$22))/100*E31 -> #N/A
A32: S#265 | B32: 11 | D32: =VLOOKUP($A32,'Food full composition_all'!$A$3:$AU$33,5+($B32*2),0) -> Minerals | E32: =VLOOKUP($A32,'Food full composition_all'!$A$3:$AU$33,6+($B32*2),0) -> 0 | F32: =VLOOKUP(D32,'Impact value reference table'!$B$3:$G$216,2,FALSE) -> #N/A | G32: =(F32/(1000/$C$22))/100*E32 -> #N/A | H32: =VLOOKUP(D32,'Impact value reference table'!$B$3:$G$216,3,FALSE) -> #N/A | I32: =(H32/(1000/$C$22))/100*E32 -> #N/A | J32: =VLOOKUP(D32,'Impact value reference table'!$B$3:$G$216,4,FALSE) -> #N/A | K32: =(J32/(1000/$C$22))/100*E32 -> #N/A | L32: =VLOOKUP(D32,'Impact value reference table'!$B$3:$G$216,5,FALSE) -> #N/A | M32: =(L32/(1000/$C$22))/100*E32 -> #N/A | N32: =VLOOKUP(D32,'Impact value reference table'!$B$3:$G$216,6,FALSE) -> #N/A | O32: =(N32/(1000/$C$22))/100*E32 -> #N/A | P32: =VLOOKUP(D32,'Impact value reference table'!$B$3:$G$216,7,FALSE) -> #N/A | Q32: =(P32/(1000/$C$22))/100*E32 -> #N/A
A33: S#265 | B33: 12 | D33: =VLOOKUP($A33,'Food full composition_all'!$A$3:$AU$33,5+($B33*2),0) -> Carrot, cooked | E33: =VLOOKUP($A33,'Food full composition_all'!$A$3:$AU$33,6+($B33*2),0) -> 4 | F33: =VLOOKUP(D33,'Impact value reference table'!$B$3:$G$216,2,FALSE) -> 0.86 | G33: =(F33/(1000/$C$22))/100*E33 -> 0.012072474 | H33: =VLOOKUP(D33,'Impact value reference table'!$B$3:$G$216,3,FALSE) -> 1.14 | I33: =(H33/(1000/$C$22))/100*E33 -> 0.016003046 | J33: =VLOOKUP(D33,'Impact value reference table'!$B$3:$G$216,4,FALSE) -> 8.29 | K33: =(J33/(1000/$C$22))/100*E33 -> 0.11637303 | L33: =VLOOKUP(D33,'Impact value reference table'!$B$3:$G$216,5,FALSE) -> 4.57 | M33: =(L33/(1000/$C$22))/100*E33 -> 0.064152563 | N33: =VLOOKUP(D33,'Impact value reference table'!$B$3:$G$216,6,FALSE) -> 80 | O33: =(N33/(1000/$C$22))/100*E33 -> 1.1230208 | P33: =VLOOKUP(D33,'Impact value reference table'!$B$3:$G$216,7,FALSE) -> #REF! | Q33: =(P33/(1000/$C$22))/100*E33 -> #REF!
A34: S#265 | B34: 13 | D34: =VLOOKUP($A34,'Food full composition_all'!$A$3:$AU$33,5+($B34*2),0) -> Broccoli, cooked | E34: =VLOOKUP($A34,'Food full composition_all'!$A$3:$AU$33,6+($B34*2),0) -> 4 | F34: =VLOOKUP(D34,'Impact value reference table'!$B$3:$G$216,2,FALSE) -> 2.52 | G34: =(F34/(1000/$C$22))/100*E34 -> 0.035375155 | H34: =VLOOKUP(D34,'Impact value reference table'!$B$3:$G$216,3,FALSE) -> 4.08 | I34: =(H34/(1000/$C$22))/100*E34 -> 0.057274061 | J34: =VLOOKUP(D34,'Impact value reference table'!$B$3:$G$216,4,FALSE) -> 5.58 | K34: =(J34/(1000/$C$22))/100*E34 -> 0.078330701 | L34: =VLOOKUP(D34,'Impact value reference table'!$B$3:$G$216,5,FALSE) -> 3.4 | M34: =(L34/(1000/$C$22))/100*E34 -> 0.047728384 | N34: =VLOOKUP(D34,'Impact value reference table'!$B$3:$G$216,6,FALSE) -> 80.92 | O34: =(N34/(1000/$C$22))/100*E34 -> 1.1359355 | P34: =VLOOKUP(D34,'Impact value reference table'!$B$3:$G$216,7,FALSE) -> #REF! | Q34: =(P34/(1000/$C$22))/100*E34 -> #REF!
... A38: S#265 | B38: 17 | D38: =VLOOKUP($A38,'Food full composition_all'!$A$3:$AU$33,5+($B38*2),0) -> 0 | E38: =VLOOKUP($A38,'Food full composition_all'!$A$3:$AU$33,6+($B38*2),0) -> 0 | F38: =VLOOKUP(D38,'Impact value reference table'!$B$3:$G$216,2,FALSE) -> #N/A | G38: =(F38/(1000/$C$22))/100*E38 -> #N/A | H38: =VLOOKUP(D38,'Impact value reference table'!$B$3:$G$216,3,FALSE) -> #N/A | I38: =(H38/(1000/$C$22))/100*E38 -> #N/A | J38: =VLOOKUP(D38,'Impact value reference table'!$B$3:$G$216,4,FALSE) -> #N/A | K38: =(J38/(1000/$C$22))/100*E38 -> #N/A | L38: =VLOOKUP(D38,'Impact value reference table'!$B$3:$G$216,5,FALSE) -> #N/A | M38: =(L38/(1000/$C$22))/100*E38 -> #N/A | N38: =VLOOKUP(D38,'Impact value reference table'!$B$3:$G$216,6,FALSE) -> #N/A | O38: =(N38/(1000/$C$22))/100*E38 -> #N/A | P38: =VLOOKUP(D38,'Impact value reference table'!$B$3:$G$216,7,FALSE) -> #N/A | Q38: =(P38/(1000/$C$22))/100*E38 -> #N/A
A39: S#266 | B39: 1 | C39: 324.478 | D39: =VLOOKUP($A39,'Food full composition_all'!$A$3:$AU$33,5+($B39*2),0) -> Poultry by-product meal, unspecified | E39: =VLOOKUP($A39,'Food full composition_all'!$A$3:$AU$33,6+($B39*2),0) -> 27.5 | F39: =VLOOKUP(D39,'Impact value reference table'!$B$3:$G$216,2,FALSE) -> 14.04 | G39: =(F39/(1000/$C$39))/100*E39 -> 1.2528096 | H39: =VLOOKUP(D39,'Impact value reference table'!$B$3:$G$216,3,FALSE) -> 11.27 | I39: =(H39/(1000/$C$39))/100*E39 -> 1.0056384 | J39: =VLOOKUP(D39,'Impact value reference table'!$B$3:$G$216,4,FALSE) -> 116.64 | K39: =(J39/(1000/$C$39))/100*E39 -> 10.407956 | L39: =VLOOKUP(D39,'Impact value reference table'!$B$3:$G$216,5,FALSE) -> 55.35 | M39: =(L39/(1000/$C$39))/100*E39 -> 4.9389608 | N39: =VLOOKUP(D39,'Impact value reference table'!$B$3:$G$216,6,FALSE) -> 753.21 | O39: =(N39/(1000/$C$39))/100*E39 -> 67.21002 | P39: =VLOOKUP(D39,'Impact value reference table'!$B$3:$G$216,7,FALSE) -> #REF! | Q39: =(P39/(1000/$C$39))/100*E39 -> #REF!
A40: S#266 | B40: 2 | D40: =VLOOKUP($A40,'Food full composition_all'!$A$3:$AU$33,5+($B40*2),0) -> Oat bran, raw | E40: =VLOOKUP($A40,'Food full composition_all'!$A$3:$AU$33,6+($B40*2),0) -> 18.7 | F40: =VLOOKUP(D40,'Impact value reference table'!$B$3:$G$216,2,FALSE) -> 7.6 | G40: =(F40/(1000/$C$39))/100*E40 -> 0.46114813 | H40: =VLOOKUP(D40,'Impact value reference table'!$B$3:$G$216,3,FALSE) -> 2.5 | I40: =(H40/(1000/$C$39))/100*E40 -> 0.15169346 | J40: =VLOOKUP(D40,'Impact value reference table'!$B$3:$G$216,4,FALSE) -> 4.1 | K40: =(J40/(1000/$C$39))/100*E40 -> 0.24877728 | L40: =VLOOKUP(D40,'Impact value reference table'!$B$3:$G$216,5,FALSE) -> 4.3 | M40: =(L40/(1000/$C$39))/100*E40 -> 0.26091276 | N40: =VLOOKUP(D40,'Impact value reference table'!$B$3:$G$216,6,FALSE) -> 184 | O40: =(N40/(1000/$C$39))/100*E40 -> 11.164639 | P40: =VLOOKUP(D40,'Impact value reference table'!$B$3:$G$216,7,FALSE) -> #REF! | Q40: =(P40/(1000/$C$39))/100*E40 -> #REF!
A41: S#266 | B41: 3 | D41: =VLOOKUP($A41,'Food full composition_all'!$A$3:$AU$33,5+($B41*2),0) -> Pea, cooked | E41: =VLOOKUP($A41,'Food full composition_all'!$A$3:$AU$33,6+($B41*2),0) -> 7.2 | F41: =VLOOKUP(D41,'Impact value reference table'!$B$3:$G$216,2,FALSE) -> 1.41 | G41: =(F41/(1000/$C$39))/100*E41 -> 0.032941007 | H41: =VLOOKUP(D41,'Impact value reference table'!$B$3:$G$216,3,FALSE) -> 12.72 | I41: =(H41/(1000/$C$39))/100*E41 -> 0.29716993 | J41: =VLOOKUP(D41,'Impact value reference table'!$B$3:$G$216,4,FALSE) -> 2.69 | K41: =(J41/(1000/$C$39))/100*E41 -> 0.062844899 | L41: =VLOOKUP(D41,'Impact value reference table'!$B$3:$G$216,5,FALSE) -> 2.4 | M41: =(L41/(1000/$C$39))/100*E41 -> 0.056069798 | N41: =VLOOKUP(D41,'Impact value reference table'!$B$3:$G$216,6,FALSE) -> 125.81 | O41: =(N41/(1000/$C$39))/100*E41 -> 2.9392256 | P41: =VLOOKUP(D41,'Impact value reference table'!$B$3:$G$216,7,FALSE) -> #REF! | Q41: =(P41/(1000/$C$39))/100*E41 -> #REF!
