Workbook

Sheet Food full composition_all
A1: 1 | B1: 2 | C1: 3 | D1: 4 | E1: 5 | F1: 6 | G1: 7 | H1: 8 | I1: 9 | J1: 10 | K1: 11 | L1: 12 | M1: 13 | N1: 14 | O1: 15 | P1: 16 | Q1: 17 | R1: 18 | S1: 19 | T1: 20 | U1: 21 | V1: 22 | W1: 23 | X1: 24 | Y1: 25 | Z1: 26 | AA1: 27 | AB1: 28 | AC1: 29 | AD1: 30 | AE1: 31 | AF1: 32 | AG1: 33 | AH1: 34 | AI1: 35 | AJ1: 36 | AK1: 37 | AL1: 38 | AM1: 39 | AN1: 40 | AO1: 41 | AP1: 42 | AQ1: 43 | AR1: 44 | AS1: 45 | AT1: 46 | AU1: 48 | AV1: 49 | AW1: 50 | AX1: 51 | AY1: 52 | AZ1: 53 | BA1: 54 | BB1: 55 | BC1: 56 | BD1: 57 | BE1: 58 | BF1: 59 | BG1: 60 | BH1: 61 | BI1: 62 | BJ1: 63 | BK1: 64 | BL1: 65 | BM1: 66 | BN1: 67 | BO1: 68 | BP1: 69 | BQ1: 70 | BR1: 71
A2: SampleID | B2: Food type | C2: Meat inclusion* | D2: Moisture %* | E2: Main ingredient | F2: % | G2: Second | H2: % | I2: Third | J2: % | K2: Fourth | L2: % | M2: Fifth | N2: % | O2: Sixth | P2: % | Q2: Seventh | R2: % | S2: Eighth | T2: % | U2: Ninth | V2: % | W2: Tenth | X2: % | Y2: Eleventh | Z2: % | AA2: Twelth | AB2: % | AC2: Thirteenth | AD2: % | AE2: Fourteenth | AF2: % | AG2: Fifteenth | AH2: % | AI2: Sixteenth | AJ2: % | AK2: Seventeenth | AL2: % | AM2: Eighteenth | AN2: % | AO2: Nineteenth | AP2: % | AQ2: Twentieth | AS2: 21 | AU2: 22 | AW2: 23 | AY2: 24 | BA2: 25 | BC2: 26 | BE2: 27 | BG2: 28 | BI2: 29 | BK2: 30 | BM2: 31 | BO2: 32 | BQ2: 33 | BS2: % of ingredients listed
A3: S#259 | B3: Plant-based | C3: - | D3: 8 | E3: Potato starch, unspecified | F3: 24.5 | G3: Pea, unspecified | H3: 16 | I3: Soy protein concentrate, unspecified | J3: 11 | K3: Brown rice, cooked | L3: 7.5 | M3: Brewer's yeast, unspecified | N3: 5.8 | O3: Sweet potato, cooked | P3: 4.3 | Q3: Whole oats, raw | R3: 5.5 | S3: Pea, cooked | T3: 4 | U3: Pea, cooked | V3: 3 | W3: Carrot, unspecified | X3: 2 | Y3: Sunflower oil, unspecified | Z3: 0.09 | AA3: Hydrolysed vegetables | AC3: Lentil, cooked | AD3: 0.5 | AE3: Sunflower oil, unspecified | AF3: 0.5 | AG3: Minerals | AI3: Micro algae | AK3: Blueberry, unspecified | AL3: 0.5 | AM3: Cranberries | AO3: Pumpkin | BS3: =(F3+H3+J3+L3+N3+P3+R3+T3+V3+X3+Z3+AB3+AD3+AF3+AH3+AJ3+AL3+AN3+AP3+AR3+AT3+AV3+AX3+AZ3+BB3+BD3+BF3+BH3+BJ3+BL3+BN3+BP3+BR3) -> 85.19
A4: S#265 | B4: Standard Poultry | C4: 30 | D4: 10 | E4: Chicken meat, raw | F4: 30 | G4: Chicken meat, cooked | H4: 22 | I4: Pea, unspecified | J4: 12 | K4: Chickpea, cooked | L4: 5.5 | M4: Pea, unspecified | N4: 5.8 | O4: Poultry fat, unspecified | P4: 5 | Q4: Sweet potato, cooked | R4: 4 | S4: Chicken protein hydrolysate, unpecified | T4: 3.5 | U4: Potato starch, unspecified | V4: 1.2 | W4: Pea, unspecified | X4: 2 | Y4: Dried hicory root | AA4: Minerals | AC4: Carrot, cooked | AD4: 4 | AE4: Broccoli, cooked | AF4: 4 | AG4: Apple, raw | AH4: 2 | AI4: Dried kelp | AK4: Dried rosemary | BS4: =(F4+H4+J4+L4+N4+P4+R4+T4+V4+X4+Z4+AB4+AD4+AF4+AH4+AJ4+AL4+AN4+AP4+AR4+AT4+AV4+AX4+AZ4+BB4+BD4+BF4+BH4+BJ4+BL4+BN4+BP4+BR4) -> 101
A5: S#266 | B5: Standard Poultry | C5: 27.5 | D5: 10 | E5: Brown rice, cooked | F5: 37.8 | G5: Poultry by-product meal, unspecified | H5: 27.5 | I5: Oat bran, raw | J5: 18.7 | K5: Pea, cooked | L5: 7.2 | M5: Flaxseed, unspecified | N5: 5.8 | O5: Beet pulp, unspecified | P5: 4.3 | Q5: Poultry fat, unspecified | R5: 3.3 | S5: Vitamins & minerals | U5: Herb blend | W5: MOS | Y5: FOS | AA5: Glucosamine | AC5: Chondroitin sulphate | AE5: Seaweed | AG5: Yucca, cooked | AH5: 0.5 | BS5: =(F5+H5+J5+L5+N5+P5+R5+T5+V5+X5+Z5+AB5+AD5+AF5+AH5+AJ5+AL5+AN5+AP5+AR5+AT5+AV5+AX5+AZ5+BB5+BD5+BF5+BH5+BJ5+BL5+BN5+BP5+BR5) -> 105.1
A6: S#267 | B6: Standard Poultry | C6: 40 | D6: 10 | E6: Chicken meat, raw | F6: 40 | G6: White rice, cooked | H6: 19 | I6: Potato, cooked | J6: 18.7 | K6: Poultry fat, unspecified | L6: 7.2 | M6: Beet pulp, unspecified | N6: 5.8 | O6: Egg powder, unspecified | P6: 4.3 | Q6: Chicken meat, raw | R6: 3.3 | S6: Fish meal, unspecified | T6: 3.3 | U6: Brewer's yeast, unspecified | V6: 1.2 | W6: Krill | Y6: Flaxseed, unspecified | Z6: 0.3775 | AA6: Minerals | AC6: Prebiotic FOS | AE6: Prebiotic MOS | AG6: Yucca, cooked | AH6: 0.5 | AI6: Glucosamine | AK6: MSM | AM6: Chondroitin | AO6: Cranberries | AQ6: Nucleotides | BS6: =(F6+H6+J6+L6+N6+P6+R6+T6+V6+X6+Z6+AB6+AD6+AF6+AH6+AJ6+AL6+AN6+AP6+AR6+AT6+AV6+AX6+AZ6+BB6+BD6+BF6+BH6+BJ6+BL6+BN6+BP6+BR6) -> 103.6775
A7: S#268 | B7: Small and Medium dog Poultry | C7: 30 | D7: 10 | E7: Mechanically separated chicken meat, unspecified | F7: 30 | G7: Corn gluten meal 21, unspecified | H7: 17 | I7: Corn gluten meal 21, unspecified | J7: 18.7 | K7: Barley, unspecified | L7: 7.2 | M7: Poultry fat, unspecified | N7: 5.8 | O7: Chicken meat, raw | P7: 4.8 | Q7: Sorghum, unspecified | R7: 3.3 | S7: Beet pulp, unspecified | T7: 2.9 | U7: Poultry fat, unspecified | V7: 1.2 | W7: Minerals | Y7: Fructooligosaccharides | AA7: Brewer's yeast, unspecified | AB7: 0.6025 | BS7: =(F7+H7+J7+L7+N7+P7+R7+T7+V7+X7+Z7+AB7+AD7+AF7+AH7+AJ7+AL7+AN7+AP7+AR7+AT7+AV7+AX7+AZ7+BB7+BD7+BF7+BH7+BJ7+BL7+BN7+BP7+BR7) -> 91.5025
A8: S#269 | B8: Standard Poultry | C8: 20 | D8: 10 | E8: Chicken meat, raw | F8: 20 | G8: Wheat gluten, unspecified | H8: 17 | I8: Poultry by-product meal, unspecified | J8: 18.7 | K8: Corn gluten meal 21, unspecified | L8: 7.2 | M8: White rice, cooked | N8: 9 | O8: Poultry fat, unspecified | P8: 4.3 | Q8: Beet pulp, unspecified | R8: 3.3 | S8: Digest | U8: Soy flour, unspecified | V8: 1.2 | W8: Corn gluten meal 21, unspecified | X8: 2 | Y8: Wheat gluten, unspecified | Z8: 0.3775 | AA8: Minerals | AC8: Egg powder, unspecified | AD8: 0.5 | AE8: Fish oil, unspecified | AF8: 0.5 | BS8: =(F8+H8+J8+L8+N8+P8+R8+T8+V8+X8+Z8+AB8+AD8+AF8+AH8+AJ8+AL8+AN8+AP8+AR8+AT8+AV8+AX8+AZ8+BB8+BD8+BF8+BH8+BJ8+BL8+BN8+BP8+BR8) -> 84.0775
A9: S#270 | B9: Standard Poultry | C9: 26 | D9: 10 | E9: Corn gluten meal 21, unspecified | F9: 24.5 | G9: Poultry by-product meal, unspecified | H9: 26 | I9: Poultry fat, unspecified | J9: 18.7 | K9: White rice, cooked | L9: 5 | M9: Chicken liver, cooked | N9: 5.8 | O9: Flaxseed, unspecified | P9: 4.3 | Q9: Whole oats, raw | R9: 3.3 | S9: Corn gluten meal 21, unspecified | T9: 3.3 | U9: Alfalfa | W9: Brewer's yeast, unspecified | X9: 2 | Y9: Pea, cooked | Z9: 0.3775 | AA9: Minerals | AC9: Carrot, unspecified | AD9: 0.5 | AE9: Seaweed | AG9: Milk thistle | AI9: Marigold | AK9: Rosemary | AM9: Nettle | AO9: Mint | AQ9: Yucca, cooked | AR9: 0.5 | AS9: Blackcurrant | AU9: Pomegranate | AW9: Rosehip | AY9: Spinach, cooked | AZ9: 0.5 | BA9: Beets, cooked | BB9: 0.5 | BC9: Fenugreek | BE9: Thyme | BG9: Carob pod meal | BI9: Aniseed | BK9: Turmeric | BM9: Dandelion | BO9: Ginger | BQ9: Oregano | BS9: =(F9+H9+J9+L9+N9+P9+R9+T9+V9+X9+Z9+AB9+AD9+AF9+AH9+AJ9+AL9+AN9+AP9+AR9+AT9+AV9+AX9+AZ9+BB9+BD9+BF9+BH9+BJ9+BL9+BN9+BP9+BR9) -> 95.2775
A10: S#271 | B10: Standard Beef | C10: 43 | D10: 10 | E10: Beef meat, unspecified | F10: 36 | G10: Beef liver, raw | H10: 7 | I10: Potato, cooked | J10: 18 | K10: Whole wheat, unspecified | L10: 13 | M10: Egg, cooked | N10: 5.8 | O10: Whole wheat, unspecified | P10: 4 | Q10: Sweet potato, cooked | R10: 3.3 | S10: Minerals | U10: Amaranth | W10: Quinoa, unspecified | X10: 2 | Y10: Beef tallow, unspecified | Z10: 0.3775 | AA10: Botanicals & herbs | AC10: Fish oil, unspecified | AD10: 0.5 | AE10: Potato starch, unspecified | AF10: 0.5 | AG10: Nutritional yeast | AI10: Prebiotics | AK10: Carrot, unspecified | AL10: 0.5 | AM10: Apple, raw | AN10: 0.5 | AO10: Joint care mix | AQ10: Cranberries | AS10: Spinach, cooked | AT10: 0.5 | BS10: =(F10+H10+J10+L10+N10+P10+R10+T10+V10+X10+Z10+AB10+AD10+AF10+AH10+AJ10+AL10+AN10+AP10+AR10+AT10+AV10+AX10+AZ10+BB10+BD10+BF10+BH10+BJ10+BL10+BN10+BP10+BR10) -> 91.9775
A11: S#272 | B11: Standard Beef | C11: 18 | D11: 10 | E11: Cereals | F11: 20 | G11: Meat and bone meal, unspecified | H11: 18 | I11: Sunflower oil, unspecified | J11: 18.7 | K11: Textured vegetable protein, cooked | L11: 3 | M11: Minerals | O11: Vegetables | BS11: =(F11+H11+J11+L11+N11+P11+R11+T11+V11+X11+Z11+AB11+AD11+AF11+AH11+AJ11+AL11+AN11+AP11+AR11+AT11+AV11+AX11+AZ11+BB11+BD11+BF11+BH11+BJ11+BL11+BN11+BP11+BR11) -> 59.7
A12: S#273 | B12: Small dog Beef | C12: 15 | D12: 10 | E12: Cereals | F12: 45 | G12: Meat and bone meal, unspecified | H12: 16 | I12: Textured vegetable protein, cooked | J12: 18.7 | K12: Sunflower oil, unspecified | L12: 7.2 | M12: Glycerol | O12: Minerals | Q12: Propylene glycol | S12: Vegetables | BS12: =(F12+H12+J12+L12+N12+P12+R12+T12+V12+X12+Z12+AB12+AD12+AF12+AH12+AJ12+AL12+AN12+AP12+AR12+AT12+AV12+AX12+AZ12+BB12+BD12+BF12+BH12+BJ12+BL12+BN12+BP12+BR12) -> 86.9
A13: S#274 | B13: Standard Lamb | C13: 0 | D13: 10 | E13: Corn gluten meal 21, unspecified | F13: 24.5 | G13: Wheat gluten, unspecified | H13: 17 | I13: Lamb meal, unspecified | J13: 18.7 | K13: Soy flour, unspecified | L13: 7.2 | M13: Poultry fat, unspecified | N13: 5.8 | O13: Corn gluten meal 21, unspecified | P13: 4.3 | Q13: Brewer's yeast, unspecified | R13: 3.3 | S13: Digest | U13: Sunflower oil, unspecified | V13: 1.2 | W13: Flaxseed, unspecified | X13: 2 | Y13: Minerals | BS13: =(F13+H13+J13+L13+N13+P13+R13+T13+V13+X13+Z13+AB13+AD13+AF13+AH13+AJ13+AL13+AN13+AP13+AR13+AT13+AV13+AX13+AZ13+BB13+BD13+BF13+BH13+BJ13+BL13+BN13+BP13+BR13) -> 84
A14: S#275 | B14: Standard Lamb | C14: 27 | D14: 10 | E14: Lamb meat, raw | F14: 27 | G14: Lamb meat, raw | H14: 5 | I14: Sweet potato, cooked | J14: 20 | K14: Potato, cooked | L14: 16 | M14: Pea, cooked | N14: 5.8 | O14: Potato starch, unspecified | P14: 4.3 | Q14: Pea, cooked | R14: 4 | S14: Lentil, cooked | T14: 3.3 | U14: Flaxseed, unspecified | V14: 1.2 | W14: Lamb meal, unspecified | X14: 2 | Y14: Minerals | AA14: Botanicals & herbs | AC14: Sunflower oil, unspecified | AD14: 0.5 | AE14: Pea, unspecified | AF14: 0.5 | AG14: Prebiotics | AI14: Joint care mix | AK14: Cranberries | AM14: Apple, raw | AN14: 0.5 | AO14: Spinach, cooked | AP14: 0.5 | BS14: =(F14+H14+J14+L14+N14+P14+R14+T14+V14+X14+Z14+AB14+AD14+AF14+AH14+AJ14+AL14+AN14+AP14+AR14+AT14+AV14+AX14+AZ14+BB14+BD14+BF14+BH14+BJ14+BL14+BN14+BP14+BR14) -> 90.6
A15: S#276 | B15: Standard Lamb | C15: 34 | D15: 10 | E15: Lamb meal, unspecified | F15: 29 | G15: Lamb meat, raw | H15: 5 | I15: White rice, cooked | J15: 26 | K15: Corn gluten meal 21, unspecified | L15: 7.2 | M15: Poultry fat, unspecified | N15: 5.8 | O15: Beet pulp, unspecified | P15: 4.3 | Q15: Egg powder, unspecified | R15: 3.3 | S15: Chicken protein hydrolysate, unpecified | T15: 3.3 | U15: Brewer's yeast, unspecified | V15: 1.2 | W15: Flaxseed, unspecified | X15: 2 | Y15: Krill | AA15: Minerals | AC15: Prebiotic FOS | AE15: Prebiotic MOS | AG15: Yucca, cooked | AH15: 0.5 | AI15: Glucosamine | AK15: MSM | AM15: Chondroitin | AO15: Cranberries | AQ15: Nucleotides | BS15: =(F15+H15+J15+L15+N15+P15+R15+T15+V15+X15+Z15+AB15+AD15+AF15+AH15+AJ15+AL15+AN15+AP15+AR15+AT15+AV15+AX15+AZ15+BB15+BD15+BF15+BH15+BJ15+BL15+BN15+BP15+BR15) -> 87.6
A16: S#277 | B16: Standard Lamb | C16: 45 | D16: 10 | E16: Lamb meal, unspecified | F16: 25 | G16: Lamb meat, raw | H16: 20 | I16: Sweet potato, cooked | J16: 31 | K16: Beet pulp, unspecified | L16: 7.2 | M16: Flaxseed, unspecified | N16: 4 | O16: Lamb meal, unspecified | P16: 4.3 | Q16: Pea, cooked | R16: 3.3 | S16: Sunflower oil, unspecified | T16: 3.3 | U16: Botanicals | W16: Minerals | BS16: =(F16+H16+J16+L16+N16+P16+R16+T16+V16+X16+Z16+AB16+AD16+AF16+AH16+AJ16+AL16+AN16+AP16+AR16+AT16+AV16+AX16+AZ16+BB16+BD16+BF16+BH16+BJ16+BL16+BN16+BP16+BR16) -> 98.1
A17: S#278 | B17: Standard Lamb | C17: 23.5 | D17: 10 | E17: Lamb meal, unspecified | F17: 23.5 | G17: Barley, unspecified | H17: 17 | I17: Brown rice, cooked | J17: 18.7 | K17: White rice, cooked | L17: 7.2 | M17: Flaxseed, unspecified | N17: 5.8 | O17: Sweet potato, cooked | P17: 3.9 | Q17: Lamb meal, unspecified | R17: 3.5 | S17: Lamb meal, unspecified | T17: 2.9 | U17: Sugarcane fiber, unspecified | V17: 1.2 | W17: Alfalfa meal | Y17: Sunflower oil, unspecified | Z17: 0.3775 | AA17: Seaweed | AC17: Sodium chloride | AE17: Fish oil, unspecified | AF17: 0.5 | AG17: Potassium chloride | AI17: Chia seeds, raw seeds | AJ17: 0.1 | AK17: Calcium carbonate | AM17: Yucca, cooked | AN17: 0.5 | AO17: Green tea extract | AQ17: Pomegranate extract | AS17: Rosemary extract | BS17: =(F17+H17+J17+L17+N17+P17+R17+T17+V17+X17+Z17+AB17+AD17+AF17+AH17+AJ17+AL17+AN17+AP17+AR17+AT17+AV17+AX17+AZ17+BB17+BD17+BF17+BH17+BJ17+BL17+BN17+BP17+BR17) -> 85.1775
A18: S#279 | B18: Renal | C18: 0 | D18: 9.5 | E18: White rice, cooked | F18: 29.2 | G18: Corn gluten meal 21, unspecified | H18: 17 | I18: Poultry fat, unspecified | J18: 18.7 | K18: Corn gluten meal 21, unspecified | L18: 7.2 | M18: Corn gluten meal 21, unspecified | N18: 5.8 | O18: Meat and bone meal, unspecified | P18: 4.3 | Q18: Beet pulp, unspecified | R18: 3.3 | S18: Wheat gluten, unspecified | T18: 3.3 | U18: Minerals | W18: Fish oil, unspecified | X18: 2 | Y18: Textured vegetable protein, cooked | Z18: 0.3775 | AA18: Soybean oil, unspecified | AB18: 0.6025 | AC18: Psyllium husks and seeds | AE18: Fructooligosaccharides | AG18: mono/di glycerides | AI18: Marigold extract | BS18: =(F18+H18+J18+L18+N18+P18+R18+T18+V18+X18+Z18+AB18+AD18+AF18+AH18+AJ18+AL18+AN18+AP18+AR18+AT18+AV18+AX18+AZ18+BB18+BD18+BF18+BH18+BJ18+BL18+BN18+BP18+BR18) -> 91.78
A19: S#280 | B19: Renal | C19: 0 | D19: 9.5 | E19: White rice, cooked | F19: 29.2 | G19: Corn gluten meal 21, unspecified | H19: 17 | I19: Poultry fat, unspecified | J19: 18.7 | K19: Corn gluten meal 21, unspecified | L19: 7.2 | M19: Poultry by-product meal, unspecified | N19: 5.8 | O19: Meat and bone meal, unspecified | P19: 4.3 | Q19: Beet pulp, unspecified | R19: 3.3 | S19: Wheat gluten, unspecified | T19: 3.3 | U19: Fish oil, unspecified | V19: 1.2 | W19: Minerals | Y19: Textured vegetable protein, cooked | Z19: 0.3775 | AA19: Soybean oil, unspecified | AB19: 0.6025 | AC19: Psyllium husks and seeds | AE19: Fructooligosaccharides | AG19: mono/di glycerides | AI19: Marigold extract | BS19: =(F19+H19+J19+L19+N19+P19+R19+T19+V19+X19+Z19+AB19+AD19+AF19+AH19+AJ19+AL19+AN19+AP19+AR19+AT19+AV19+AX19+AZ19+BB19+BD19+BF19+BH19+BJ19+BL19+BN19+BP19+BR19) -> 90.98
A20: S#281 | B20: Renal | C20: 0 | D20: 8.5 | E20: White rice, cooked | F20: 29.2 | G20: Wheat gluten, unspecified | H20: 17 | I20: Corn gluten meal 21, unspecified | J20: 18.7 | K20: Fish oil, unspecified | L20: 7.7 | M20: Pork meat and bone meal, unspecified | N20: 5.8 | O20: Egg powder, unspecified | P20: 4.3 | Q20: Antarctic krill | S20: Chicken protein hydrolysate, unpecified | T20: 3.3 | U20: Potato starch, unspecified | V20: 1.2 | W20: Minerals | Y20: Vitamins and trace elements | AA20: Fish meal, unspecified | AB20: 0.6025 | AC20: Brewer's yeast, unspecified | AD20: 0.5 | AE20: Cellulose powder | AG20: Rosemary extract | BS20: =(F20+H20+J20+L20+N20+P20+R20+T20+V20+X20+Z20+AB20+AD20+AF20+AH20+AJ20+AL20+AN20+AP20+AR20+AT20+AV20+AX20+AZ20+BB20+BD20+BF20+BH20+BJ20+BL20+BN20+BP20+BR20) -> 88.3025
A21: S#282 | B21: Renal | C21: 0 | D21: 10 | E21: Cereals | F21: 29.2 | G21: Sunflower oil, unspecified | H21: 17 | I21: Textured vegetable protein, cooked | J21: 18.7 | K21: Egg, cooked | L21: 7.2 | M21: Textured vegetable protein, cooked | N21: 5.8 | O21: Meat and bone meal, unspecified | P21: 4.3 | Q21: Minerals | S21: Sunflower seed, toasted | T21: 3.3 | BS21: =(F21+H21+J21+L21+N21+P21+R21+T21+V21+X21+Z21+AB21+AD21+AF21+AH21+AJ21+AL21+AN21+AP21+AR21+AT21+AV21+AX21+AZ21+BB21+BD21+BF21+BH21+BJ21+BL21+BN21+BP21+BR21) -> 85.5
A22: S#283 | B22: Renal | C22: 0 | D22: 10 | E22: Corn gluten meal 21, unspecified | F22: 29.2 | G22: White rice, cooked | H22: 17 | I22: Egg powder, unspecified | J22: 18.7 | K22: Whey protein concentrate, unspecified | L22: 7.2 | M22: Pork meat and bone meal, unspecified | N22: 5.8 | O22: Sugar digest | Q22: Beet pulp, unspecified | R22: 3.3 | S22: Minerals | U22: Soybean oil, unspecified | V22: 1.2 | W22: Fish oil, unspecified | X22: 2 | BS22: =(F22+H22+J22+L22+N22+P22+R22+T22+V22+X22+Z22+AB22+AD22+AF22+AH22+AJ22+AL22+AN22+AP22+AR22+AT22+AV22+AX22+AZ22+BB22+BD22+BF22+BH22+BJ22+BL22+BN22+BP22+BR22) -> 84.4
A23: S#284 | B23: Plant-based | C23: - | D23: 10 | E23: Potato, cooked | F23: 6.3 | G23: Brown rice, cooked | H23: 6.3 | I23: Pea, cooked | J23: 6.3 | K23: Sunflower oil, unspecified | L23: 7.5 | M23: Brewer's yeast, unspecified | N23: 5.8 | O23: Vegetable stock | Q23: Pea, unspecified | R23: 5.5 | S23: Dried algae | U23: Mixed herbs | W23: Chicory | Y23: Egg powder, unspecified | Z23: 0.09 | AA23: Seaweed | AC23: Carrot, unspecified | AD23: 0.5 | AE23: Tomato, raw | AF23: 0.5 | AG23: Apple, raw | AH23: 0.5 | BS23: =(F23+H23+J23+L23+N23+P23+R23+T23+V23+X23+Z23+AB23+AD23+AF23+AH23+AJ23+AL23+AN23+AP23+AR23+AT23+AV23+AX23+AZ23+BB23+BD23+BF23+BH23+BJ23+BL23+BN23+BP23+BR23) -> 39.29
A24: S#285 | B24: Plant-based | C24: - | D24: 8 | E24: Soy, cooked | F24: 24.5 | G24: Wheat gluten, unspecified | H24: 16 | I24: Corn gluten meal 21, unspecified | J24: 11 | K24: Sunflower seed, toasted | L24: 7.5 | M24: Lupine | O24: Coconut oil, unspecified | P24: 4.3 | Q24: Minerals | S24: Brewer's yeast, unspecified | T24: 4 | U24: Baobab | W24: White rice, cooked | X24: 2 | BS24: =(F24+H24+J24+L24+N24+P24+R24+T24+V24+X24+Z24+AB24+AD24+AF24+AH24+AJ24+AL24+AN24+AP24+AR24+AT24+AV24+AX24+AZ24+BB24+BD24+BF24+BH24+BJ24+BL24+BN24+BP24+BR24) -> 69.3
A25: S#286 | B25: Standard Poultry | C25: 60 | D25: 10 | E25: Chicken meat, raw | F25: 30 | G25: Chicken meat, raw | H25: 24 | I25: White rice, cooked | J25: 19 | K25: Poultry fat, unspecified | L25: 4 | M25: Chicken liver, cooked | N25: 2 | O25: Whole oats, raw | P25: 3.5 | Q25: Dried alfalfa | S25: Fish oil, unspecified | T25: 3.3 | U25: Minerals | W25: Vitamins | Y25: Flaxseed, unspecified | Z25: 0.7 | AA25: Carrot, unspecified | AB25: 0.4 | AC25: Yucca, cooked | AD25: 0.5 | BS25: =(F25+H25+J25+L25+N25+P25+R25+T25+V25+X25+Z25+AB25+AD25+AF25+AH25+AJ25+AL25+AN25+AP25+AR25+AT25+AV25+AX25+AZ25+BB25+BD25+BF25+BH25+BJ25+BL25+BN25+BP25+BR25) -> 87.4
A26: S#288 | B26: Plant-based | C26: - | D26: 8 | E26: Soy, cooked | F26: 24.5 | G26: Corn gluten meal 21, unspecified | H26: 16 | I26: White rice, cooked | J26: 11 | K26: Sunflower oil, unspecified | L26: 7.5 | M26: Pea, cooked | N26: 5.8 | O26: Beet pulp, unspecified | P26: 4.3 | Q26: Brewer's yeast, unspecified | R26: 5.5 | S26: Tomato, raw | T26: 4 | U26: Vegetable stock | W26: Minerals | Y26: Yucca, cooked | Z26: 0.09 | AA26: Fructooligosaccharides | BS26: =(F26+H26+J26+L26+N26+P26+R26+T26+V26+X26+Z26+AB26+AD26+AF26+AH26+AJ26+AL26+AN26+AP26+AR26+AT26+AV26+AX26+AZ26+BB26+BD26+BF26+BH26+BJ26+BL26+BN26+BP26+BR26) -> 78.69
A27: S#289 | B27: Plant-based | C27: - | D27: 10 | E27: Brown rice, cooked | F27: 30 | G27: Pea, cooked | H27: 16 | I27: Lentil, cooked | J27: 11 | K27: Corn gluten meal 21, unspecified | L27: 7.5 | M27: Vegetables | O27: Sunflower oil, unspecified | P27: 4.3 | Q27: Brewer's yeast, unspecified | R27: 5.5 | S27: Hemp protein | U27: Potato starch, unspecified | V27: 3 | W27: Minerals | Y27: Apple, raw | Z27: 0.09 | AA27: Moringa oleifera | AC27: Dried mixed herbs | AE27: Yucca, cooked | AF27: 0.5 | AG27: Dried chicory root | AI27: Red fruit extract | AK27: Citrus extract | AM27: Glucosamine hydrochloride | AO27: Methyl sulfonyl methane | AQ27: Antioxidants | AS27: Probiotics | AU27: L-Carnitine | BS27: =(F27+H27+J27+L27+N27+P27+R27+T27+V27+X27+Z27+AB27+AD27+AF27+AH27+AJ27+AL27+AN27+AP27+AR27+AT27+AV27+AX27+AZ27+BB27+BD27+BF27+BH27+BJ27+BL27+BN27+BP27+BR27) -> 77.89
A28: S#290 | B28: Plant-based | C28: - | D28: 10 | E28: Wheat gluten, unspecified | F28: 24.5 | G28: Corn gluten meal 21, unspecified | H28: 16 | I28: Soy, cooked | J28: 11 | K28: Wheat gluten, unspecified | L28: 7.5 | M28: Corn gluten meal 21, unspecified | N28: 5.8 | O28: Beet pulp, unspecified | P28: 4.3 | Q28: Sunflower oil, unspecified | R28: 5.5 | S28: White rice, cooked | T28: 4 | U28: Spaghetti, cooked | V28: 3 | W28: Brewer's yeast, unspecified | X28: 2 | Y28: Minerals | AA28: Flaxseed, unspecified | AB28: 1.005 | AC28: Dicalcium phosphate | AE28: Sodium chloride | AG28: Fructooligosaccharide | AI28: Rosemary | AK28: Parsley | AM28: Yucca, cooked | AN28: 0.5 | BS28: =(F28+H28+J28+L28+N28+P28+R28+T28+V28+X28+Z28+AB28+AD28+AF28+AH28+AJ28+AL28+AN28+AP28+AR28+AT28+AV28+AX28+AZ28+BB28+BD28+BF28+BH28+BJ28+BL28+BN28+BP28+BR28) -> 85.105
A29: S#291 | B29: Standard Lamb | C29: 26 | D29: 10 | E29: Lamb meal, unspecified | F29: 26 | G29: White rice, cooked | H29: 20 | I29: Corn gluten meal 21, unspecified | J29: 18.7 | K29: Barley, unspecified | L29: 7.2 | M29: Poultry fat, unspecified | N29: 5.8 | O29: Poultry fat, unspecified | P29: 4.3 | Q29: Beet pulp, unspecified | R29: 3.3 | S29: Flaxseed, unspecified | T29: 3.3 | U29: Minerals | W29: Seaweed | Y29: FOS | AA29: Yucca, cooked | AB29: 0.01 | BS29: =(F29+H29+J29+L29+N29+P29+R29+T29+V29+X29+Z29+AB29+AD29+AF29+AH29+AJ29+AL29+AN29+AP29+AR29+AT29+AV29+AX29+AZ29+BB29+BD29+BF29+BH29+BJ29+BL29+BN29+BP29+BR29) -> 88.61
A30: S#292 | B30: Standard Beef | C30: 15 | D30: 10 | E30: Cereals | F30: 24.5 | G30: Meat and bone meal, unspecified | H30: 15 | I30: Sunflower oil, unspecified | J30: 18.7 | K30: Sunflower oil, unspecified | L30: 7.2 | M30: Textured vegetable protein, cooked | N30: 5.8 | O30: Minerals | BS30: =(F30+H30+J30+L30+N30+P30+R30+T30+V30+X30+Z30+AB30+AD30+AF30+AH30+AJ30+AL30+AN30+AP30+AR30+AT30+AV30+AX30+AZ30+BB30+BD30+BF30+BH30+BJ30+BL30+BN30+BP30+BR30) -> 71.2
A31: S#293 | B31: Standard Beef | C31: 27 | D31: 10 | E31: Beef meat, unspecified | F31: 14 | G31: Meat and bone meal, unspecified | H31: 13 | I31: Sweet potato, cooked | J31: 25 | K31: Potato, cooked | L31: 7.2 | M31: Pea, unspecified | N31: 8 | O31: Poultry fat, unspecified | P31: 5 | Q31: Poultry fat, unspecified | R31: 3.3 | S31: Beet pulp, unspecified | T31: 3.3 | U31: Minerals | W31: Apple, raw | X31: 4 | Y31: Fish oil, unspecified | Z31: 0.5 | AA31: Dried chicory | BS31: =(F31+H31+J31+L31+N31+P31+R31+T31+V31+X31+Z31+AB31+AD31+AF31+AH31+AJ31+AL31+AN31+AP31+AR31+AT31+AV31+AX31+AZ31+BB31+BD31+BF31+BH31+BJ31+BL31+BN31+BP31+BR31) -> 83.3
A32: S#294 | B32: All Sizes Beef | C32: 30 | D32: 10 | E32: Meat and bone meal, unspecified | F32: 30 | G32: Whole wheat, unspecified | H32: 17 | I32: Glycerol | K32: Poultry fat, unspecified | L32: 6 | M32: Dextrose, unspecified | N32: 5.8 | O32: Flaxseed, unspecified | P32: 4.3 | Q32: Beet pulp, unspecified | R32: 3.3 | S32: Vitamins & minerals | U32: Chicory | W32: Yucca, cooked | BS32: =(F32+H32+J32+L32+N32+P32+R32+T32+V32+X32+Z32+AB32+AD32+AF32+AH32+AJ32+AL32+AN32+AP32+AR32+AT32+AV32+AX32+AZ32+BB32+BD32+BF32+BH32+BJ32+BL32+BN32+BP32+BR32) -> 66.4
A33: S#300 | B33: Renal | C33: - | D33: 10 | E33: White rice, cooked | F33: 65 | G33: Egg powder, unspecified | H33: 18 | I33: Poultry fat, unspecified | J33: 18.7 | K33: Apple, raw | L33: 7.2 | M33: Fish oil, unspecified | N33: 3 | O33: Chicken liver hydrolysate, unspecified | P33: 4.3 | Q33: Brewer's yeast, unspecified | R33: 3.3 | S33: Calcium carbonate | U33: Algae | W33: Potassium citrate | Y33: Fructooligosaccharides | AA33: B-glucans | AC33: Mannan-oligosaccharides | AE33: Yucca, cooked | AF33: 0.5 | AG33: Curcuma & green tea decaf extract | AI33: Lactobacillus acidophilus | BS33: =(F33+H33+J33+L33+N33+P33+R33+T33+V33+X33+Z33+AB33+AD33+AF33+AH33+AJ33+AL33+AN33+AP33+AR33+AT33+AV33+AX33+AZ33+BB33+BD33+BF33+BH33+BJ33+BL33+BN33+BP33+BR33) -> 120
C35: * Values taken from food packaging

Sheet Estimating unknown %
A1: Estimates of unknown values
B3: Ingredient number
B4: 1 | C4: 2 | D4: 3 | E4: 4 | F4: 5 | G4: 6 | H4: 7 | I4: 8 | J4: 9 | K4: 10 | L4: 11 | M4: 12
A5: Meat-based | B5: =AVERAGE('Food full composition_all'!F4:F17,'Food full composition_all'!F25,'Food full composition_all'!F29:F32) -> 28.252632 | C5: =AVERAGE('Food full composition_all'!H4:H6,'Food full composition_all'!H9:H12,'Food full composition_all'!H15,'Food full composition_all'!H14,'Food full composition_all'!H16,'Food full composition_all'!H25,'Food full composition_all'!H29:H31) -> 16.964286 | D5: =AVERAGE('Food full composition_all'!J4,'Food full composition_all'!J10,'Food full composition_all'!J14:J16,'Food full composition_all'!J23,'Food full composition_all'!J25,'Food full composition_all'!J27,'Food full composition_all'!J31) -> 18.7 | E5: =AVERAGE('Food full composition_all'!L4,'Food full composition_all'!L9:L11,'Food full composition_all'!L14,'Food full composition_all'!N25,'Food full composition_all'!L32) -> 7.2142857 | F5: =AVERAGE('Food full composition_all'!N8,'Food full composition_all'!N16,'Food full composition_all'!N25,'Food full composition_all'!N31) -> 5.75 | G5: =AVERAGE('Food full composition_all'!P4,'Food full composition_all'!P7,'Food full composition_all'!P10,'Food full composition_all'!P11,'Food full composition_all'!P17,'Food full composition_all'!P25,'Food full composition_all'!P31) -> 4.3666667 | H5: =AVERAGE('Food full composition_all'!R4,'Food full composition_all'!R14,'Food full composition_all'!R17,'Food full composition_all'!R25) -> 3.8333333 | I5: =AVERAGE('Food full composition_all'!T4,'Food full composition_all'!T7,'Food full composition_all'!T12,'Food full composition_all'!T17) -> 3.1 | J5: =AVERAGE('Food full composition_all'!V10,'Food full composition_all'!V16) -> #DIV/0! | K5: =AVERAGE('Food full composition_all'!X10,'Food full composition_all'!X29,'Food full composition_all'!X31) -> 3 | L5: =AVERAGE('Food full composition_all'!Z7,'Food full composition_all'!Z25,'Food full composition_all'!Z29,'Food full composition_all'!Z31) -> 0.6 | M5: =AVERAGE('Food full composition_all'!AB10,'Food full composition_all'!AB14,'Food full composition_all'!AB29,'Food full composition_all'!AB25) -> 0.205
A6: Renal | B6: as above as no data
A7: Vegetarian | B7: 24.5 | C7: ='Food full composition_all'!$H$27 -> 16 | D7: ='Food full composition_all'!$J$27 -> 11 | E7: =AVERAGE('Food full composition_all'!L27) -> 7.5 | F7: as above as no data | G7: as above as no data | H7: =AVERAGE('Food full composition_all'!R27) -> 5.5 | I7: 4 | J7: 3 | K7: no data, as above. | L7: =AVERAGE('Food full composition_all'!Z26) -> 0.09 | M7: =AVERAGE('Food full composition_all'!AB26:AB27) -> #DIV/0!

Sheet Impact (100g DM)
C1: Atwater kcal ME/100g as fed | F1: Impact
D2: Ingredient | E2: % of composition | F2: Ingredient Land use (m2/1000 kcal) | G2: Land use by % (m2/100g dog food fed) | H2: Ingredient Co2eq emission (kg/1000 kcal) | I2: Co2eq emission (kg/100g dog food) | J2: Ingredient SO2eq emission (g/1000 kcal) | K2: SO2eq emission (g/100g dog food) | L2: Ingredient PO43-eq (g/1000 kcal) | M2: PO43-eq (g/100g dog food) | N2: Ingredient Freshwater withdrawal (L/1000 kcal) | O2: Freshwater withdrawal (L/100g dog food) | P2: Ingredient Stress-weighted water use (L/1000 kcal) | Q2: Stress-weighted water use (L/100g dog food)
A3: S#259 | B3: 1 | C3: 326.369 | D3: =VLOOKUP($A3,'Food full composition_all'!$A$3:$AU$33,5+($B3*2),0) -> Pea, unspecified | E3: =VLOOKUP($A3,'Food full composition_all'!$A$3:$AU$33,6+($B3*2),0) -> 16 | F3: =VLOOKUP(D3,'Impact value reference table'!$B$3:$G$216,2,FALSE) -> 1.48 | G3: =(F3/(1000/$C$3))/100*E3 -> 0.077284179 | H3: =VLOOKUP(D3,'Impact value reference table'!$B$3:$G$216,3,FALSE) -> 13.31 | I3: =(H3/(1000/$C$3))/100*E3 -> 0.69503542 | J3: =VLOOKUP(D3,'Impact value reference table'!$B$3:$G$216,4,FALSE) -> 2.81 | K3: =(J3/(1000/$C$3))/100*E3 -> 0.1467355 | L3: =VLOOKUP(D3,'Impact value reference table'!$B$3:$G$216,5,FALSE) -> 2.51 | M3: =(L3/(1000/$C$3))/100*E3 -> 0.13106979 | N3: =VLOOKUP(D3,'Impact value reference table'!$B$3:$G$216,6,FALSE) -> 131.58 | O3: =(N3/(1000/$C$3))/100*E3 -> 6.8709813 | P3: =VLOOKUP(D3,'Impact value reference table'!$B$3:$G$216,7,FALSE) -> #REF! | Q3: =(P3/(1000/$C$3))/100*E3 -> #REF!
A4: S#259 | B4: 2 | D4: =VLOOKUP($A4,'Food full composition_all'!$A$3:$AU$33,5+($B4*2),0) -> Soy protein concentrate, unspecified | E4: =VLOOKUP($A4,'Food full composition_all'!$A$3:$AU$33,6+($B4*2),0) -> 11 | F4: =VLOOKUP(D4,'Impact value reference table'!$B$3:$G$216,2,FALSE) -> 15.81 | G4: =(F4/(1000/$C$3))/100*E4 -> 0.56758833 | H4: =VLOOKUP(D4,'Impact value reference table'!$B$3:$G$216,3,FALSE) -> 1.73 | I4: =(H4/(1000/$C$3))/100*E4 -> 0.062108021 | J4: =VLOOKUP(D4,'Impact value reference table'!$B$3:$G$216,4,FALSE) -> 21.65 | K4: =(J4/(1000/$C$3))/100*E4 -> 0.77724777 | L4: =VLOOKUP(D4,'Impact value reference table'!$B$3:$G$216,5,FALSE) -> 17.32 | M4: =(L4/(1000/$C$3))/100*E4 -> 0.62179822 | N4: =VLOOKUP(D4,'Impact value reference table'!$B$3:$G$216,6,FALSE) -> 441.72 | O4: =(N4/(1000/$C$3))/100*E4 -> 15.858009 | P4: =VLOOKUP(D4,'Impact value reference table'!$B$3:$G$216,7,FALSE) -> #REF! | Q4: =(P4/(1000/$C$3))/100*E4 -> #REF!
A5: S#259 | B5: 3 | D5: =VLOOKUP($A5,'Food full composition_all'!$A$3:$AU$33,5+($B5*2),0) -> Brown rice, cooked | E5: =VLOOKUP($A5,'Food full composition_all'!$A$3:$AU$33,6+($B5*2),0) -> 7.5 | F5: =VLOOKUP(D5,'Impact value reference table'!$B$3:$G$216,2,FALSE) -> 0.8 | G5: =(F5/(1000/$C$3))/100*E5 -> 0.01958214 | H5: =VLOOKUP(D5,'Impact value reference table'!$B$3:$G$216,3,FALSE) -> 1.2 | I5: =(H5/(1000/$C$3))/100*E5 -> 0.02937321 | J5: =VLOOKUP(D5,'Impact value reference table'!$B$3:$G$216,4,FALSE) -> 7.4 | K5: =(J5/(1000/$C$3))/100*E5 -> 0.1811348 | L5: =VLOOKUP(D5,'Impact value reference table'!$B$3:$G$216,5,FALSE) -> 10 | M5: =(L5/(1000/$C$3))/100*E5 -> 0.24477675 | N5: =VLOOKUP(D5,'Impact value reference table'!$B$3:$G$216,6,FALSE) -> 610 | O5: =(N5/(1000/$C$3))/100*E5 -> 14.931382 | P5: =VLOOKUP(D5,'Impact value reference table'!$B$3:$G$216,7,FALSE) -> #REF! | Q5: =(P5/(1000/$C$3))/100*E5 -> #REF!
A6: S#259 | B6: 4 | D6: =VLOOKUP($A6,'Food full composition_all'!$A$3:$AU$33,5+($B6*2),0) -> Brewer's yeast, unspecified | E6: =VLOOKUP($A6,'Food full composition_all'!$A$3:$AU$33,6+($B6*2),0) -> 5.8 | F6: =VLOOKUP(D6,'Impact value reference table'!$B$3:$G$216,2,FALSE) -> 0 | G6: =(F6/(1000/$C$3))/100*E6 -> 0 | H6: =VLOOKUP(D6,'Impact value reference table'!$B$3:$G$216,3,FALSE) -> 0 | I6: =(H6/(1000/$C$3))/100*E6 -> 0 | J6: =VLOOKUP(D6,'Impact value reference table'!$B$3:$G$216,4,FALSE) -> 0 | K6: =(J6/(1000/$C$3))/100*E6 -> 0 | L6: =VLOOKUP(D6,'Impact value reference table'!$B$3:$G$216,5,FALSE) -> 0 | M6: =(L6/(1000/$C$3))/100*E6 -> 0 | N6: =VLOOKUP(D6,'Impact value reference table'!$B$3:$G$216,6,FALSE) -> 0 | O6: =(N6/(1000/$C$3))/100*E6 -> 0 | P6: =VLOOKUP(D6,'Impact value reference table'!$B$3:$G$216,7,FALSE) -> #REF! | Q6: =(P6/(1000/$C$3))/100*E6 -> #REF!
A7: S#259 | B7: 5 | D7: =VLOOKUP($A7,'Food full composition_all'!$A$3:$AU$33,5+($B7*2),0) -> Sweet potato, cooked | E7: =VLOOKUP($A7,'Food full composition_all'!$A$3:$AU$33,6+($B7*2),0) -> 4.3 | F7: =VLOOKUP(D7,'Impact value reference table'!$B$3:$G$216,2,FALSE) -> 1.2 | G7: =(F7/(1000/$C$3))/100*E7 -> 0.01684064 | H7: =VLOOKUP(D7,'Impact value reference table'!$B$3:$G$216,3,FALSE) -> 0.6 | I7: =(H7/(1000/$C$3))/100*E7 -> 0.0084203202 | J7: =VLOOKUP(D7,'Impact value reference table'!$B$3:$G$216,4,FALSE) -> 5.3 | K7: =(J7/(1000/$C$3))/100*E7 -> 0.074379495 | L7: =VLOOKUP(D7,'Impact value reference table'!$B$3:$G$216,5,FALSE) -> 4.8 | M7: =(L7/(1000/$C$3))/100*E7 -> 0.067362562 | N7: =VLOOKUP(D7,'Impact value reference table'!$B$3:$G$216,6,FALSE) -> 81 | O7: =(N7/(1000/$C$3))/100*E7 -> 1.1367432 | P7: =VLOOKUP(D7,'Impact value reference table'!$B$3:$G$216,7,FALSE) -> #REF! | Q7: =(P7/(1000/$C$3))/100*E7 -> #REF!
A8: S#259 | B8: 6 | D8: =VLOOKUP($A8,'Food full composition_all'!$A$3:$AU$33,5+($B8*2),0) -> Whole oats, raw | E8: =VLOOKUP($A8,'Food full composition_all'!$A$3:$AU$33,6+($B8*2),0) -> 5.5 | F8: =VLOOKUP(D8,'Impact value reference table'!$B$3:$G$216,2,FALSE) -> 7.6 | G8: =(F8/(1000/$C$3))/100*E8 -> 0.13642224 | H8: =VLOOKUP(D8,'Impact value reference table'!$B$3:$G$216,3,FALSE) -> 2.5 | I8: =(H8/(1000/$C$3))/100*E8 -> 0.044875738 | J8: =VLOOKUP(D8,'Impact value reference table'!$B$3:$G$216,4,FALSE) -> 4.1 | K8: =(J8/(1000/$C$3))/100*E8 -> 0.073596209 | L8: =VLOOKUP(D8,'Impact value reference table'!$B$3:$G$216,5,FALSE) -> 4.3 | M8: =(L8/(1000/$C$3))/100*E8 -> 0.077186269 | N8: =VLOOKUP(D8,'Impact value reference table'!$B$3:$G$216,6,FALSE) -> 184 | O8: =(N8/(1000/$C$3))/100*E8 -> 3.3028543 | P8: =VLOOKUP(D8,'Impact value reference table'!$B$3:$G$216,7,FALSE) -> #REF! | Q8: =(P8/(1000/$C$3))/100*E8 -> #REF!
A9: S#259 | B9: 7 | D9: =VLOOKUP($A9,'Food full composition_all'!$A$3:$AU$33,5+($B9*2),0) -> Pea, cooked | E9: =VLOOKUP($A9,'Food full composition_all'!$A$3:$AU$33,6+($B9*2),0) -> 4 | F9: =VLOOKUP(D9,'Impact value reference table'!$B$3:$G$216,2,FALSE) -> 1.41 | G9: =(F9/(1000/$C$3))/100*E9 -> 0.018407212 | H9: =VLOOKUP(D9,'Impact value reference table'!$B$3:$G$216,3,FALSE) -> 12.72 | I9: =(H9/(1000/$C$3))/100*E9 -> 0.16605655 | J9: =VLOOKUP(D9,'Impact value reference table'!$B$3:$G$216,4,FALSE) -> 2.69 | K9: =(J9/(1000/$C$3))/100*E9 -> 0.035117304 | L9: =VLOOKUP(D9,'Impact value reference table'!$B$3:$G$216,5,FALSE) -> 2.4 | M9: =(L9/(1000/$C$3))/100*E9 -> 0.031331424 | N9: =VLOOKUP(D9,'Impact value reference table'!$B$3:$G$216,6,FALSE) -> 125.81 | O9: =(N9/(1000/$C$3))/100*E9 -> 1.6424194 | P9: =VLOOKUP(D9,'Impact value reference table'!$B$3:$G$216,7,FALSE) -> #REF! | Q9: =(P9/(1000/$C$3))/100*E9 -> #REF!
A10: S#259 | B10: 8 | D10: =VLOOKUP($A10,'Food full composition_all'!$A$3:$AU$33,5+($B10*2),0) -> Pea, cooked | E10: =VLOOKUP($A10,'Food full composition_all'!$A$3:$AU$33,6+($B10*2),0) -> 3 | F10: =VLOOKUP(D10,'Impact value reference table'!$B$3:$G$216,2,FALSE) -> 1.41 | G10: =(F10/(1000/$C$3))/100*E10 -> 0.013805409 | H10: =VLOOKUP(D10,'Impact value reference table'!$B$3:$G$216,3,FALSE) -> 12.72 | I10: =(H10/(1000/$C$3))/100*E10 -> 0.12454241 | J10: =VLOOKUP(D10,'Impact value reference table'!$B$3:$G$216,4,FALSE) -> 2.69 | K10: =(J10/(1000/$C$3))/100*E10 -> 0.026337978 | L10: =VLOOKUP(D10,'Impact value reference table'!$B$3:$G$216,5,FALSE) -> 2.4 | M10: =(L10/(1000/$C$3))/100*E10 -> 0.023498568 | N10: =VLOOKUP(D10,'Impact value reference table'!$B$3:$G$216,6,FALSE) -> 125.81 | O10: =(N10/(1000/$C$3))/100*E10 -> 1.2318145 | P10: =VLOOKUP(D10,'Impact value reference table'!$B$3:$G$216,7,FALSE) -> #REF! | Q10: =(P10/(1000/$C$3))/100*E10 -> #REF!
A11: S#259 | B11: 9 | D11: =VLOOKUP($A11,'Food full composition_all'!$A$3:$AU$33,5+($B11*2),0) -> Carrot, unspecified | E11: =VLOOKUP($A11,'Food full composition_all'!$A$3:$AU$33,6+($B11*2),0) -> 2 | F11: =VLOOKUP(D11,'Impact value reference table'!$B$3:$G$216,2,FALSE) -> 0.73 | G11: =(F11/(1000/$C$3))/100*E11 -> 0.0047649874 | H11: =VLOOKUP(D11,'Impact value reference table'!$B$3:$G$216,3,FALSE) -> 0.98 | I11: =(H11/(1000/$C$3))/100*E11 -> 0.0063968324 | J11: =VLOOKUP(D11,'Impact value reference table'!$B$3:$G$216,4,FALSE) -> 7.07 | K11: =(J11/(1000/$C$3))/100*E11 -> 0.046148577 | L11: =VLOOKUP(D11,'Impact value reference table'!$B$3:$G$216,5,FALSE) -> 3.9 | M11: =(L11/(1000/$C$3))/100*E11 -> 0.025456782 | N11: =VLOOKUP(D11,'Impact value reference table'!$B$3:$G$216,6,FALSE) -> 68.29 | O11: =(N11/(1000/$C$3))/100*E11 -> 0.44575478 | P11: =VLOOKUP(D11,'Impact value reference table'!$B$3:$G$216,7,FALSE) -> #REF! | Q11: =(P11/(1000/$C$3))/100*E11 -> #REF!
A12: S#259 | B12: 10 | D12: =VLOOKUP($A12,'Food full composition_all'!$A$3:$AU$33,5+($B12*2),0) -> Sunflower oil, unspecified | E12: =VLOOKUP($A12,'Food full composition_all'!$A$3:$AU$33,6+($B12*2),0) -> 0.09 | F12: =VLOOKUP(D12,'Impact value reference table'!$B$3:$G$216,2,FALSE) -> 2.08 | G12: =(F12/(1000/$C$3))/100*E12 -> 0.00061096277 | H12: =VLOOKUP(D12,'Impact value reference table'!$B$3:$G$216,3,FALSE) -> 0.42 | I12: =(H12/(1000/$C$3))/100*E12 -> 0.00012336748 | J12: =VLOOKUP(D12,'Impact value reference table'!$B$3:$G$216,4,FALSE) -> 3.11 | K12: =(J12/(1000/$C$3))/100*E12 -> 0.00091350683 | L12: =VLOOKUP(D12,'Impact value reference table'!$B$3:$G$216,5,FALSE) -> 5.67 | M12: =(L12/(1000/$C$3))/100*E12 -> 0.001665461 | N12: =VLOOKUP(D12,'Impact value reference table'!$B$3:$G$216,6,FALSE) -> 112 | O12: =(N12/(1000/$C$3))/100*E12 -> 0.032897995 | P12: =VLOOKUP(D12,'Impact value reference table'!$B$3:$G$216,7,FALSE) -> #REF! | Q12: =(P12/(1000/$C$3))/100*E12 -> #REF!
A13: S#259 | B13: 11 | D13: =VLOOKUP($A13,'Food full composition_all'!$A$3:$AU$33,5+($B13*2),0) -> Hydrolysed vegetables | E13: =VLOOKUP($A13,'Food full composition_all'!$A$3:$AU$33,6+($B13*2),0) -> 0 | F13: =VLOOKUP(D13,'Impact value reference table'!$B$3:$G$216,2,FALSE) -> #N/A | G13: =(F13/(1000/$C$3))/100*E13 -> #N/A | H13: =VLOOKUP(D13,'Impact value reference table'!$B$3:$G$216,3,FALSE) -> #N/A | I13: =(H13/(1000/$C$3))/100*E13 -> #N/A | J13: =VLOOKUP(D13,'Impact value reference table'!$B$3:$G$216,4,FALSE) -> #N/A | K13: =(J13/(1000/$C$3))/100*E13 -> #N/A | L13: =VLOOKUP(D13,'Impact value reference table'!$B$3:$G$216,5,FALSE) -> #N/A | M13: =(L13/(1000/$C$3))/100*E13 -> #N/A | N13: =VLOOKUP(D13,'Impact value reference table'!$B$3:$G$216,6,FALSE) -> #N/A | O13: =(N13/(1000/$C$3))/100*E13 -> #N/A | P13: =VLOOKUP(D13,'Impact value reference table'!$B$3:$G$216,7,FALSE) -> #N/A | Q13: =(P13/(1000/$C$3))/100*E13 -> #N/A
A14: S#259 | B14: 12 | D14: =VLOOKUP($A14,'Food full composition_all'!$A$3:$AU$33,5+($B14*2),0) -> Lentil, cooked | E14: =VLOOKUP($A14,'Food full composition_all'!$A$3:$AU$33,6+($B14*2),0) -> 0.5 | F14: =VLOOKUP(D14,'Impact value reference table'!$B$3:$G$216,2,FALSE) -> 5.68 | G14: =(F14/(1000/$C$3))/100*E14 -> 0.0092688796 | H14: =VLOOKUP(D14,'Impact value reference table'!$B$3:$G$216,3,FALSE) -> 0.62 | I14: =(H14/(1000/$C$3))/100*E14 -> 0.0010117439 | J14: =VLOOKUP(D14,'Impact value reference table'!$B$3:$G$216,4,FALSE) -> 7.78 | K14: =(J14/(1000/$C$3))/100*E14 -> 0.012695754 | L14: =VLOOKUP(D14,'Impact value reference table'!$B$3:$G$216,5,FALSE) -> 6.22 | M14: =(L14/(1000/$C$3))/100*E14 -> 0.010150076 | N14: =VLOOKUP(D14,'Impact value reference table'!$B$3:$G$216,6,FALSE) -> 158.63 | O14: =(N14/(1000/$C$3))/100*E14 -> 0.25885957 | P14: =VLOOKUP(D14,'Impact value reference table'!$B$3:$G$216,7,FALSE) -> #REF! | Q14: =(P14/(1000/$C$3))/100*E14 -> #REF!
A15: S#259 | B15: 13 | D15: =VLOOKUP($A15,'Food full composition_all'!$A$3:$AU$33,5+($B15*2),0) -> Sunflower oil, unspecified | E15: =VLOOKUP($A15,'Food full composition_all'!$A$3:$AU$33,6+($B15*2),0) -> 0.5 | F15: =VLOOKUP(D15,'Impact value reference table'!$B$3:$G$216,2,FALSE) -> 2.08 | G15: =(F15/(1000/$C$3))/100*E15 -> 0.0033942376 | H15: =VLOOKUP(D15,'Impact value reference table'!$B$3:$G$216,3,FALSE) -> 0.42 | I15: =(H15/(1000/$C$3))/100*E15 -> 0.0006853749 | J15: =VLOOKUP(D15,'Impact value reference table'!$B$3:$G$216,4,FALSE) -> 3.11 | K15: =(J15/(1000/$C$3))/100*E15 -> 0.0050750379 | L15: =VLOOKUP(D15,'Impact value reference table'!$B$3:$G$216,5,FALSE) -> 5.67 | M15: =(L15/(1000/$C$3))/100*E15 -> 0.0092525611 | N15: =VLOOKUP(D15,'Impact value reference table'!$B$3:$G$216,6,FALSE) -> 112 | O15: =(N15/(1000/$C$3))/100*E15 -> 0.18276664 | P15: =VLOOKUP(D15,'Impact value reference table'!$B$3:$G$216,7,FALSE) -> #REF! | Q15: =(P15/(1000/$C$3))/100*E15 -> #REF!
... A17: S#259 | B17: 15 | D17: =VLOOKUP($A17,'Food full composition_all'!$A$3:$AU$33,5+($B17*2),0) -> Micro algae | E17: =VLOOKUP($A17,'Food full composition_all'!$A$3:$AU$33,6+($B17*2),0) -> 0 | F17: =VLOOKUP(D17,'Impact value reference table'!$B$3:$G$216,2,FALSE) -> #N/A | G17: =(F17/(1000/$C$3))/100*E17 -> #N/A | H17: =VLOOKUP(D17,'Impact value reference table'!$B$3:$G$216,3,FALSE) -> #N/A | I17: =(H17/(1000/$C$3))/100*E17 -> #N/A | J17: =VLOOKUP(D17,'Impact value reference table'!$B$3:$G$216,4,FALSE) -> #N/A | K17: =(J17/(1000/$C$3))/100*E17 -> #N/A | L17: =VLOOKUP(D17,'Impact value reference table'!$B$3:$G$216,5,FALSE) -> #N/A | M17: =(L17/(1000/$C$3))/100*E17 -> #N/A | N17: =VLOOKUP(D17,'Impact value reference table'!$B$3:$G$216,6,FALSE) -> #N/A | O17: =(N17/(1000/$C$3))/100*E17 -> #N/A | P17: =VLOOKUP(D17,'Impact value reference table'!$B$3:$G$216,7,FALSE) -> #N/A | Q17: =(P17/(1000/$C$3))/100*E17 -> #N/A
A18: S#259 | B18: 16 | D18: =VLOOKUP($A18,'Food full composition_all'!$A$3:$AU$33,5+($B18*2),0) -> Blueberry, unspecified | E18: 0 | F18: =VLOOKUP(D18,'Impact value reference table'!$B$3:$G$216,2,FALSE) -> 4.21 | G18: =(F18/(1000/$C$3))/100*E18 -> 0 | H18: =VLOOKUP(D18,'Impact value reference table'!$B$3:$G$216,3,FALSE) -> 2.63 | I18: =(H18/(1000/$C$3))/100*E18 -> 0 | J18: =VLOOKUP(D18,'Impact value reference table'!$B$3:$G$216,4,FALSE) -> 21.05 | K18: =(J18/(1000/$C$3))/100*E18 -> 0 | L18: =VLOOKUP(D18,'Impact value reference table'!$B$3:$G$216,5,FALSE) -> 10.7 | M18: =(L18/(1000/$C$3))/100*E18 -> 0 | N18: =VLOOKUP(D18,'Impact value reference table'!$B$3:$G$216,6,FALSE) -> 736.84 | O18: =(N18/(1000/$C$3))/100*E18 -> 0 | P18: =VLOOKUP(D18,'Impact value reference table'!$B$3:$G$216,7,FALSE) -> #REF! | Q18: =(P18/(1000/$C$3))/100*E18 -> #REF!
A19: S#259 | B19: 17 | D19: =VLOOKUP($A19,'Food full composition_all'!$A$3:$AU$33,5+($B19*2),0) -> Cranberries | E19: =VLOOKUP($A19,'Food full composition_all'!$A$3:$AU$33,6+($B19*2),0) -> 0 | F19: =VLOOKUP(D19,'Impact value reference table'!$B$3:$G$216,2,FALSE) -> #N/A | G19: =(F19/(1000/$C$3))/100*E19 -> #N/A | H19: =VLOOKUP(D19,'Impact value reference table'!$B$3:$G$216,3,FALSE) -> #N/A | I19: =(H19/(1000/$C$3))/100*E19 -> #N/A | J19: =VLOOKUP(D19,'Impact value reference table'!$B$3:$G$216,4,FALSE) -> #N/A | K19: =(J19/(1000/$C$3))/100*E19 -> #N/A | L19: =VLOOKUP(D19,'Impact value reference table'!$B$3:$G$216,5,FALSE) -> #N/A | M19: =(L19/(1000/$C$3))/100*E19 -> #N/A | N19: =VLOOKUP(D19,'Impact value reference table'!$B$3:$G$216,6,FALSE) -> #N/A | O19: =(N19/(1000/$C$3))/100*E19 -> #N/A | P19: =VLOOKUP(D19,'Impact value reference table'!$B$3:$G$216,7,FALSE) -> #N/A | Q19: =(P19/(1000/$C$3))/100*E19 -> #N/A
A20: S#259 | B20: 18 | D20: =VLOOKUP($A20,'Food full composition_all'!$A$3:$AU$33,5+($B20*2),0) -> Pumpkin | E20: =VLOOKUP($A20,'Food full composition_all'!$A$3:$AU$33,6+($B20*2),0) -> 0 | F20: =VLOOKUP(D20,'Impact value reference table'!$B$3:$G$216,2,FALSE) -> #N/A | G20: =(F20/(1000/$C$3))/100*E20 -> #N/A | H20: =VLOOKUP(D20,'Impact value reference table'!$B$3:$G$216,3,FALSE) -> #N/A | I20: =(H20/(1000/$C$3))/100*E20 -> #N/A | J20: =VLOOKUP(D20,'Impact value reference table'!$B$3:$G$216,4,FALSE) -> #N/A | K20: =(J20/(1000/$C$3))/100*E20 -> #N/A | L20: =VLOOKUP(D20,'Impact value reference table'!$B$3:$G$216,5,FALSE) -> #N/A | M20: =(L20/(1000/$C$3))/100*E20 -> #N/A | N20: =VLOOKUP(D20,'Impact value reference table'!$B$3:$G$216,6,FALSE) -> #N/A | O20: =(N20/(1000/$C$3))/100*E20 -> #N/A | P20: =VLOOKUP(D20,'Impact value reference table'!$B$3:$G$216,7,FALSE) -> #N/A | Q20: =(P20/(1000/$C$3))/100*E20 -> #N/A
A21: S#259 | B21: 19 | D21: =VLOOKUP($A21,'Food full composition_all'!$A$3:$AU$33,5+($B21*2),0) -> 0 | E21: =VLOOKUP($A21,'Food full composition_all'!$A$3:$AU$33,6+($B21*2),0) -> 0 | F21: =VLOOKUP(D21,'Impact value reference table'!$B$3:$G$216,2,FALSE) -> #N/A | G21: =(F21/(1000/$C$3))/100*E21 -> #N/A | H21: =VLOOKUP(D21,'Impact value reference table'!$B$3:$G$216,3,FALSE) -> #N/A | I21: =(H21/(1000/$C$3))/100*E21 -> #N/A | J21: =VLOOKUP(D21,'Impact value reference table'!$B$3:$G$216,4,FALSE) -> #N/A | K21: =(J21/(1000/$C$3))/100*E21 -> #N/A | L21: =VLOOKUP(D21,'Impact value reference table'!$B$3:$G$216,5,FALSE) -> #N/A | M21: =(L21/(1000/$C$3))/100*E21 -> #N/A | N21: =VLOOKUP(D21,'Impact value reference table'!$B$3:$G$216,6,FALSE) -> #N/A | O21: =(N21/(1000/$C$3))/100*E21 -> #N/A | P21: =VLOOKUP(D21,'Impact value reference table'!$B$3:$G$216,7,FALSE) -> #N/A | Q21: =(P21/(1000/$C$3))/100*E21 -> #N/A
A22: S#265 | B22: 1 | C22: 350.944 | D22: =VLOOKUP($A22,'Food full composition_all'!$A$3:$AU$33,5+($B22*2),0) -> Chicken meat, cooked | E22: =VLOOKUP($A22,'Food full composition_all'!$A$3:$AU$33,6+($B22*2),0) -> 22 | F22: =VLOOKUP(D22,'Impact value reference table'!$B$3:$G$216,2,FALSE) -> 8 | G22: =(F22/(1000/$C$22))/100*E22 -> 0.61766144 | H22: =VLOOKUP(D22,'Impact value reference table'!$B$3:$G$216,3,FALSE) -> 6.42 | I22: =(H22/(1000/$C$22))/100*E22 -> 0.49567331 | J22: =VLOOKUP(D22,'Impact value reference table'!$B$3:$G$216,4,FALSE) -> 66.49 | K22: =(J22/(1000/$C$22))/100*E22 -> 5.1335386 | L22: =VLOOKUP(D22,'Impact value reference table'!$B$3:$G$216,5,FALSE) -> 31.55 | M22: =(L22/(1000/$C$22))/100*E22 -> 2.4359023 | N22: =VLOOKUP(D22,'Impact value reference table'!$B$3:$G$216,6,FALSE) -> 429.36 | O22: =(N22/(1000/$C$22))/100*E22 -> 33.149889 | P22: =VLOOKUP(D22,'Impact value reference table'!$B$3:$G$216,7,FALSE) -> #REF! | Q22: =(P22/(1000/$C$22))/100*E22 -> #REF!
A23: S#265 | B23: 2 | D23: =VLOOKUP($A23,'Food full composition_all'!$A$3:$AU$33,5+($B23*2),0) -> Pea, unspecified | E23: =VLOOKUP($A23,'Food full composition_all'!$A$3:$AU$33,6+($B23*2),0) -> 12 | F23: =VLOOKUP(D23,'Impact value reference table'!$B$3:$G$216,2,FALSE) -> 1.48 | G23: =(F23/(1000/$C$22))/100*E23 -> 0.062327654 | H23: =VLOOKUP(D23,'Impact value reference table'!$B$3:$G$216,3,FALSE) -> 13.31 | I23: =(H23/(1000/$C$22))/100*E23 -> 0.56052776 | J23: =VLOOKUP(D23,'Impact value reference table'!$B$3:$G$216,4,FALSE) -> 2.81 | K23: =(J23/(1000/$C$22))/100*E23 -> 0.11833832 | L23: =VLOOKUP(D23,'Impact value reference table'!$B$3:$G$216,5,FALSE) -> 2.51 | M23: =(L23/(1000/$C$22))/100*E23 -> 0.10570433 | N23: =VLOOKUP(D23,'Impact value reference table'!$B$3:$G$216,6,FALSE) -> 131.58 | O23: =(N23/(1000/$C$22))/100*E23 -> 5.5412654 | P23: =VLOOKUP(D23,'Impact value reference table'!$B$3:$G$216,7,FALSE) -> #REF! | Q23: =(P23/(1000/$C$22))/100*E23 -> #REF!
A24: S#265 | B24: 3 | D24: =VLOOKUP($A24,'Food full composition_all'!$A$3:$AU$33,5+($B24*2),0) -> Chickpea, cooked | E24: =VLOOKUP($A24,'Food full composition_all'!$A$3:$AU$33,6+($B24*2),0) -> 5.5 | F24: =VLOOKUP(D24,'Impact value reference table'!$B$3:$G$216,2,FALSE) -> 3.94 | G24: =(F24/(1000/$C$22))/100*E24 -> 0.076049565 | H24: =VLOOKUP(D24,'Impact value reference table'!$B$3:$G$216,3,FALSE) -> 0.43 | I24: =(H24/(1000/$C$22))/100*E24 -> 0.0082998256 | J24: =VLOOKUP(D24,'Impact value reference table'!$B$3:$G$216,4,FALSE) -> 5.4 | K24: =(J24/(1000/$C$22))/100*E24 -> 0.10423037 | L24: =VLOOKUP(D24,'Impact value reference table'!$B$3:$G$216,5,FALSE) -> 4.32 | M24: =(L24/(1000/$C$22))/100*E24 -> 0.083384294 | N24: =VLOOKUP(D24,'Impact value reference table'!$B$3:$G$216,6,FALSE) -> 110.21 | O24: =(N24/(1000/$C$22))/100*E24 -> 2.1272646 | P24: =VLOOKUP(D24,'Impact value reference table'!$B$3:$G$216,7,FALSE) -> #REF! | Q24: =(P24/(1000/$C$22))/100*E24 -> #REF!
A25: S#265 | B25: 4 | D25: =VLOOKUP($A25,'Food full composition_all'!$A$3:$AU$33,5+($B25*2),0) -> Pea, unspecified | E25: =VLOOKUP($A25,'Food full composition_all'!$A$3:$AU$33,6+($B25*2),0) -> 5.8 | F25: =VLOOKUP(D25,'Impact value reference table'!$B$3:$G$216,2,FALSE) -> 1.48 | G25: =(F25/(1000/$C$22))/100*E25 -> 0.030125033 | H25: =VLOOKUP(D25,'Impact value reference table'!$B$3:$G$216,3,FALSE) -> 13.31 | I25: =(H25/(1000/$C$22))/100*E25 -> 0.27092175 | J25: =VLOOKUP(D25,'Impact value reference table'!$B$3:$G$216,4,FALSE) -> 2.81 | K25: =(J25/(1000/$C$22))/100*E25 -> 0.057196853 | L25: =VLOOKUP(D25,'Impact value reference table'!$B$3:$G$216,5,FALSE) -> 2.51 | M25: =(L25/(1000/$C$22))/100*E25 -> 0.051090428 | N25: =VLOOKUP(D25,'Impact value reference table'!$B$3:$G$216,6,FALSE) -> 131.58 | O25: =(N25/(1000/$C$22))/100*E25 -> 2.6782783 | P25: =VLOOKUP(D25,'Impact value reference table'!$B$3:$G$216,7,FALSE) -> #REF! | Q25: =(P25/(1000/$C$22))/100*E25 -> #REF!
A26: S#265 | B26: 5 | D26: =VLOOKUP($A26,'Food full composition_all'!$A$3:$AU$33,5+($B26*2),0) -> Poultry fat, unspecified | E26: =VLOOKUP($A26,'Food full composition_all'!$A$3:$AU$33,6+($B26*2),0) -> 5 | F26: =VLOOKUP(D26,'Impact value reference table'!$B$3:$G$216,2,FALSE) -> 0 | G26: =(F26/(1000/$C$22))/100*E26 -> 0 | H26: =VLOOKUP(D26,'Impact value reference table'!$B$3:$G$216,3,FALSE) -> 0 | I26: =(H26/(1000/$C$22))/100*E26 -> 0 | J26: =VLOOKUP(D26,'Impact value reference table'!$B$3:$G$216,4,FALSE) -> 0 | K26: =(J26/(1000/$C$22))/100*E26 -> 0 | L26: =VLOOKUP(D26,'Impact value reference table'!$B$3:$G$216,5,FALSE) -> 0 | M26: =(L26/(1000/$C$22))/100*E26 -> 0 | N26: =VLOOKUP(D26,'Impact value reference table'!$B$3:$G$216,6,FALSE) -> 0 | O26: =(N26/(1000/$C$22))/100*E26 -> 0 | P26: =VLOOKUP(D26,'Impact value reference table'!$B$3:$G$216,7,FALSE) -> #REF! | Q26: =(P26/(1000/$C$22))/100*E26 -> #REF!
A27: S#265 | B27: 6 | D27: =VLOOKUP($A27,'Food full composition_all'!$A$3:$AU$33,5+($B27*2),0) -> Sweet potato, cooked | E27: =VLOOKUP($A27,'Food full composition_all'!$A$3:$AU$33,6+($B27*2),0) -> 4 | F27: =VLOOKUP(D27,'Impact value reference table'!$B$3:$G$216,2,FALSE) -> 1.2 | G27: =(F27/(1000/$C$22))/100*E27 -> 0.016845312 | H27: =VLOOKUP(D27,'Impact value reference table'!$B$3:$G$216,3,FALSE) -> 0.6 | I27: =(H27/(1000/$C$22))/100*E27 -> 0.008422656 | J27: =VLOOKUP(D27,'Impact value reference table'!$B$3:$G$216,4,FALSE) -> 5.3 | K27: =(J27/(1000/$C$22))/100*E27 -> 0.074400128 | L27: =VLOOKUP(D27,'Impact value reference table'!$B$3:$G$216,5,FALSE) -> 4.8 | M27: =(L27/(1000/$C$22))/100*E27 -> 0.067381248 | N27: =VLOOKUP(D27,'Impact value reference table'!$B$3:$G$216,6,FALSE) -> 81 | O27: =(N27/(1000/$C$22))/100*E27 -> 1.1370586 | P27: =VLOOKUP(D27,'Impact value reference table'!$B$3:$G$216,7,FALSE) -> #REF! | Q27: =(P27/(1000/$C$22))/100*E27 -> #REF!
A28: S#265 | B28: 7 | D28: =VLOOKUP($A28,'Food full composition_all'!$A$3:$AU$33,5+($B28*2),0) -> Chicken protein hydrolysate, unpecified | E28: =VLOOKUP($A28,'Food full composition_all'!$A$3:$AU$33,6+($B28*2),0) -> 3.5 | F28: =VLOOKUP(D28,'Impact value reference table'!$B$3:$G$216,2,FALSE) -> 17.46 | G28: =(F28/(1000/$C$22))/100*E28 -> 0.21446188 | H28: =VLOOKUP(D28,'Impact value reference table'!$B$3:$G$216,3,FALSE) -> 14.02 | I28: =(H28/(1000/$C$22))/100*E28 -> 0.17220822 | J28: =VLOOKUP(D28,'Impact value reference table'!$B$3:$G$216,4,FALSE) -> 145.08 | K28: =(J28/(1000/$C$22))/100*E28 -> 1.7820234 | L28: =VLOOKUP(D28,'Impact value reference table'!$B$3:$G$216,5,FALSE) -> 68.85 | M28: =(L28/(1000/$C$22))/100*E28 -> 0.8456873 | N28: =VLOOKUP(D28,'Impact value reference table'!$B$3:$G$216,6,FALSE) -> 936.89 | O28: =(N28/(1000/$C$22))/100*E28 -> 11.507857 | P28: =VLOOKUP(D28,'Impact value reference table'!$B$3:$G$216,7,FALSE) -> #REF! | Q28: =(P28/(1000/$C$22))/100*E28 -> #REF!
A29: S#265 | B29: 8 | D29: =VLOOKUP($A29,'Food full composition_all'!$A$3:$AU$33,5+($B29*2),0) -> Potato starch, unspecified | E29: =VLOOKUP($A29,'Food full composition_all'!$A$3:$AU$33,6+($B29*2),0) -> 1.2 | F29: =VLOOKUP(D29,'Impact value reference table'!$B$3:$G$216,2,FALSE) -> 1.2 | G29: =(F29/(1000/$C$22))/100*E29 -> 0.0050535936 | H29: =VLOOKUP(D29,'Impact value reference table'!$B$3:$G$216,3,FALSE) -> 0.6 | I29: =(H29/(1000/$C$22))/100*E29 -> 0.0025267968 | J29: =VLOOKUP(D29,'Impact value reference table'!$B$3:$G$216,4,FALSE) -> 5.3 | K29: =(J29/(1000/$C$22))/100*E29 -> 0.022320038 | L29: =VLOOKUP(D29,'Impact value reference table'!$B$3:$G$216,5,FALSE) -> 4.8 | M29: =(L29/(1000/$C$22))/100*E29 -> 0.020214374 | N29: =VLOOKUP(D29,'Impact value reference table'!$B$3:$G$216,6,FALSE) -> 81 | O29: =(N29/(1000/$C$22))/100*E29 -> 0.34111757 | P29: =VLOOKUP(D29,'Impact value reference table'!$B$3:$G$216,7,FALSE) -> #REF! | Q29: =(P29/(1000/$C$22))/100*E29 -> #REF!
A30: S#265 | B30: 9 | D30: =VLOOKUP($A30,'Food full composition_all'!$A$3:$AU$33,5+($B30*2),0) -> Pea, unspecified | E30: =VLOOKUP($A30,'Food full composition_all'!$A$3:$AU$33,6+($B30*2),0) -> 2 | F30: =VLOOKUP(D30,'Impact value reference table'!$B$3:$G$216,2,FALSE) -> 1.48 | G30: =(F30/(1000/$C$22))/100*E30 -> 0.010387942 | H30: =VLOOKUP(D30,'Impact value reference table'!$B$3:$G$216,3,FALSE) -> 13.31 | I30: =(H30/(1000/$C$22))/100*E30 -> 0.093421293 | J30: =VLOOKUP(D30,'Impact value reference table'!$B$3:$G$216,4,FALSE) -> 2.81 | K30: =(J30/(1000/$C$22))/100*E30 -> 0.019723053 | L30: =VLOOKUP(D30,'Impact value reference table'!$B$3:$G$216,5,FALSE) -> 2.51 | M30: =(L30/(1000/$C$22))/100*E30 -> 0.017617389 | N30: =VLOOKUP(D30,'Impact value reference table'!$B$3:$G$216,6,FALSE) -> 131.58 | O30: =(N30/(1000/$C$22))/100*E30 -> 0.92354423 | P30: =VLOOKUP(D30,'Impact value reference table'!$B$3:$G$216,7,FALSE) -> #REF! | Q30: =(P30/(1000/$C$22))/100*E30 -> #REF!
A31: S#265 | B31: 10 | D31: =VLOOKUP($A31,'Food full composition_all'!$A$3:$AU$33,5+($B31*2),0) -> Dried hicory root | E31: =VLOOKUP($A31,'Food full composition_all'!$A$3:$AU$33,6+($B31*2),0) -> 0 | F31: =VLOOKUP(D31,'Impact value reference table'!$B$3:$G$216,2,FALSE) -> #N/A | G31: =(F31/(1000/$C$22))/100*E31 -> #N/A | H31: =VLOOKUP(D31,'Impact value reference table'!$B$3:$G$216,3,FALSE) -> #N/A | I31: =(H31/(1000/$C$22))/100*E31 -> #N/A | J31: =VLOOKUP(D31,'Impact value reference table'!$B$3:$G$216,4,FALSE) -> #N/A | K31: =(J31/(1000/$C$22))/100*E31 -> #N/A | L31: =VLOOKUP(D31,'Impact value reference table'!$B$3:$G$216,5,FALSE) -> #N/A | M31: =(L31/(1000/$C$22))/100*E31 -> #N/A | N31: =VLOOKUP(D31,'Impact value reference table'!$B$3:$G$216,6,FALSE) -> #N/A | O31: =(N31/(1000/$C$22))/100*E31 -> #N/A | P31: =VLOOKUP(D31,'Impact value reference table'!$B$3:$G$216,7,FALSE) -> #N/A | Q31: =(P31/(1000/$C$22))/100*E31 -> #N/A
A32: S#265 | B32: 11 | D32: =VLOOKUP($A32,'Food full composition_all'!$A$3:$AU$33,5+($B32*2),0) -> Minerals | E32: =VLOOKUP($A32,'Food full composition_all'!$A$3:$AU$33,6+($B32*2),0) -> 0 | F32: =VLOOKUP(D32,'Impact value reference table'!$B$3:$G$216,2,FALSE) -> #N/A | G32: =(F32/(1000/$C$22))/100*E32 -> #N/A | H32: =VLOOKUP(D32,'Impact value reference table'!$B$3:$G$216,3,FALSE) -> #N/A | I32: =(H32/(1000/$C$22))/100*E32 -> #N/A | J32: =VLOOKUP(D32,'Impact value reference table'!$B$3:$G$216,4,FALSE) -> #N/A | K32: =(J32/(1000/$C$22))/100*E32 -> #N/A | L32: =VLOOKUP(D32,'Impact value reference table'!$B$3:$G$216,5,FALSE) -> #N/A | M32: =(L32/(1000/$C$22))/100*E32 -> #N/A | N32: =VLOOKUP(D32,'Impact value reference table'!$B$3:$G$216,6,FALSE) -> #N/A | O32: =(N32/(1000/$C$22))/100*E32 -> #N/A | P32: =VLOOKUP(D32,'Impact value reference table'!$B$3:$G$216,7,FALSE) -> #N/A | Q32: =(P32/(1000/$C$22))/100*E32 -> #N/A
A33: S#265 | B33: 12 | D33: =VLOOKUP($A33,'Food full composition_all'!$A$3:$AU$33,5+($B33*2),0) -> Carrot, cooked | E33: =VLOOKUP($A33,'Food full composition_all'!$A$3:$AU$33,6+($B33*2),0) -> 4 | F33: =VLOOKUP(D33,'Impact value reference table'!$B$3:$G$216,2,FALSE) -> 0.86 | G33: =(F33/(1000/$C$22))/100*E33 -> 0.012072474 | H33: =VLOOKUP(D33,'Impact value reference table'!$B$3:$G$216,3,FALSE) -> 1.14 | I33: =(H33/(1000/$C$22))/100*E33 -> 0.016003046 | J33: =VLOOKUP(D33,'Impact value reference table'!$B$3:$G$216,4,FALSE) -> 8.29 | K33: =(J33/(1000/$C$22))/100*E33 -> 0.11637303 | L33: =VLOOKUP(D33,'Impact value reference table'!$B$3:$G$216,5,FALSE) -> 4.57 | M33: =(L33/(1000/$C$22))/100*E33 -> 0.064152563 | N33: =VLOOKUP(D33,'Impact value reference table'!$B$3:$G$216,6,FALSE) -> 80 | O33: =(N33/(1000/$C$22))/100*E33 -> 1.1230208 | P33: =VLOOKUP(D33,'Impact value reference table'!$B$3:$G$216,7,FALSE) -> #REF! | Q33: =(P33/(1000/$C$22))/100*E33 -> #REF!
A34: S#265 | B34: 13 | D34: =VLOOKUP($A34,'Food full composition_all'!$A$3:$AU$33,5+($B34*2),0) -> Broccoli, cooked | E34: =VLOOKUP($A34,'Food full composition_all'!$A$3:$AU$33,6+($B34*2),0) -> 4 | F34: =VLOOKUP(D34,'Impact value reference table'!$B$3:$G$216,2,FALSE) -> 2.52 | G34: =(F34/(1000/$C$22))/100*E34 -> 0.035375155 | H34: =VLOOKUP(D34,'Impact value reference table'!$B$3:$G$216,3,FALSE) -> 4.08 | I34: =(H34/(1000/$C$22))/100*E34 -> 0.057274061 | J34: =VLOOKUP(D34,'Impact value reference table'!$B$3:$G$216,4,FALSE) -> 5.58 | K34: =(J34/(1000/$C$22))/100*E34 -> 0.078330701 | L34: =VLOOKUP(D34,'Impact value reference table'!$B$3:$G$216,5,FALSE) -> 3.4 | M34: =(L34/(1000/$C$22))/100*E34 -> 0.047728384 | N34: =VLOOKUP(D34,'Impact value reference table'!$B$3:$G$216,6,FALSE) -> 80.92 | O34: =(N34/(1000/$C$22))/100*E34 -> 1.1359355 | P34: =VLOOKUP(D34,'Impact value reference table'!$B$3:$G$216,7,FALSE) -> #REF! | Q34: =(P34/(1000/$C$22))/100*E34 -> #REF!
... A38: S#265 | B38: 17 | D38: =VLOOKUP($A38,'Food full composition_all'!$A$3:$AU$33,5+($B38*2),0) -> 0 | E38: =VLOOKUP($A38,'Food full composition_all'!$A$3:$AU$33,6+($B38*2),0) -> 0 | F38: =VLOOKUP(D38,'Impact value reference table'!$B$3:$G$216,2,FALSE) -> #N/A | G38: =(F38/(1000/$C$22))/100*E38 -> #N/A | H38: =VLOOKUP(D38,'Impact value reference table'!$B$3:$G$216,3,FALSE) -> #N/A | I38: =(H38/(1000/$C$22))/100*E38 -> #N/A | J38: =VLOOKUP(D38,'Impact value reference table'!$B$3:$G$216,4,FALSE) -> #N/A | K38: =(J38/(1000/$C$22))/100*E38 -> #N/A | L38: =VLOOKUP(D38,'Impact value reference table'!$B$3:$G$216,5,FALSE) -> #N/A | M38: =(L38/(1000/$C$22))/100*E38 -> #N/A | N38: =VLOOKUP(D38,'Impact value reference table'!$B$3:$G$216,6,FALSE) -> #N/A | O38: =(N38/(1000/$C$22))/100*E38 -> #N/A | P38: =VLOOKUP(D38,'Impact value reference table'!$B$3:$G$216,7,FALSE) -> #N/A | Q38: =(P38/(1000/$C$22))/100*E38 -> #N/A
A39: S#266 | B39: 1 | C39: 324.478 | D39: =VLOOKUP($A39,'Food full composition_all'!$A$3:$AU$33,5+($B39*2),0) -> Poultry by-product meal, unspecified | E39: =VLOOKUP($A39,'Food full composition_all'!$A$3:$AU$33,6+($B39*2),0) -> 27.5 | F39: =VLOOKUP(D39,'Impact value reference table'!$B$3:$G$216,2,FALSE) -> 14.04 | G39: =(F39/(1000/$C$39))/100*E39 -> 1.2528096 | H39: =VLOOKUP(D39,'Impact value reference table'!$B$3:$G$216,3,FALSE) -> 11.27 | I39: =(H39/(1000/$C$39))/100*E39 -> 1.0056384 | J39: =VLOOKUP(D39,'Impact value reference table'!$B$3:$G$216,4,FALSE) -> 116.64 | K39: =(J39/(1000/$C$39))/100*E39 -> 10.407956 | L39: =VLOOKUP(D39,'Impact value reference table'!$B$3:$G$216,5,FALSE) -> 55.35 | M39: =(L39/(1000/$C$39))/100*E39 -> 4.9389608 | N39: =VLOOKUP(D39,'Impact value reference table'!$B$3:$G$216,6,FALSE) -> 753.21 | O39: =(N39/(1000/$C$39))/100*E39 -> 67.21002 | P39: =VLOOKUP(D39,'Impact value reference table'!$B$3:$G$216,7,FALSE) -> #REF! | Q39: =(P39/(1000/$C$39))/100*E39 -> #REF!
A40: S#266 | B40: 2 | D40: =VLOOKUP($A40,'Food full composition_all'!$A$3:$AU$33,5+($B40*2),0) -> Oat bran, raw | E40: =VLOOKUP($A40,'Food full composition_all'!$A$3:$AU$33,6+($B40*2),0) -> 18.7 | F40: =VLOOKUP(D40,'Impact value reference table'!$B$3:$G$216,2,FALSE) -> 7.6 | G40: =(F40/(1000/$C$39))/100*E40 -> 0.46114813 | H40: =VLOOKUP(D40,'Impact value reference table'!$B$3:$G$216,3,FALSE) -> 2.5 | I40: =(H40/(1000/$C$39))/100*E40 -> 0.15169346 | J40: =VLOOKUP(D40,'Impact value reference table'!$B$3:$G$216,4,FALSE) -> 4.1 | K40: =(J40/(1000/$C$39))/100*E40 -> 0.24877728 | L40: =VLOOKUP(D40,'Impact value reference table'!$B$3:$G$216,5,FALSE) -> 4.3 | M40: =(L40/(1000/$C$39))/100*E40 -> 0.26091276 | N40: =VLOOKUP(D40,'Impact value reference table'!$B$3:$G$216,6,FALSE) -> 184 | O40: =(N40/(1000/$C$39))/100*E40 -> 11.164639 | P40: =VLOOKUP(D40,'Impact value reference table'!$B$3:$G$216,7,FALSE) -> #REF! | Q40: =(P40/(1000/$C$39))/100*E40 -> #REF!
A41: S#266 | B41: 3 | D41: =VLOOKUP($A41,'Food full composition_all'!$A$3:$AU$33,5+($B41*2),0) -> Pea, cooked | E41: =VLOOKUP($A41,'Food full composition_all'!$A$3:$AU$33,6+($B41*2),0) -> 7.2 | F41: =VLOOKUP(D41,'Impact value reference table'!$B$3:$G$216,2,FALSE) -> 1.41 | G41: =(F41/(1000/$C$39))/100*E41 -> 0.032941007 | H41: =VLOOKUP(D41,'Impact value reference table'!$B$3:$G$216,3,FALSE) -> 12.72 | I41: =(H41/(1000/$C$39))/100*E41 -> 0.29716993 | J41: =VLOOKUP(D41,'Impact value reference table'!$B$3:$G$216,4,FALSE) -> 2.69 | K41: =(J41/(1000/$C$39))/100*E41 -> 0.062844899 | L41: =VLOOKUP(D41,'Impact value reference table'!$B$3:$G$216,5,FALSE) -> 2.4 | M41: =(L41/(1000/$C$39))/100*E41 -> 0.056069798 | N41: =VLOOKUP(D41,'Impact value reference table'!$B$3:$G$216,6,FALSE) -> 125.81 | O41: =(N41/(1000/$C$39))/100*E41 -> 2.9392256 | P41: =VLOOKUP(D41,'Impact value reference table'!$B$3:$G$216,7,FALSE) -> #REF! | Q41: =(P41/(1000/$C$39))/100*E41 -> #REF!
A42: S#266 | B42: 4 | D42: =VLOOKUP($A42,'Food full composition_all'!$A$3:$AU$33,5+($B42*2),0) -> Flaxseed, unspecified | E42: =VLOOKUP($A42,'Food full composition_all'!$A$3:$AU$33,6+($B42*2),0) -> 5.8 | F42: =VLOOKUP(D42,'Impact value reference table'!$B$3:$G$216,2,FALSE) -> 3.55 | G42: =(F42/(1000/$C$39))/100*E42 -> 0.06681002 | H42: =VLOOKUP(D42,'Impact value reference table'!$B$3:$G$216,3,FALSE) -> 0.39 | I42: =(H42/(1000/$C$39))/100*E42 -> 0.0073396924 | J42: =VLOOKUP(D42,'Impact value reference table'!$B$3:$G$216,4,FALSE) -> 4.86 | K42: =(J42/(1000/$C$39))/100*E42 -> 0.091463859 | L42: =VLOOKUP(D42,'Impact value reference table'!$B$3:$G$216,5,FALSE) -> 3.89 | M42: =(L42/(1000/$C$39))/100*E42 -> 0.073208726 | N42: =VLOOKUP(D42,'Impact value reference table'!$B$3:$G$216,6,FALSE) -> 99.24 | O42: =(N42/(1000/$C$39))/100*E42 -> 1.8676694 | P42: =VLOOKUP(D42,'Impact value reference table'!$B$3:$G$216,7,FALSE) -> #REF! | Q42: =(P42/(1000/$C$39))/100*E42 -> #REF!
A43: S#266 | B43: 5 | D43: =VLOOKUP($A43,'Food full composition_all'!$A$3:$AU$33,5+($B43*2),0) -> Beet pulp, unspecified | E43: =VLOOKUP($A43,'Food full composition_all'!$A$3:$AU$33,6+($B43*2),0) -> 4.3 | F43: =VLOOKUP(D43,'Impact value reference table'!$B$3:$G$216,2,FALSE) -> 0.13 | G43: =(F43/(1000/$C$39))/100*E43 -> 0.001813832 | H43: =VLOOKUP(D43,'Impact value reference table'!$B$3:$G$216,3,FALSE) -> 0.17 | I43: =(H43/(1000/$C$39))/100*E43 -> 0.0023719342 | J43: =VLOOKUP(D43,'Impact value reference table'!$B$3:$G$216,4,FALSE) -> 1.25 | K43: =(J43/(1000/$C$39))/100*E43 -> 0.017440692 | L43: =VLOOKUP(D43,'Impact value reference table'!$B$3:$G$216,5,FALSE) -> 0.69 | M43: =(L43/(1000/$C$39))/100*E43 -> 0.0096272623 | N43: =VLOOKUP(D43,'Impact value reference table'!$B$3:$G$216,6,FALSE) -> 12.09 | O43: =(N43/(1000/$C$39))/100*E43 -> 0.16868638 | P43: =VLOOKUP(D43,'Impact value reference table'!$B$3:$G$216,7,FALSE) -> #REF! | Q43: =(P43/(1000/$C$39))/100*E43 -> #REF!
A44: S#266 | B44: 6 | D44: =VLOOKUP($A44,'Food full composition_all'!$A$3:$AU$33,5+($B44*2),0) -> Poultry fat, unspecified | E44: =VLOOKUP($A44,'Food full composition_all'!$A$3:$AU$33,6+($B44*2),0) -> 3.3 | F44: =VLOOKUP(D44,'Impact value reference table'!$B$3:$G$216,2,FALSE) -> 0 | G44: =(F44/(1000/$C$39))/100*E44 -> 0 | H44: =VLOOKUP(D44,'Impact value reference table'!$B$3:$G$216,3,FALSE) -> 0 | I44: =(H44/(1000/$C$39))/100*E44 -> 0 | J44: =VLOOKUP(D44,'Impact value reference table'!$B$3:$G$216,4,FALSE) -> 0 | K44: =(J44/(1000/$C$39))/100*E44 -> 0 | L44: =VLOOKUP(D44,'Impact value reference table'!$B$3:$G$216,5,FALSE) -> 0 | M44: =(L44/(1000/$C$39))/100*E44 -> 0 | N44: =VLOOKUP(D44,'Impact value reference table'!$B$3:$G$216,6,FALSE) -> 0 | O44: =(N44/(1000/$C$39))/100*E44 -> 0 | P44: =VLOOKUP(D44,'Impact value reference table'!$B$3:$G$216,7,FALSE) -> #REF! | Q44: =(P44/(1000/$C$39))/100*E44 -> #REF!
A45: S#266 | B45: 7 | D45: =VLOOKUP($A45,'Food full composition_all'!$A$3:$AU$33,5+($B45*2),0) -> Vitamins & minerals | E45: =VLOOKUP($A45,'Food full composition_all'!$A$3:$AU$33,6+($B45*2),0) -> 0 | F45: =VLOOKUP(D45,'Impact value reference table'!$B$3:$G$216,2,FALSE) -> #N/A | G45: =(F45/(1000/$C$39))/100*E45 -> #N/A | H45: =VLOOKUP(D45,'Impact value reference table'!$B$3:$G$216,3,FALSE) -> #N/A | I45: =(H45/(1000/$C$39))/100*E45 -> #N/A | J45: =VLOOKUP(D45,'Impact value reference table'!$B$3:$G$216,4,FALSE) -> #N/A | K45: =(J45/(1000/$C$39))/100*E45 -> #N/A | L45: =VLOOKUP(D45,'Impact value reference table'!$B$3:$G$216,5,FALSE) -> #N/A | M45: =(L45/(1000/$C$39))/100*E45 -> #N/A | N45: =VLOOKUP(D45,'Impact value reference table'!$B$3:$G$216,6,FALSE) -> #N/A | O45: =(N45/(1000/$C$39))/100*E45 -> #N/A | P45: =VLOOKUP(D45,'Impact value reference table'!$B$3:$G$216,7,FALSE) -> #N/A | Q45: =(P45/(1000/$C$39))/100*E45 -> #N/A
A46: S#266 | B46: 8 | D46: =VLOOKUP($A46,'Food full composition_all'!$A$3:$AU$33,5+($B46*2),0) -> Herb blend | E46: =VLOOKUP($A46,'Food full composition_all'!$A$3:$AU$33,6+($B46*2),0) -> 0 | F46: =VLOOKUP(D46,'Impact value reference table'!$B$3:$G$216,2,FALSE) -> #N/A | G46: =(F46/(1000/$C$39))/100*E46 -> #N/A | H46: =VLOOKUP(D46,'Impact value reference table'!$B$3:$G$216,3,FALSE) -> #N/A | I46: =(H46/(1000/$C$39))/100*E46 -> #N/A | J46: =VLOOKUP(D46,'Impact value reference table'!$B$3:$G$216,4,FALSE) -> #N/A | K46: =(J46/(1000/$C$39))/100*E46 -> #N/A | L46: =VLOOKUP(D46,'Impact value reference table'!$B$3:$G$216,5,FALSE) -> #N/A | M46: =(L46/(1000/$C$39))/100*E46 -> #N/A | N46: =VLOOKUP(D46,'Impact value reference table'!$B$3:$G$216,6,FALSE) -> #N/A | O46: =(N46/(1000/$C$39))/100*E46 -> #N/A | P46: =VLOOKUP(D46,'Impact value reference table'!$B$3:$G$216,7,FALSE) -> #N/A | Q46: =(P46/(1000/$C$39))/100*E46 -> #N/A
A47: S#266 | B47: 9 | D47: =VLOOKUP($A47,'Food full composition_all'!$A$3:$AU$33,5+($B47*2),0) -> MOS | E47: =VLOOKUP($A47,'Food full composition_all'!$A$3:$AU$33,6+($B47*2),0) -> 0 | F47: =VLOOKUP(D47,'Impact value reference table'!$B$3:$G$216,2,FALSE) -> #N/A | G47: =(F47/(1000/$C$39))/100*E47 -> #N/A | H47: =VLOOKUP(D47,'Impact value reference table'!$B$3:$G$216,3,FALSE) -> #N/A | I47: =(H47/(1000/$C$39))/100*E47 -> #N/A | J47: =VLOOKUP(D47,'Impact value reference table'!$B$3:$G$216,4,FALSE) -> #N/A | K47: =(J47/(1000/$C$39))/100*E47 -> #N/A | L47: =VLOOKUP(D47,'Impact value reference table'!$B$3:$G$216,5,FALSE) -> #N/A | M47: =(L47/(1000/$C$39))/100*E47 -> #N/A | N47: =VLOOKUP(D47,'Impact value reference table'!$B$3:$G$216,6,FALSE) -> #N/A | O47: =(N47/(1000/$C$39))/100*E47 -> #N/A | P47: =VLOOKUP(D47,'Impact value reference table'!$B$3:$G$216,7,FALSE) -> #N/A | Q47: =(P47/(1000/$C$39))/100*E47 -> #N/A
A48: S#266 | B48: 10 | D48: =VLOOKUP($A48,'Food full composition_all'!$A$3:$AU$33,5+($B48*2),0) -> FOS | E48: =VLOOKUP($A48,'Food full composition_all'!$A$3:$AU$33,6+($B48*2),0) -> 0 | F48: =VLOOKUP(D48,'Impact value reference table'!$B$3:$G$216,2,FALSE) -> #N/A | G48: =(F48/(1000/$C$39))/100*E48 -> #N/A | H48: =VLOOKUP(D48,'Impact value reference table'!$B$3:$G$216,3,FALSE) -> #N/A | I48: =(H48/(1000/$C$39))/100*E48 -> #N/A | J48: =VLOOKUP(D48,'Impact value reference table'!$B$3:$G$216,4,FALSE) -> #N/A | K48: =(J48/(1000/$C$39))/100*E48 -> #N/A | L48: =VLOOKUP(D48,'Impact value reference table'!$B$3:$G$216,5,FALSE) -> #N/A | M48: =(L48/(1000/$C$39))/100*E48 -> #N/A | N48: =VLOOKUP(D48,'Impact value reference table'!$B$3:$G$216,6,FALSE) -> #N/A | O48: =(N48/(1000/$C$39))/100*E48 -> #N/A | P48: =VLOOKUP(D48,'Impact value reference table'!$B$3:$G$216,7,FALSE) -> #N/A | Q48: =(P48/(1000/$C$39))/100*E48 -> #N/A
A49: S#266 | B49: 11 | D49: =VLOOKUP($A49,'Food full composition_all'!$A$3:$AU$33,5+($B49*2),0) -> Glucosamine | E49: =VLOOKUP($A49,'Food full composition_all'!$A$3:$AU$33,6+($B49*2),0) -> 0 | F49: =VLOOKUP(D49,'Impact value reference table'!$B$3:$G$216,2,FALSE) -> #N/A | G49: =(F49/(1000/$C$39))/100*E49 -> #N/A | H49: =VLOOKUP(D49,'Impact value reference table'!$B$3:$G$216,3,FALSE) -> #N/A | I49: =(H49/(1000/$C$39))/100*E49 -> #N/A | J49: =VLOOKUP(D49,'Impact value reference table'!$B$3:$G$216,4,FALSE) -> #N/A | K49: =(J49/(1000/$C$39))/100*E49 -> #N/A | L49: =VLOOKUP(D49,'Impact value reference table'!$B$3:$G$216,5,FALSE) -> #N/A | M49: =(L49/(1000/$C$39))/100*E49 -> #N/A | N49: =VLOOKUP(D49,'Impact value reference table'!$B$3:$G$216,6,FALSE) -> #N/A | O49: =(N49/(1000/$C$39))/100*E49 -> #N/A | P49: =VLOOKUP(D49,'Impact value reference table'!$B$3:$G$216,7,FALSE) -> #N/A | Q49: =(P49/(1000/$C$39))/100*E49 -> #N/A
A50: S#266 | B50: 12 | D50: =VLOOKUP($A50,'Food full composition_all'!$A$3:$AU$33,5+($B50*2),0) -> Chondroitin sulphate | E50: =VLOOKUP($A50,'Food full composition_all'!$A$3:$AU$33,6+($B50*2),0) -> 0 | F50: =VLOOKUP(D50,'Impact value reference table'!$B$3:$G$216,2,FALSE) -> #N/A | G50: =(F50/(1000/$C$39))/100*E50 -> #N/A | H50: =VLOOKUP(D50,'Impact value reference table'!$B$3:$G$216,3,FALSE) -> #N/A | I50: =(H50/(1000/$C$39))/100*E50 -> #N/A | J50: =VLOOKUP(D50,'Impact value reference table'!$B$3:$G$216,4,FALSE) -> #N/A | K50: =(J50/(1000/$C$39))/100*E50 -> #N/A | L50: =VLOOKUP(D50,'Impact value reference table'!$B$3:$G$216,5,FALSE) -> #N/A | M50: =(L50/(1000/$C$39))/100*E50 -> #N/A | N50: =VLOOKUP(D50,'Impact value reference table'!$B$3:$G$216,6,FALSE) -> #N/A | O50: =(N50/(1000/$C$39))/100*E50 -> #N/A | P50: =VLOOKUP(D50,'Impact value reference table'!$B$3:$G$216,7,FALSE) -> #N/A | Q50: =(P50/(1000/$C$39))/100*E50 -> #N/A
A51: S#266 | B51: 13 | D51: =VLOOKUP($A51,'Food full composition_all'!$A$3:$AU$33,5+($B51*2),0) -> Seaweed | E51: =VLOOKUP($A51,'Food full composition_all'!$A$3:$AU$33,6+($B51*2),0) -> 0 | F51: =VLOOKUP(D51,'Impact value reference table'!$B$3:$G$216,2,FALSE) -> #N/A | G51: =(F51/(1000/$C$39))/100*E51 -> #N/A | H51: =VLOOKUP(D51,'Impact value reference table'!$B$3:$G$216,3,FALSE) -> #N/A | I51: =(H51/(1000/$C$39))/100*E51 -> #N/A | J51: =VLOOKUP(D51,'Impact value reference table'!$B$3:$G$216,4,FALSE) -> #N/A | K51: =(J51/(1000/$C$39))/100*E51 -> #N/A | L51: =VLOOKUP(D51,'Impact value reference table'!$B$3:$G$216,5,FALSE) -> #N/A | M51: =(L51/(1000/$C$39))/100*E51 -> #N/A | N51: =VLOOKUP(D51,'Impact value reference table'!$B$3:$G$216,6,FALSE) -> #N/A | O51: =(N51/(1000/$C$39))/100*E51 -> #N/A | P51: =VLOOKUP(D51,'Impact value reference table'!$B$3:$G$216,7,FALSE) -> #N/A | Q51: =(P51/(1000/$C$39))/100*E51 -> #N/A
... A53: S#266 | B53: 15 | D53: =VLOOKUP($A53,'Food full composition_all'!$A$3:$AU$33,5+($B53*2),0) -> 0 | E53: =VLOOKUP($A53,'Food full composition_all'!$A$3:$AU$33,6+($B53*2),0) -> 0 | F53: =VLOOKUP(D53,'Impact value reference table'!$B$3:$G$216,2,FALSE) -> #N/A | G53: =(F53/(1000/$C$39))/100*E53 -> #N/A | H53: =VLOOKUP(D53,'Impact value reference table'!$B$3:$G$216,3,FALSE) -> #N/A | I53: =(H53/(1000/$C$39))/100*E53 -> #N/A | J53: =VLOOKUP(D53,'Impact value reference table'!$B$3:$G$216,4,FALSE) -> #N/A | K53: =(J53/(1000/$C$39))/100*E53 -> #N/A | L53: =VLOOKUP(D53,'Impact value reference table'!$B$3:$G$216,5,FALSE) -> #N/A | M53: =(L53/(1000/$C$39))/100*E53 -> #N/A | N53: =VLOOKUP(D53,'Impact value reference table'!$B$3:$G$216,6,FALSE) -> #N/A | O53: =(N53/(1000/$C$39))/100*E53 -> #N/A | P53: =VLOOKUP(D53,'Impact value reference table'!$B$3:$G$216,7,FALSE) -> #N/A | Q53: =(P53/(1000/$C$39))/100*E53 -> #N/A
A54: S#267 | B54: 1 | C54: 354.889 | D54: =VLOOKUP($A54,'Food full composition_all'!$A$3:$AU$33,5+($B54*2),0) -> White rice, cooked | E54: =VLOOKUP($A54,'Food full composition_all'!$A$3:$AU$33,6+($B54*2),0) -> 19 | F54: =VLOOKUP(D54,'Impact value reference table'!$B$3:$G$216,2,FALSE) -> 0.8 | G54: =(F54/(1000/$C$54))/100*E54 -> 0.053943128 | H54: =VLOOKUP(D54,'Impact value reference table'!$B$3:$G$216,3,FALSE) -> 1.2 | I54: =(H54/(1000/$C$54))/100*E54 -> 0.080914692 | J54: =VLOOKUP(D54,'Impact value reference table'!$B$3:$G$216,4,FALSE) -> 7.4 | K54: =(J54/(1000/$C$54))/100*E54 -> 0.49897393 | L54: =VLOOKUP(D54,'Impact value reference table'!$B$3:$G$216,5,FALSE) -> 10 | M54: =(L54/(1000/$C$54))/100*E54 -> 0.6742891 | N54: =VLOOKUP(D54,'Impact value reference table'!$B$3:$G$216,6,FALSE) -> 610 | O54: =(N54/(1000/$C$54))/100*E54 -> 41.131635 | P54: =VLOOKUP(D54,'Impact value reference table'!$B$3:$G$216,7,FALSE) -> #REF! | Q54: =(P54/(1000/$C$54))/100*E54 -> #REF!
A55: S#267 | B55: 2 | D55: =VLOOKUP($A55,'Food full composition_all'!$A$3:$AU$33,5+($B55*2),0) -> Potato, cooked | E55: =VLOOKUP($A55,'Food full composition_all'!$A$3:$AU$33,6+($B55*2),0) -> 18.7 | F55: =VLOOKUP(D55,'Impact value reference table'!$B$3:$G$216,2,FALSE) -> 1.2 | G55: =(F55/(1000/$C$54))/100*E55 -> 0.079637092 | H55: =VLOOKUP(D55,'Impact value reference table'!$B$3:$G$216,3,FALSE) -> 0.6 | I55: =(H55/(1000/$C$54))/100*E55 -> 0.039818546 | J55: =VLOOKUP(D55,'Impact value reference table'!$B$3:$G$216,4,FALSE) -> 5.3 | K55: =(J55/(1000/$C$54))/100*E55 -> 0.35173049 | L55: =VLOOKUP(D55,'Impact value reference table'!$B$3:$G$216,5,FALSE) -> 4.8 | M55: =(L55/(1000/$C$54))/100*E55 -> 0.31854837 | N55: =VLOOKUP(D55,'Impact value reference table'!$B$3:$G$216,6,FALSE) -> 81 | O55: =(N55/(1000/$C$54))/100*E55 -> 5.3755037 | P55: =VLOOKUP(D55,'Impact value reference table'!$B$3:$G$216,7,FALSE) -> #REF! | Q55: =(P55/(1000/$C$54))/100*E55 -> #REF!
A56: S#267 | B56: 3 | D56: =VLOOKUP($A56,'Food full composition_all'!$A$3:$AU$33,5+($B56*2),0) -> Poultry fat, unspecified | E56: =VLOOKUP($A56,'Food full composition_all'!$A$3:$AU$33,6+($B56*2),0) -> 7.2 | F56: =VLOOKUP(D56,'Impact value reference table'!$B$3:$G$216,2,FALSE) -> 0 | G56: =(F56/(1000/$C$54))/100*E56 -> 0 | H56: =VLOOKUP(D56,'Impact value reference table'!$B$3:$G$216,3,FALSE) -> 0 | I56: =(H56/(1000/$C$54))/100*E56 -> 0 | J56: =VLOOKUP(D56,'Impact value reference table'!$B$3:$G$216,4,FALSE) -> 0 | K56: =(J56/(1000/$C$54))/100*E56 -> 0 | L56: =VLOOKUP(D56,'Impact value reference table'!$B$3:$G$216,5,FALSE) -> 0 | M56: =(L56/(1000/$C$54))/100*E56 -> 0 | N56: =VLOOKUP(D56,'Impact value reference table'!$B$3:$G$216,6,FALSE) -> 0 | O56: =(N56/(1000/$C$54))/100*E56 -> 0 | P56: =VLOOKUP(D56,'Impact value reference table'!$B$3:$G$216,7,FALSE) -> #REF! | Q56: =(P56/(1000/$C$54))/100*E56 -> #REF!
A57: S#267 | B57: 4 | D57: =VLOOKUP($A57,'Food full composition_all'!$A$3:$AU$33,5+($B57*2),0) -> Beet pulp, unspecified | E57: =VLOOKUP($A57,'Food full composition_all'!$A$3:$AU$33,6+($B57*2),0) -> 5.8 | F57: =VLOOKUP(D57,'Impact value reference table'!$B$3:$G$216,2,FALSE) -> 0.13 | G57: =(F57/(1000/$C$54))/100*E57 -> 0.0026758631 | H57: =VLOOKUP(D57,'Impact value reference table'!$B$3:$G$216,3,FALSE) -> 0.17 | I57: =(H57/(1000/$C$54))/100*E57 -> 0.0034992055 | J57: =VLOOKUP(D57,'Impact value reference table'!$B$3:$G$216,4,FALSE) -> 1.25 | K57: =(J57/(1000/$C$54))/100*E57 -> 0.025729453 | L57: =VLOOKUP(D57,'Impact value reference table'!$B$3:$G$216,5,FALSE) -> 0.69 | M57: =(L57/(1000/$C$54))/100*E57 -> 0.014202658 | N57: =VLOOKUP(D57,'Impact value reference table'!$B$3:$G$216,6,FALSE) -> 12.09 | O57: =(N57/(1000/$C$54))/100*E57 -> 0.24885526 | P57: =VLOOKUP(D57,'Impact value reference table'!$B$3:$G$216,7,FALSE) -> #REF! | Q57: =(P57/(1000/$C$54))/100*E57 -> #REF!
A58: S#267 | B58: 5 | D58: =VLOOKUP($A58,'Food full composition_all'!$A$3:$AU$33,5+($B58*2),0) -> Egg powder, unspecified | E58: =VLOOKUP($A58,'Food full composition_all'!$A$3:$AU$33,6+($B58*2),0) -> 4.3 | F58: =VLOOKUP(D58,'Impact value reference table'!$B$3:$G$216,2,FALSE) -> 5.16 | G58: =(F58/(1000/$C$54))/100*E58 -> 0.078742771 | H58: =VLOOKUP(D58,'Impact value reference table'!$B$3:$G$216,3,FALSE) -> 3.8 | I58: =(H58/(1000/$C$54))/100*E58 -> 0.057988863 | J58: =VLOOKUP(D58,'Impact value reference table'!$B$3:$G$216,4,FALSE) -> 43.42 | K58: =(J58/(1000/$C$54))/100*E58 -> 0.66259906 | L58: =VLOOKUP(D58,'Impact value reference table'!$B$3:$G$216,5,FALSE) -> 18.09 | M58: =(L58/(1000/$C$54))/100*E58 -> 0.27605751 | N58: =VLOOKUP(D58,'Impact value reference table'!$B$3:$G$216,6,FALSE) -> 471.26 | O58: =(N58/(1000/$C$54))/100*E58 -> 7.1915346 | P58: =VLOOKUP(D58,'Impact value reference table'!$B$3:$G$216,7,FALSE) -> #REF! | Q58: =(P58/(1000/$C$54))/100*E58 -> #REF!
A59: S#267 | B59: 6 | D59: =VLOOKUP($A59,'Food full composition_all'!$A$3:$AU$33,5+($B59*2),0) -> Chicken meat, raw | E59: =VLOOKUP($A59,'Food full composition_all'!$A$3:$AU$33,6+($B59*2),0) -> 3.3 | F59: =VLOOKUP(D59,'Impact value reference table'!$B$3:$G$216,2,FALSE) -> 8 | G59: =(F59/(1000/$C$54))/100*E59 -> 0.093690696 | H59: =VLOOKUP(D59,'Impact value reference table'!$B$3:$G$216,3,FALSE) -> 6.42 | I59: =(H59/(1000/$C$54))/100*E59 -> 0.075186784 | J59: =VLOOKUP(D59,'Impact value reference table'!$B$3:$G$216,4,FALSE) -> 66.49 | K59: =(J59/(1000/$C$54))/100*E59 -> 0.7786868 | L59: =VLOOKUP(D59,'Impact value reference table'!$B$3:$G$216,5,FALSE) -> 31.55 | M59: =(L59/(1000/$C$54))/100*E59 -> 0.36949268 | N59: =VLOOKUP(D59,'Impact value reference table'!$B$3:$G$216,6,FALSE) -> 429.36 | O59: =(N59/(1000/$C$54))/100*E59 -> 5.0283797 | P59: =VLOOKUP(D59,'Impact value reference table'!$B$3:$G$216,7,FALSE) -> #REF! | Q59: =(P59/(1000/$C$54))/100*E59 -> #REF!
A60: S#267 | B60: 7 | D60: =VLOOKUP($A60,'Food full composition_all'!$A$3:$AU$33,5+($B60*2),0) -> Fish meal, unspecified | E60: =VLOOKUP($A60,'Food full composition_all'!$A$3:$AU$33,6+($B60*2),0) -> 3.3 | F60: =VLOOKUP(D60,'Impact value reference table'!$B$3:$G$216,2,FALSE) -> 8.56 | G60: =(F60/(1000/$C$54))/100*E60 -> 0.10024904 | H60: =VLOOKUP(D60,'Impact value reference table'!$B$3:$G$216,3,FALSE) -> 13.88 | I60: =(H60/(1000/$C$54))/100*E60 -> 0.16255336 | J60: =VLOOKUP(D60,'Impact value reference table'!$B$3:$G$216,4,FALSE) -> 67.09 | K60: =(J60/(1000/$C$54))/100*E60 -> 0.7857136 | L60: =VLOOKUP(D60,'Impact value reference table'!$B$3:$G$216,5,FALSE) -> 238.28 | M60: =(L60/(1000/$C$54))/100*E60 -> 2.7905774 | N60: =VLOOKUP(D60,'Impact value reference table'!$B$3:$G$216,6,FALSE) -> 3745.45 | O60: =(N60/(1000/$C$54))/100*E60 -> 43.864227 | P60: =VLOOKUP(D60,'Impact value reference table'!$B$3:$G$216,7,FALSE) -> #REF! | Q60: =(P60/(1000/$C$54))/100*E60 -> #REF!
A61: S#267 | B61: 8 | D61: =VLOOKUP($A61,'Food full composition_all'!$A$3:$AU$33,5+($B61*2),0) -> Brewer's yeast, unspecified | E61: =VLOOKUP($A61,'Food full composition_all'!$A$3:$AU$33,6+($B61*2),0) -> 1.2 | F61: =VLOOKUP(D61,'Impact value reference table'!$B$3:$G$216,2,FALSE) -> 0 | G61: =(F61/(1000/$C$54))/100*E61 -> 0 | H61: =VLOOKUP(D61,'Impact value reference table'!$B$3:$G$216,3,FALSE) -> 0 | I61: =(H61/(1000/$C$54))/100*E61 -> 0 | J61: =VLOOKUP(D61,'Impact value reference table'!$B$3:$G$216,4,FALSE) -> 0 | K61: =(J61/(1000/$C$54))/100*E61 -> 0 | L61: =VLOOKUP(D61,'Impact value reference table'!$B$3:$G$216,5,FALSE) -> 0 | M61: =(L61/(1000/$C$54))/100*E61 -> 0 | N61: =VLOOKUP(D61,'Impact value reference table'!$B$3:$G$216,6,FALSE) -> 0 | O61: =(N61/(1000/$C$54))/100*E61 -> 0 | P61: =VLOOKUP(D61,'Impact value reference table'!$B$3:$G$216,7,FALSE) -> #REF! | Q61: =(P61/(1000/$C$54))/100*E61 -> #REF!
A62: S#267 | B62: 9 | D62: =VLOOKUP($A62,'Food full composition_all'!$A$3:$AU$33,5+($B62*2),0) -> Krill | E62: =VLOOKUP($A62,'Food full composition_all'!$A$3:$AU$33,6+($B62*2),0) -> 0 | F62: =VLOOKUP(D62,'Impact value reference table'!$B$3:$G$216,2,FALSE) -> #N/A | G62: =(F62/(1000/$C$54))/100*E62 -> #N/A | H62: =VLOOKUP(D62,'Impact value reference table'!$B$3:$G$216,3,FALSE) -> #N/A | I62: =(H62/(1000/$C$54))/100*E62 -> #N/A | J62: =VLOOKUP(D62,'Impact value reference table'!$B$3:$G$216,4,FALSE) -> #N/A | K62: =(J62/(1000/$C$54))/100*E62 -> #N/A | L62: =VLOOKUP(D62,'Impact value reference table'!$B$3:$G$216,5,FALSE) -> #N/A | M62: =(L62/(1000/$C$54))/100*E62 -> #N/A | N62: =VLOOKUP(D62,'Impact value reference table'!$B$3:$G$216,6,FALSE) -> #N/A | O62: =(N62/(1000/$C$54))/100*E62 -> #N/A | P62: =VLOOKUP(D62,'Impact value reference table'!$B$3:$G$216,7,FALSE) -> #N/A | Q62: =(P62/(1000/$C$54))/100*E62 -> #N/A
A63: S#267 | B63: 10 | D63: =VLOOKUP($A63,'Food full composition_all'!$A$3:$AU$33,5+($B63*2),0) -> Flaxseed, unspecified | E63: =VLOOKUP($A63,'Food full composition_all'!$A$3:$AU$33,6+($B63*2),0) -> 0.3775 | F63: =VLOOKUP(D63,'Impact value reference table'!$B$3:$G$216,2,FALSE) -> 3.55 | G63: =(F63/(1000/$C$54))/100*E63 -> 0.0047559562 | H63: =VLOOKUP(D63,'Impact value reference table'!$B$3:$G$216,3,FALSE) -> 0.39 | I63: =(H63/(1000/$C$54))/100*E63 -> 0.00052248533 | J63: =VLOOKUP(D63,'Impact value reference table'!$B$3:$G$216,4,FALSE) -> 4.86 | K63: =(J63/(1000/$C$54))/100*E63 -> 0.006510971 | L63: =VLOOKUP(D63,'Impact value reference table'!$B$3:$G$216,5,FALSE) -> 3.89 | M63: =(L63/(1000/$C$54))/100*E63 -> 0.0052114562 | N63: =VLOOKUP(D63,'Impact value reference table'!$B$3:$G$216,6,FALSE) -> 99.24 | O63: =(N63/(1000/$C$54))/100*E63 -> 0.13295242 | P63: =VLOOKUP(D63,'Impact value reference table'!$B$3:$G$216,7,FALSE) -> #REF! | Q63: =(P63/(1000/$C$54))/100*E63 -> #REF!
A64: S#267 | B64: 11 | D64: =VLOOKUP($A64,'Food full composition_all'!$A$3:$AU$33,5+($B64*2),0) -> Minerals | E64: =VLOOKUP($A64,'Food full composition_all'!$A$3:$AU$33,6+($B64*2),0) -> 0 | F64: =VLOOKUP(D64,'Impact value reference table'!$B$3:$G$216,2,FALSE) -> #N/A | G64: =(F64/(1000/$C$54))/100*E64 -> #N/A | H64: =VLOOKUP(D64,'Impact value reference table'!$B$3:$G$216,3,FALSE) -> #N/A | I64: =(H64/(1000/$C$54))/100*E64 -> #N/A | J64: =VLOOKUP(D64,'Impact value reference table'!$B$3:$G$216,4,FALSE) -> #N/A | K64: =(J64/(1000/$C$54))/100*E64 -> #N/A | L64: =VLOOKUP(D64,'Impact value reference table'!$B$3:$G$216,5,FALSE) -> #N/A | M64: =(L64/(1000/$C$54))/100*E64 -> #N/A | N64: =VLOOKUP(D64,'Impact value reference table'!$B$3:$G$216,6,FALSE) -> #N/A | O64: =(N64/(1000/$C$54))/100*E64 -> #N/A | P64: =VLOOKUP(D64,'Impact value reference table'!$B$3:$G$216,7,FALSE) -> #N/A | Q64: =(P64/(1000/$C$54))/100*E64 -> #N/A
A65: S#267 | B65: 12 | D65: =VLOOKUP($A65,'Food full composition_all'!$A$3:$AU$33,5+($B65*2),0) -> Prebiotic FOS | E65: =VLOOKUP($A65,'Food full composition_all'!$A$3:$AU$33,6+($B65*2),0) -> 0 | F65: =VLOOKUP(D65,'Impact value reference table'!$B$3:$G$216,2,FALSE) -> #N/A | G65: =(F65/(1000/$C$54))/100*E65 -> #N/A | H65: =VLOOKUP(D65,'Impact value reference table'!$B$3:$G$216,3,FALSE) -> #N/A | I65: =(H65/(1000/$C$54))/100*E65 -> #N/A | J65: =VLOOKUP(D65,'Impact value reference table'!$B$3:$G$216,4,FALSE) -> #N/A | K65: =(J65/(1000/$C$54))/100*E65 -> #N/A | L65: =VLOOKUP(D65,'Impact value reference table'!$B$3:$G$216,5,FALSE) -> #N/A | M65: =(L65/(1000/$C$54))/100*E65 -> #N/A | N65: =VLOOKUP(D65,'Impact value reference table'!$B$3:$G$216,6,FALSE) -> #N/A | O65: =(N65/(1000/$C$54))/100*E65 -> #N/A | P65: =VLOOKUP(D65,'Impact value reference table'!$B$3:$G$216,7,FALSE) -> #N/A | Q65: =(P65/(1000/$C$54))/100*E65 -> #N/A
A66: S#267 | B66: 13 | D66: =VLOOKUP($A66,'Food full composition_all'!$A$3:$AU$33,5+($B66*2),0) -> Prebiotic MOS | E66: =VLOOKUP($A66,'Food full composition_all'!$A$3:$AU$33,6+($B66*2),0) -> 0 | F66: =VLOOKUP(D66,'Impact value reference table'!$B$3:$G$216,2,FALSE) -> #N/A | G66: =(F66/(1000/$C$54))/100*E66 -> #N/A | H66: =VLOOKUP(D66,'Impact value reference table'!$B$3:$G$216,3,FALSE) -> #N/A | I66: =(H66/(1000/$C$54))/100*E66 -> #N/A | J66: =VLOOKUP(D66,'Impact value reference table'!$B$3:$G$216,4,FALSE) -> #N/A | K66: =(J66/(1000/$C$54))/100*E66 -> #N/A | L66: =VLOOKUP(D66,'Impact value reference table'!$B$3:$G$216,5,FALSE) -> #N/A | M66: =(L66/(1000/$C$54))/100*E66 -> #N/A | N66: =VLOOKUP(D66,'Impact value reference table'!$B$3:$G$216,6,FALSE) -> #N/A | O66: =(N66/(1000/$C$54))/100*E66 -> #N/A | P66: =VLOOKUP(D66,'Impact value reference table'!$B$3:$G$216,7,FALSE) -> #N/A | Q66: =(P66/(1000/$C$54))/100*E66 -> #N/A
... A73: S#267 | B73: 20 | D73: =VLOOKUP($A73,'Food full composition_all'!$A$3:$AU$33,5+($B73*2),0) -> 0 | E73: =VLOOKUP($A73,'Food full composition_all'!$A$3:$AU$33,6+($B73*2),0) -> 0 | F73: =VLOOKUP(D73,'Impact value reference table'!$B$3:$G$216,2,FALSE) -> #N/A | G73: =(F73/(1000/$C$54))/100*E73 -> #N/A | H73: =VLOOKUP(D73,'Impact value reference table'!$B$3:$G$216,3,FALSE) -> #N/A | I73: =(H73/(1000/$C$54))/100*E73 -> #N/A | J73: =VLOOKUP(D73,'Impact value reference table'!$B$3:$G$216,4,FALSE) -> #N/A | K73: =(J73/(1000/$C$54))/100*E73 -> #N/A | L73: =VLOOKUP(D73,'Impact value reference table'!$B$3:$G$216,5,FALSE) -> #N/A | M73: =(L73/(1000/$C$54))/100*E73 -> #N/A | N73: =VLOOKUP(D73,'Impact value reference table'!$B$3:$G$216,6,FALSE) -> #N/A | O73: =(N73/(1000/$C$54))/100*E73 -> #N/A | P73: =VLOOKUP(D73,'Impact value reference table'!$B$3:$G$216,7,FALSE) -> #N/A | Q73: =(P73/(1000/$C$54))/100*E73 -> #N/A
A74: S#268 | B74: 1 | C74: 348.739 | D74: =VLOOKUP($A74,'Food full composition_all'!$A$3:$AU$33,5+($B74*2),0) -> Corn gluten meal 21, unspecified | E74: =VLOOKUP($A74,'Food full composition_all'!$A$3:$AU$33,6+($B74*2),0) -> 17 | F74: =VLOOKUP(D74,'Impact value reference table'!$B$3:$G$216,2,FALSE) -> 0.7 | G74: =(F74/(1000/$C$74))/100*E74 -> 0.041499941 | H74: =VLOOKUP(D74,'Impact value reference table'!$B$3:$G$216,3,FALSE) -> 0.4 | I74: =(H74/(1000/$C$74))/100*E74 -> 0.023714252 | J74: =VLOOKUP(D74,'Impact value reference table'!$B$3:$G$216,4,FALSE) -> 2.6 | K74: =(J74/(1000/$C$74))/100*E74 -> 0.15414264 | L74: =VLOOKUP(D74,'Impact value reference table'!$B$3:$G$216,5,FALSE) -> 0.9 | M74: =(L74/(1000/$C$74))/100*E74 -> 0.053357067 | N74: =VLOOKUP(D74,'Impact value reference table'!$B$3:$G$216,6,FALSE) -> 48 | O74: =(N74/(1000/$C$74))/100*E74 -> 2.8457102 | P74: =VLOOKUP(D74,'Impact value reference table'!$B$3:$G$216,7,FALSE) -> #REF! | Q74: =(P74/(1000/$C$74))/100*E74 -> #REF!
A75: S#268 | B75: 2 | D75: =VLOOKUP($A75,'Food full composition_all'!$A$3:$AU$33,5+($B75*2),0) -> Corn gluten meal 21, unspecified | E75: =VLOOKUP($A75,'Food full composition_all'!$A$3:$AU$33,6+($B75*2),0) -> 18.7 | F75: =VLOOKUP(D75,'Impact value reference table'!$B$3:$G$216,2,FALSE) -> 0.7 | G75: =(F75/(1000/$C$74))/100*E75 -> 0.045649935 | H75: =VLOOKUP(D75,'Impact value reference table'!$B$3:$G$216,3,FALSE) -> 0.4 | I75: =(H75/(1000/$C$74))/100*E75 -> 0.026085677 | J75: =VLOOKUP(D75,'Impact value reference table'!$B$3:$G$216,4,FALSE) -> 2.6 | K75: =(J75/(1000/$C$74))/100*E75 -> 0.1695569 | L75: =VLOOKUP(D75,'Impact value reference table'!$B$3:$G$216,5,FALSE) -> 0.9 | M75: =(L75/(1000/$C$74))/100*E75 -> 0.058692774 | N75: =VLOOKUP(D75,'Impact value reference table'!$B$3:$G$216,6,FALSE) -> 48 | O75: =(N75/(1000/$C$74))/100*E75 -> 3.1302813 | P75: =VLOOKUP(D75,'Impact value reference table'!$B$3:$G$216,7,FALSE) -> #REF! | Q75: =(P75/(1000/$C$74))/100*E75 -> #REF!
A76: S#268 | B76: 3 | D76: =VLOOKUP($A76,'Food full composition_all'!$A$3:$AU$33,5+($B76*2),0) -> Barley, unspecified | E76: =VLOOKUP($A76,'Food full composition_all'!$A$3:$AU$33,6+($B76*2),0) -> 7.2 | F76: =VLOOKUP(D76,'Impact value reference table'!$B$3:$G$216,2,FALSE) -> 0.2 | G76: =(F76/(1000/$C$74))/100*E76 -> 0.0050218416 | H76: =VLOOKUP(D76,'Impact value reference table'!$B$3:$G$216,3,FALSE) -> 0.22 | I76: =(H76/(1000/$C$74))/100*E76 -> 0.0055240258 | J76: =VLOOKUP(D76,'Impact value reference table'!$B$3:$G$216,4,FALSE) -> 0.24 | K76: =(J76/(1000/$C$74))/100*E76 -> 0.0060262099 | L76: =VLOOKUP(D76,'Impact value reference table'!$B$3:$G$216,5,FALSE) -> 0.09 | M76: =(L76/(1000/$C$74))/100*E76 -> 0.0022598287 | N76: =VLOOKUP(D76,'Impact value reference table'!$B$3:$G$216,6,FALSE) -> 0.55 | O76: =(N76/(1000/$C$74))/100*E76 -> 0.013810064 | P76: =VLOOKUP(D76,'Impact value reference table'!$B$3:$G$216,7,FALSE) -> #REF! | Q76: =(P76/(1000/$C$74))/100*E76 -> #REF!
A77: S#268 | B77: 4 | D77: =VLOOKUP($A77,'Food full composition_all'!$A$3:$AU$33,5+($B77*2),0) -> Poultry fat, unspecified | E77: =VLOOKUP($A77,'Food full composition_all'!$A$3:$AU$33,6+($B77*2),0) -> 5.8 | F77: =VLOOKUP(D77,'Impact value reference table'!$B$3:$G$216,2,FALSE) -> 0 | G77: =(F77/(1000/$C$74))/100*E77 -> 0 | H77: =VLOOKUP(D77,'Impact value reference table'!$B$3:$G$216,3,FALSE) -> 0 | I77: =(H77/(1000/$C$74))/100*E77 -> 0 | J77: =VLOOKUP(D77,'Impact value reference table'!$B$3:$G$216,4,FALSE) -> 0 | K77: =(J77/(1000/$C$74))/100*E77 -> 0 | L77: =VLOOKUP(D77,'Impact value reference table'!$B$3:$G$216,5,FALSE) -> 0 | M77: =(L77/(1000/$C$74))/100*E77 -> 0 | N77: =VLOOKUP(D77,'Impact value reference table'!$B$3:$G$216,6,FALSE) -> 0 | O77: =(N77/(1000/$C$74))/100*E77 -> 0 | P77: =VLOOKUP(D77,'Impact value reference table'!$B$3:$G$216,7,FALSE) -> #REF! | Q77: =(P77/(1000/$C$74))/100*E77 -> #REF!
A78: S#268 | B78: 5 | D78: =VLOOKUP($A78,'Food full composition_all'!$A$3:$AU$33,5+($B78*2),0) -> Chicken meat, raw | E78: =VLOOKUP($A78,'Food full composition_all'!$A$3:$AU$33,6+($B78*2),0) -> 4.8 | F78: =VLOOKUP(D78,'Impact value reference table'!$B$3:$G$216,2,FALSE) -> 8 | G78: =(F78/(1000/$C$74))/100*E78 -> 0.13391578 | H78: =VLOOKUP(D78,'Impact value reference table'!$B$3:$G$216,3,FALSE) -> 6.42 | I78: =(H78/(1000/$C$74))/100*E78 -> 0.10746741 | J78: =VLOOKUP(D78,'Impact value reference table'!$B$3:$G$216,4,FALSE) -> 66.49 | K78: =(J78/(1000/$C$74))/100*E78 -> 1.1130075 | L78: =VLOOKUP(D78,'Impact value reference table'!$B$3:$G$216,5,FALSE) -> 31.55 | M78: =(L78/(1000/$C$74))/100*E78 -> 0.52813034 | N78: =VLOOKUP(D78,'Impact value reference table'!$B$3:$G$216,6,FALSE) -> 429.36 | O78: =(N78/(1000/$C$74))/100*E78 -> 7.1872597 | P78: =VLOOKUP(D78,'Impact value reference table'!$B$3:$G$216,7,FALSE) -> #REF! | Q78: =(P78/(1000/$C$74))/100*E78 -> #REF!
A79: S#268 | B79: 6 | D79: =VLOOKUP($A79,'Food full composition_all'!$A$3:$AU$33,5+($B79*2),0) -> Sorghum, unspecified | E79: =VLOOKUP($A79,'Food full composition_all'!$A$3:$AU$33,6+($B79*2),0) -> 3.3 | F79: =VLOOKUP(D79,'Impact value reference table'!$B$3:$G$216,2,FALSE) -> 2.25 | G79: =(F79/(1000/$C$74))/100*E79 -> 0.025893871 | H79: =VLOOKUP(D79,'Impact value reference table'!$B$3:$G$216,3,FALSE) -> 0.25 | I79: =(H79/(1000/$C$74))/100*E79 -> 0.0028770967 | J79: =VLOOKUP(D79,'Impact value reference table'!$B$3:$G$216,4,FALSE) -> 3.08 | K79: =(J79/(1000/$C$74))/100*E79 -> 0.035445832 | L79: =VLOOKUP(D79,'Impact value reference table'!$B$3:$G$216,5,FALSE) -> 2.47 | M79: =(L79/(1000/$C$74))/100*E79 -> 0.028425716 | N79: =VLOOKUP(D79,'Impact value reference table'!$B$3:$G$216,6,FALSE) -> 62.9 | O79: =(N79/(1000/$C$74))/100*E79 -> 0.72387754 | P79: =VLOOKUP(D79,'Impact value reference table'!$B$3:$G$216,7,FALSE) -> #REF! | Q79: =(P79/(1000/$C$74))/100*E79 -> #REF!
A80: S#268 | B80: 7 | D80: =VLOOKUP($A80,'Food full composition_all'!$A$3:$AU$33,5+($B80*2),0) -> Beet pulp, unspecified | E80: =VLOOKUP($A80,'Food full composition_all'!$A$3:$AU$33,6+($B80*2),0) -> 2.9 | F80: =VLOOKUP(D80,'Impact value reference table'!$B$3:$G$216,2,FALSE) -> 0.13 | G80: =(F80/(1000/$C$74))/100*E80 -> 0.001314746 | H80: =VLOOKUP(D80,'Impact value reference table'!$B$3:$G$216,3,FALSE) -> 0.17 | I80: =(H80/(1000/$C$74))/100*E80 -> 0.0017192833 | J80: =VLOOKUP(D80,'Impact value reference table'!$B$3:$G$216,4,FALSE) -> 1.25 | K80: =(J80/(1000/$C$74))/100*E80 -> 0.012641789 | L80: =VLOOKUP(D80,'Impact value reference table'!$B$3:$G$216,5,FALSE) -> 0.69 | M80: =(L80/(1000/$C$74))/100*E80 -> 0.0069782674 | N80: =VLOOKUP(D80,'Impact value reference table'!$B$3:$G$216,6,FALSE) -> 12.09 | O80: =(N80/(1000/$C$74))/100*E80 -> 0.12227138 | P80: =VLOOKUP(D80,'Impact value reference table'!$B$3:$G$216,7,FALSE) -> #REF! | Q80: =(P80/(1000/$C$74))/100*E80 -> #REF!
A81: S#268 | B81: 8 | D81: =VLOOKUP($A81,'Food full composition_all'!$A$3:$AU$33,5+($B81*2),0) -> Poultry fat, unspecified | E81: =VLOOKUP($A81,'Food full composition_all'!$A$3:$AU$33,6+($B81*2),0) -> 1.2 | F81: =VLOOKUP(D81,'Impact value reference table'!$B$3:$G$216,2,FALSE) -> 0 | G81: =(F81/(1000/$C$74))/100*E81 -> 0 | H81: =VLOOKUP(D81,'Impact value reference table'!$B$3:$G$216,3,FALSE) -> 0 | I81: =(H81/(1000/$C$74))/100*E81 -> 0 | J81: =VLOOKUP(D81,'Impact value reference table'!$B$3:$G$216,4,FALSE) -> 0 | K81: =(J81/(1000/$C$74))/100*E81 -> 0 | L81: =VLOOKUP(D81,'Impact value reference table'!$B$3:$G$216,5,FALSE) -> 0 | M81: =(L81/(1000/$C$74))/100*E81 -> 0 | N81: =VLOOKUP(D81,'Impact value reference table'!$B$3:$G$216,6,FALSE) -> 0 | O81: =(N81/(1000/$C$74))/100*E81 -> 0 | P81: =VLOOKUP(D81,'Impact value reference table'!$B$3:$G$216,7,FALSE) -> #REF! | Q81: =(P81/(1000/$C$74))/100*E81 -> #REF!
A82: S#268 | B82: 9 | D82: =VLOOKUP($A82,'Food full composition_all'!$A$3:$AU$33,5+($B82*2),0) -> Minerals | E82: =VLOOKUP($A82,'Food full composition_all'!$A$3:$AU$33,6+($B82*2),0) -> 0 | F82: =VLOOKUP(D82,'Impact value reference table'!$B$3:$G$216,2,FALSE) -> #N/A | G82: =(F82/(1000/$C$74))/100*E82 -> #N/A | H82: =VLOOKUP(D82,'Impact value reference table'!$B$3:$G$216,3,FALSE) -> #N/A | I82: =(H82/(1000/$C$74))/100*E82 -> #N/A | J82: =VLOOKUP(D82,'Impact value reference table'!$B$3:$G$216,4,FALSE) -> #N/A | K82: =(J82/(1000/$C$74))/100*E82 -> #N/A | L82: =VLOOKUP(D82,'Impact value reference table'!$B$3:$G$216,5,FALSE) -> #N/A | M82: =(L82/(1000/$C$74))/100*E82 -> #N/A | N82: =VLOOKUP(D82,'Impact value reference table'!$B$3:$G$216,6,FALSE) -> #N/A | O82: =(N82/(1000/$C$74))/100*E82 -> #N/A | P82: =VLOOKUP(D82,'Impact value reference table'!$B$3:$G$216,7,FALSE) -> #N/A | Q82: =(P82/(1000/$C$74))/100*E82 -> #N/A
A83: S#268 | B83: 10 | D83: =VLOOKUP($A83,'Food full composition_all'!$A$3:$AU$33,5+($B83*2),0) -> Fructooligosaccharides | E83: =VLOOKUP($A83,'Food full composition_all'!$A$3:$AU$33,6+($B83*2),0) -> 0 | F83: =VLOOKUP(D83,'Impact value reference table'!$B$3:$G$216,2,FALSE) -> #N/A | G83: =(F83/(1000/$C$74))/100*E83 -> #N/A | H83: =VLOOKUP(D83,'Impact value reference table'!$B$3:$G$216,3,FALSE) -> #N/A | I83: =(H83/(1000/$C$74))/100*E83 -> #N/A | J83: =VLOOKUP(D83,'Impact value reference table'!$B$3:$G$216,4,FALSE) -> #N/A | K83: =(J83/(1000/$C$74))/100*E83 -> #N/A | L83: =VLOOKUP(D83,'Impact value reference table'!$B$3:$G$216,5,FALSE) -> #N/A | M83: =(L83/(1000/$C$74))/100*E83 -> #N/A | N83: =VLOOKUP(D83,'Impact value reference table'!$B$3:$G$216,6,FALSE) -> #N/A | O83: =(N83/(1000/$C$74))/100*E83 -> #N/A | P83: =VLOOKUP(D83,'Impact value reference table'!$B$3:$G$216,7,FALSE) -> #N/A | Q83: =(P83/(1000/$C$74))/100*E83 -> #N/A
A84: S#268 | B84: 11 | D84: =VLOOKUP($A84,'Food full composition_all'!$A$3:$AU$33,5+($B84*2),0) -> Brewer's yeast, unspecified | E84: =VLOOKUP($A84,'Food full composition_all'!$A$3:$AU$33,6+($B84*2),0) -> 0.6025 | F84: =VLOOKUP(D84,'Impact value reference table'!$B$3:$G$216,2,FALSE) -> 0 | G84: =(F84/(1000/$C$74))/100*E84 -> 0 | H84: =VLOOKUP(D84,'Impact value reference table'!$B$3:$G$216,3,FALSE) -> 0 | I84: =(H84/(1000/$C$74))/100*E84 -> 0 | J84: =VLOOKUP(D84,'Impact value reference table'!$B$3:$G$216,4,FALSE) -> 0 | K84: =(J84/(1000/$C$74))/100*E84 -> 0 | L84: =VLOOKUP(D84,'Impact value reference table'!$B$3:$G$216,5,FALSE) -> 0 | M84: =(L84/(1000/$C$74))/100*E84 -> 0 | N84: =VLOOKUP(D84,'Impact value reference table'!$B$3:$G$216,6,FALSE) -> 0 | O84: =(N84/(1000/$C$74))/100*E84 -> 0 | P84: =VLOOKUP(D84,'Impact value reference table'!$B$3:$G$216,7,FALSE) -> #REF! | Q84: =(P84/(1000/$C$74))/100*E84 -> #REF!
A85: S#268 | B85: 12 | D85: =VLOOKUP($A85,'Food full composition_all'!$A$3:$AU$33,5+($B85*2),0) -> 0 | E85: =VLOOKUP($A85,'Food full composition_all'!$A$3:$AU$33,6+($B85*2),0) -> 0 | F85: =VLOOKUP(D85,'Impact value reference table'!$B$3:$G$216,2,FALSE) -> #N/A | G85: =(F85/(1000/$C$74))/100*E85 -> #N/A | H85: =VLOOKUP(D85,'Impact value reference table'!$B$3:$G$216,3,FALSE) -> #N/A | I85: =(H85/(1000/$C$74))/100*E85 -> #N/A | J85: =VLOOKUP(D85,'Impact value reference table'!$B$3:$G$216,4,FALSE) -> #N/A | K85: =(J85/(1000/$C$74))/100*E85 -> #N/A | L85: =VLOOKUP(D85,'Impact value reference table'!$B$3:$G$216,5,FALSE) -> #N/A | M85: =(L85/(1000/$C$74))/100*E85 -> #N/A | N85: =VLOOKUP(D85,'Impact value reference table'!$B$3:$G$216,6,FALSE) -> #N/A | O85: =(N85/(1000/$C$74))/100*E85 -> #N/A | P85: =VLOOKUP(D85,'Impact value reference table'!$B$3:$G$216,7,FALSE) -> #N/A | Q85: =(P85/(1000/$C$74))/100*E85 -> #N/A
A86: S#269 | B86: 1 | C86: 349.889 | D86: =VLOOKUP($A86,'Food full composition_all'!$A$3:$AU$33,5+($B86*2),0) -> Wheat gluten, unspecified | E86: =VLOOKUP($A86,'Food full composition_all'!$A$3:$AU$33,6+($B86*2),0) -> 17 | F86: =VLOOKUP(D86,'Impact value reference table'!$B$3:$G$216,2,FALSE) -> 0.6 | G86: =(F86/(1000/$C$86))/100*E86 -> 0.035688678 | H86: =VLOOKUP(D86,'Impact value reference table'!$B$3:$G$216,3,FALSE) -> 1.4 | I86: =(H86/(1000/$C$86))/100*E86 -> 0.083273582 | J86: =VLOOKUP(D86,'Impact value reference table'!$B$3:$G$216,4,FALSE) -> 5 | K86: =(J86/(1000/$C$86))/100*E86 -> 0.29740565 | L86: =VLOOKUP(D86,'Impact value reference table'!$B$3:$G$216,5,FALSE) -> 2.7 | M86: =(L86/(1000/$C$86))/100*E86 -> 0.16059905 | N86: =VLOOKUP(D86,'Impact value reference table'!$B$3:$G$216,6,FALSE) -> 242 | O86: =(N86/(1000/$C$86))/100*E86 -> 14.394433 | P86: =VLOOKUP(D86,'Impact value reference table'!$B$3:$G$216,7,FALSE) -> #REF! | Q86: =(P86/(1000/$C$86))/100*E86 -> #REF!
A87: S#269 | B87: 2 | D87: =VLOOKUP($A87,'Food full composition_all'!$A$3:$AU$33,5+($B87*2),0) -> Poultry by-product meal, unspecified | E87: =VLOOKUP($A87,'Food full composition_all'!$A$3:$AU$33,6+($B87*2),0) -> 18.7 | F87: =VLOOKUP(D87,'Impact value reference table'!$B$3:$G$216,2,FALSE) -> 14.04 | G87: =(F87/(1000/$C$86))/100*E87 -> 0.91862657 | H87: =VLOOKUP(D87,'Impact value reference table'!$B$3:$G$216,3,FALSE) -> 11.27 | I87: =(H87/(1000/$C$86))/100*E87 -> 0.73738757 | J87: =VLOOKUP(D87,'Impact value reference table'!$B$3:$G$216,4,FALSE) -> 116.64 | K87: =(J87/(1000/$C$86))/100*E87 -> 7.6316669 | L87: =VLOOKUP(D87,'Impact value reference table'!$B$3:$G$216,5,FALSE) -> 55.35 | M87: =(L87/(1000/$C$86))/100*E87 -> 3.6215086 | N87: =VLOOKUP(D87,'Impact value reference table'!$B$3:$G$216,6,FALSE) -> 753.21 | O87: =(N87/(1000/$C$86))/100*E87 -> 49.28196 | P87: =VLOOKUP(D87,'Impact value reference table'!$B$3:$G$216,7,FALSE) -> #REF! | Q87: =(P87/(1000/$C$86))/100*E87 -> #REF!
A88: S#269 | B88: 3 | D88: =VLOOKUP($A88,'Food full composition_all'!$A$3:$AU$33,5+($B88*2),0) -> Corn gluten meal 21, unspecified | E88: =VLOOKUP($A88,'Food full composition_all'!$A$3:$AU$33,6+($B88*2),0) -> 7.2 | F88: =VLOOKUP(D88,'Impact value reference table'!$B$3:$G$216,2,FALSE) -> 0.7 | G88: =(F88/(1000/$C$86))/100*E88 -> 0.017634406 | H88: =VLOOKUP(D88,'Impact value reference table'!$B$3:$G$216,3,FALSE) -> 0.4 | I88: =(H88/(1000/$C$86))/100*E88 -> 0.010076803 | J88: =VLOOKUP(D88,'Impact value reference table'!$B$3:$G$216,4,FALSE) -> 2.6 | K88: =(J88/(1000/$C$86))/100*E88 -> 0.065499221 | L88: =VLOOKUP(D88,'Impact value reference table'!$B$3:$G$216,5,FALSE) -> 0.9 | M88: =(L88/(1000/$C$86))/100*E88 -> 0.022672807 | N88: =VLOOKUP(D88,'Impact value reference table'!$B$3:$G$216,6,FALSE) -> 48 | O88: =(N88/(1000/$C$86))/100*E88 -> 1.2092164 | P88: =VLOOKUP(D88,'Impact value reference table'!$B$3:$G$216,7,FALSE) -> #REF! | Q88: =(P88/(1000/$C$86))/100*E88 -> #REF!
A89: S#269 | B89: 4 | D89: =VLOOKUP($A89,'Food full composition_all'!$A$3:$AU$33,5+($B89*2),0) -> White rice, cooked | E89: =VLOOKUP($A89,'Food full composition_all'!$A$3:$AU$33,6+($B89*2),0) -> 9 | F89: =VLOOKUP(D89,'Impact value reference table'!$B$3:$G$216,2,FALSE) -> 0.8 | G89: =(F89/(1000/$C$86))/100*E89 -> 0.025192008 | H89: =VLOOKUP(D89,'Impact value reference table'!$B$3:$G$216,3,FALSE) -> 1.2 | I89: =(H89/(1000/$C$86))/100*E89 -> 0.037788012 | J89: =VLOOKUP(D89,'Impact value reference table'!$B$3:$G$216,4,FALSE) -> 7.4 | K89: =(J89/(1000/$C$86))/100*E89 -> 0.23302607 | L89: =VLOOKUP(D89,'Impact value reference table'!$B$3:$G$216,5,FALSE) -> 10 | M89: =(L89/(1000/$C$86))/100*E89 -> 0.3149001 | N89: =VLOOKUP(D89,'Impact value reference table'!$B$3:$G$216,6,FALSE) -> 610 | O89: =(N89/(1000/$C$86))/100*E89 -> 19.208906 | P89: =VLOOKUP(D89,'Impact value reference table'!$B$3:$G$216,7,FALSE) -> #REF! | Q89: =(P89/(1000/$C$86))/100*E89 -> #REF!
A90: S#269 | B90: 5 | D90: =VLOOKUP($A90,'Food full composition_all'!$A$3:$AU$33,5+($B90*2),0) -> Poultry fat, unspecified | E90: =VLOOKUP($A90,'Food full composition_all'!$A$3:$AU$33,6+($B90*2),0) -> 4.3 | F90: =VLOOKUP(D90,'Impact value reference table'!$B$3:$G$216,2,FALSE) -> 0 | G90: =(F90/(1000/$C$86))/100*E90 -> 0 | H90: =VLOOKUP(D90,'Impact value reference table'!$B$3:$G$216,3,FALSE) -> 0 | I90: =(H90/(1000/$C$86))/100*E90 -> 0 | J90: =VLOOKUP(D90,'Impact value reference table'!$B$3:$G$216,4,FALSE) -> 0 | K90: =(J90/(1000/$C$86))/100*E90 -> 0 | L90: =VLOOKUP(D90,'Impact value reference table'!$B$3:$G$216,5,FALSE) -> 0 | M90: =(L90/(1000/$C$86))/100*E90 -> 0 | N90: =VLOOKUP(D90,'Impact value reference table'!$B$3:$G$216,6,FALSE) -> 0 | O90: =(N90/(1000/$C$86))/100*E90 -> 0 | P90: =VLOOKUP(D90,'Impact value reference table'!$B$3:$G$216,7,FALSE) -> #REF! | Q90: =(P90/(1000/$C$86))/100*E90 -> #REF!
A91: S#269 | B91: 6 | D91: =VLOOKUP($A91,'Food full composition_all'!$A$3:$AU$33,5+($B91*2),0) -> Beet pulp, unspecified | E91: =VLOOKUP($A91,'Food full composition_all'!$A$3:$AU$33,6+($B91*2),0) -> 3.3 | F91: =VLOOKUP(D91,'Impact value reference table'!$B$3:$G$216,2,FALSE) -> 0.13 | G91: =(F91/(1000/$C$86))/100*E91 -> 0.0015010238 | H91: =VLOOKUP(D91,'Impact value reference table'!$B$3:$G$216,3,FALSE) -> 0.17 | I91: =(H91/(1000/$C$86))/100*E91 -> 0.0019628773 | J91: =VLOOKUP(D91,'Impact value reference table'!$B$3:$G$216,4,FALSE) -> 1.25 | K91: =(J91/(1000/$C$86))/100*E91 -> 0.014432921 | L91: =VLOOKUP(D91,'Impact value reference table'!$B$3:$G$216,5,FALSE) -> 0.69 | M91: =(L91/(1000/$C$86))/100*E91 -> 0.0079669725 | N91: =VLOOKUP(D91,'Impact value reference table'!$B$3:$G$216,6,FALSE) -> 12.09 | O91: =(N91/(1000/$C$86))/100*E91 -> 0.13959521 | P91: =VLOOKUP(D91,'Impact value reference table'!$B$3:$G$216,7,FALSE) -> #REF! | Q91: =(P91/(1000/$C$86))/100*E91 -> #REF!
A92: S#269 | B92: 7 | D92: =VLOOKUP($A92,'Food full composition_all'!$A$3:$AU$33,5+($B92*2),0) -> Digest | E92: =VLOOKUP($A92,'Food full composition_all'!$A$3:$AU$33,6+($B92*2),0) -> 0 | F92: =VLOOKUP(D92,'Impact value reference table'!$B$3:$G$216,2,FALSE) -> #N/A | G92: =(F92/(1000/$C$86))/100*E92 -> #N/A | H92: =VLOOKUP(D92,'Impact value reference table'!$B$3:$G$216,3,FALSE) -> #N/A | I92: =(H92/(1000/$C$86))/100*E92 -> #N/A | J92: =VLOOKUP(D92,'Impact value reference table'!$B$3:$G$216,4,FALSE) -> #N/A | K92: =(J92/(1000/$C$86))/100*E92 -> #N/A | L92: =VLOOKUP(D92,'Impact value reference table'!$B$3:$G$216,5,FALSE) -> #N/A | M92: =(L92/(1000/$C$86))/100*E92 -> #N/A | N92: =VLOOKUP(D92,'Impact value reference table'!$B$3:$G$216,6,FALSE) -> #N/A | O92: =(N92/(1000/$C$86))/100*E92 -> #N/A | P92: =VLOOKUP(D92,'Impact value reference table'!$B$3:$G$216,7,FALSE) -> #N/A | Q92: =(P92/(1000/$C$86))/100*E92 -> #N/A
A93: S#269 | B93: 8 | D93: =VLOOKUP($A93,'Food full composition_all'!$A$3:$AU$33,5+($B93*2),0) -> Soy flour, unspecified | E93: =VLOOKUP($A93,'Food full composition_all'!$A$3:$AU$33,6+($B93*2),0) -> 1.2 | F93: =VLOOKUP(D93,'Impact value reference table'!$B$3:$G$216,2,FALSE) -> 10.66 | G93: =(F93/(1000/$C$86))/100*E93 -> 0.044757801 | H93: =VLOOKUP(D93,'Impact value reference table'!$B$3:$G$216,3,FALSE) -> 1.17 | I93: =(H93/(1000/$C$86))/100*E93 -> 0.0049124416 | J93: =VLOOKUP(D93,'Impact value reference table'!$B$3:$G$216,4,FALSE) -> 14.6 | K93: =(J93/(1000/$C$86))/100*E93 -> 0.061300553 | L93: =VLOOKUP(D93,'Impact value reference table'!$B$3:$G$216,5,FALSE) -> 11.68 | M93: =(L93/(1000/$C$86))/100*E93 -> 0.049040442 | N93: =VLOOKUP(D93,'Impact value reference table'!$B$3:$G$216,6,FALSE) -> 297.83 | O93: =(N93/(1000/$C$86))/100*E93 -> 1.2504893 | P93: =VLOOKUP(D93,'Impact value reference table'!$B$3:$G$216,7,FALSE) -> #REF! | Q93: =(P93/(1000/$C$86))/100*E93 -> #REF!
A94: S#269 | B94: 9 | D94: =VLOOKUP($A94,'Food full composition_all'!$A$3:$AU$33,5+($B94*2),0) -> Corn gluten meal 21, unspecified | E94: =VLOOKUP($A94,'Food full composition_all'!$A$3:$AU$33,6+($B94*2),0) -> 2 | F94: =VLOOKUP(D94,'Impact value reference table'!$B$3:$G$216,2,FALSE) -> 0.7 | G94: =(F94/(1000/$C$86))/100*E94 -> 0.004898446 | H94: =VLOOKUP(D94,'Impact value reference table'!$B$3:$G$216,3,FALSE) -> 0.4 | I94: =(H94/(1000/$C$86))/100*E94 -> 0.002799112 | J94: =VLOOKUP(D94,'Impact value reference table'!$B$3:$G$216,4,FALSE) -> 2.6 | K94: =(J94/(1000/$C$86))/100*E94 -> 0.018194228 | L94: =VLOOKUP(D94,'Impact value reference table'!$B$3:$G$216,5,FALSE) -> 0.9 | M94: =(L94/(1000/$C$86))/100*E94 -> 0.006298002 | N94: =VLOOKUP(D94,'Impact value reference table'!$B$3:$G$216,6,FALSE) -> 48 | O94: =(N94/(1000/$C$86))/100*E94 -> 0.33589344 | P94: =VLOOKUP(D94,'Impact value reference table'!$B$3:$G$216,7,FALSE) -> #REF! | Q94: =(P94/(1000/$C$86))/100*E94 -> #REF!
A95: S#269 | B95: 10 | D95: =VLOOKUP($A95,'Food full composition_all'!$A$3:$AU$33,5+($B95*2),0) -> Wheat gluten, unspecified | E95: =VLOOKUP($A95,'Food full composition_all'!$A$3:$AU$33,6+($B95*2),0) -> 0.3775 | F95: =VLOOKUP(D95,'Impact value reference table'!$B$3:$G$216,2,FALSE) -> 0.6 | G95: =(F95/(1000/$C$86))/100*E95 -> 0.00079249859 | H95: =VLOOKUP(D95,'Impact value reference table'!$B$3:$G$216,3,FALSE) -> 1.4 | I95: =(H95/(1000/$C$86))/100*E95 -> 0.0018491634 | J95: =VLOOKUP(D95,'Impact value reference table'!$B$3:$G$216,4,FALSE) -> 5 | K95: =(J95/(1000/$C$86))/100*E95 -> 0.0066041549 | L95: =VLOOKUP(D95,'Impact value reference table'!$B$3:$G$216,5,FALSE) -> 2.7 | M95: =(L95/(1000/$C$86))/100*E95 -> 0.0035662436 | N95: =VLOOKUP(D95,'Impact value reference table'!$B$3:$G$216,6,FALSE) -> 242 | O95: =(N95/(1000/$C$86))/100*E95 -> 0.3196411 | P95: =VLOOKUP(D95,'Impact value reference table'!$B$3:$G$216,7,FALSE) -> #REF! | Q95: =(P95/(1000/$C$86))/100*E95 -> #REF!
A96: S#269 | B96: 11 | D96: =VLOOKUP($A96,'Food full composition_all'!$A$3:$AU$33,5+($B96*2),0) -> Minerals | E96: =VLOOKUP($A96,'Food full composition_all'!$A$3:$AU$33,6+($B96*2),0) -> 0 | F96: =VLOOKUP(D96,'Impact value reference table'!$B$3:$G$216,2,FALSE) -> #N/A | G96: =(F96/(1000/$C$86))/100*E96 -> #N/A | H96: =VLOOKUP(D96,'Impact value reference table'!$B$3:$G$216,3,FALSE) -> #N/A | I96: =(H96/(1000/$C$86))/100*E96 -> #N/A | J96: =VLOOKUP(D96,'Impact value reference table'!$B$3:$G$216,4,FALSE) -> #N/A | K96: =(J96/(1000/$C$86))/100*E96 -> #N/A | L96: =VLOOKUP(D96,'Impact value reference table'!$B$3:$G$216,5,FALSE) -> #N/A | M96: =(L96/(1000/$C$86))/100*E96 -> #N/A | N96: =VLOOKUP(D96,'Impact value reference table'!$B$3:$G$216,6,FALSE) -> #N/A | O96: =(N96/(1000/$C$86))/100*E96 -> #N/A | P96: =VLOOKUP(D96,'Impact value reference table'!$B$3:$G$216,7,FALSE) -> #N/A | Q96: =(P96/(1000/$C$86))/100*E96 -> #N/A
A97: S#269 | B97: 12 | D97: =VLOOKUP($A97,'Food full composition_all'!$A$3:$AU$33,5+($B97*2),0) -> Egg powder, unspecified | E97: =VLOOKUP($A97,'Food full composition_all'!$A$3:$AU$33,6+($B97*2),0) -> 0.5 | F97: =VLOOKUP(D97,'Impact value reference table'!$B$3:$G$216,2,FALSE) -> 5.16 | G97: =(F97/(1000/$C$86))/100*E97 -> 0.0090271362 | H97: =VLOOKUP(D97,'Impact value reference table'!$B$3:$G$216,3,FALSE) -> 3.8 | I97: =(H97/(1000/$C$86))/100*E97 -> 0.006647891 | J97: =VLOOKUP(D97,'Impact value reference table'!$B$3:$G$216,4,FALSE) -> 43.42 | K97: =(J97/(1000/$C$86))/100*E97 -> 0.075960902 | L97: =VLOOKUP(D97,'Impact value reference table'!$B$3:$G$216,5,FALSE) -> 18.09 | M97: =(L97/(1000/$C$86))/100*E97 -> 0.03164746 | N97: =VLOOKUP(D97,'Impact value reference table'!$B$3:$G$216,6,FALSE) -> 471.26 | O97: =(N97/(1000/$C$86))/100*E97 -> 0.82444345 | P97: =VLOOKUP(D97,'Impact value reference table'!$B$3:$G$216,7,FALSE) -> #REF! | Q97: =(P97/(1000/$C$86))/100*E97 -> #REF!
A98: S#269 | B98: 13 | D98: =VLOOKUP($A98,'Food full composition_all'!$A$3:$AU$33,5+($B98*2),0) -> Fish oil, unspecified | E98: =VLOOKUP($A98,'Food full composition_all'!$A$3:$AU$33,6+($B98*2),0) -> 0.5 | F98: =VLOOKUP(D98,'Impact value reference table'!$B$3:$G$216,2,FALSE) -> 0 | G98: =(F98/(1000/$C$86))/100*E98 -> 0 | H98: =VLOOKUP(D98,'Impact value reference table'!$B$3:$G$216,3,FALSE) -> 0 | I98: =(H98/(1000/$C$86))/100*E98 -> 0 | J98: =VLOOKUP(D98,'Impact value reference table'!$B$3:$G$216,4,FALSE) -> 0 | K98: =(J98/(1000/$C$86))/100*E98 -> 0 | L98: =VLOOKUP(D98,'Impact value reference table'!$B$3:$G$216,5,FALSE) -> 0 | M98: =(L98/(1000/$C$86))/100*E98 -> 0 | N98: =VLOOKUP(D98,'Impact value reference table'!$B$3:$G$216,6,FALSE) -> 0 | O98: =(N98/(1000/$C$86))/100*E98 -> 0 | P98: =VLOOKUP(D98,'Impact value reference table'!$B$3:$G$216,7,FALSE) -> #REF! | Q98: =(P98/(1000/$C$86))/100*E98 -> #REF!
A99: S#269 | B99: 14 | D99: =VLOOKUP($A99,'Food full composition_all'!$A$3:$AU$33,5+($B99*2),0) -> 0 | E99: =VLOOKUP($A99,'Food full composition_all'!$A$3:$AU$33,6+($B99*2),0) -> 0 | F99: =VLOOKUP(D99,'Impact value reference table'!$B$3:$G$216,2,FALSE) -> #N/A | G99: =(F99/(1000/$C$86))/100*E99 -> #N/A | H99: =VLOOKUP(D99,'Impact value reference table'!$B$3:$G$216,3,FALSE) -> #N/A | I99: =(H99/(1000/$C$86))/100*E99 -> #N/A | J99: =VLOOKUP(D99,'Impact value reference table'!$B$3:$G$216,4,FALSE) -> #N/A | K99: =(J99/(1000/$C$86))/100*E99 -> #N/A | L99: =VLOOKUP(D99,'Impact value reference table'!$B$3:$G$216,5,FALSE) -> #N/A | M99: =(L99/(1000/$C$86))/100*E99 -> #N/A | N99: =VLOOKUP(D99,'Impact value reference table'!$B$3:$G$216,6,FALSE) -> #N/A | O99: =(N99/(1000/$C$86))/100*E99 -> #N/A | P99: =VLOOKUP(D99,'Impact value reference table'!$B$3:$G$216,7,FALSE) -> #N/A | Q99: =(P99/(1000/$C$86))/100*E99 -> #N/A
A100: S#270 | B100: 1 | C100: 335.567 | D100: =VLOOKUP($A100,'Food full composition_all'!$A$3:$AU$33,5+($B100*2),0) -> Poultry by-product meal, unspecified | E100: =VLOOKUP($A100,'Food full composition_all'!$A$3:$AU$33,6+($B100*2),0) -> 26 | F100: =VLOOKUP(D100,'Impact value reference table'!$B$3:$G$216,2,FALSE) -> 14.04 | G100: =(F100/(1000/$C$100))/100*E100 -> 1.2249538 | H100: =VLOOKUP(D100,'Impact value reference table'!$B$3:$G$216,3,FALSE) -> 11.27 | I100: =(H100/(1000/$C$100))/100*E100 -> 0.98327842 | J100: =VLOOKUP(D100,'Impact value reference table'!$B$3:$G$216,4,FALSE) -> 116.64 | K100: =(J100/(1000/$C$100))/100*E100 -> 10.176539 | L100: =VLOOKUP(D100,'Impact value reference table'!$B$3:$G$216,5,FALSE) -> 55.35 | M100: =(L100/(1000/$C$100))/100*E100 -> 4.8291447 | N100: =VLOOKUP(D100,'Impact value reference table'!$B$3:$G$216,6,FALSE) -> 753.21 | O100: =(N100/(1000/$C$100))/100*E100 -> 65.715629 | P100: =VLOOKUP(D100,'Impact value reference table'!$B$3:$G$216,7,FALSE) -> #REF! | Q100: =(P100/(1000/$C$100))/100*E100 -> #REF!
A101: S#270 | B101: 2 | D101: =VLOOKUP($A101,'Food full composition_all'!$A$3:$AU$33,5+($B101*2),0) -> Poultry fat, unspecified | E101: =VLOOKUP($A101,'Food full composition_all'!$A$3:$AU$33,6+($B101*2),0) -> 18.7 | F101: =VLOOKUP(D101,'Impact value reference table'!$B$3:$G$216,2,FALSE) -> 0 | G101: =(F101/(1000/$C$100))/100*E101 -> 0 | H101: =VLOOKUP(D101,'Impact value reference table'!$B$3:$G$216,3,FALSE) -> 0 | I101: =(H101/(1000/$C$100))/100*E101 -> 0 | J101: =VLOOKUP(D101,'Impact value reference table'!$B$3:$G$216,4,FALSE) -> 0 | K101: =(J101/(1000/$C$100))/100*E101 -> 0 | L101: =VLOOKUP(D101,'Impact value reference table'!$B$3:$G$216,5,FALSE) -> 0 | M101: =(L101/(1000/$C$100))/100*E101 -> 0 | N101: =VLOOKUP(D101,'Impact value reference table'!$B$3:$G$216,6,FALSE) -> 0 | O101: =(N101/(1000/$C$100))/100*E101 -> 0 | P101: =VLOOKUP(D101,'Impact value reference table'!$B$3:$G$216,7,FALSE) -> #REF! | Q101: =(P101/(1000/$C$100))/100*E101 -> #REF!
A102: S#270 | B102: 3 | D102: =VLOOKUP($A102,'Food full composition_all'!$A$3:$AU$33,5+($B102*2),0) -> White rice, cooked | E102: =VLOOKUP($A102,'Food full composition_all'!$A$3:$AU$33,6+($B102*2),0) -> 5 | F102: =VLOOKUP(D102,'Impact value reference table'!$B$3:$G$216,2,FALSE) -> 0.8 | G102: =(F102/(1000/$C$100))/100*E102 -> 0.01342268 | H102: =VLOOKUP(D102,'Impact value reference table'!$B$3:$G$216,3,FALSE) -> 1.2 | I102: =(H102/(1000/$C$100))/100*E102 -> 0.02013402 | J102: =VLOOKUP(D102,'Impact value reference table'!$B$3:$G$216,4,FALSE) -> 7.4 | K102: =(J102/(1000/$C$100))/100*E102 -> 0.12415979 | L102: =VLOOKUP(D102,'Impact value reference table'!$B$3:$G$216,5,FALSE) -> 10 | M102: =(L102/(1000/$C$100))/100*E102 -> 0.1677835 | N102: =VLOOKUP(D102,'Impact value reference table'!$B$3:$G$216,6,FALSE) -> 610 | O102: =(N102/(1000/$C$100))/100*E102 -> 10.234794 | P102: =VLOOKUP(D102,'Impact value reference table'!$B$3:$G$216,7,FALSE) -> #REF! | Q102: =(P102/(1000/$C$100))/100*E102 -> #REF!
A103: S#270 | B103: 4 | D103: =VLOOKUP($A103,'Food full composition_all'!$A$3:$AU$33,5+($B103*2),0) -> Chicken liver, cooked | E103: =VLOOKUP($A103,'Food full composition_all'!$A$3:$AU$33,6+($B103*2),0) -> 5.8 | F103: =VLOOKUP(D103,'Impact value reference table'!$B$3:$G$216,2,FALSE) -> 10.4 | G103: =(F103/(1000/$C$100))/100*E103 -> 0.20241401 | H103: =VLOOKUP(D103,'Impact value reference table'!$B$3:$G$216,3,FALSE) -> 8.35 | I103: =(H103/(1000/$C$100))/100*E103 -> 0.1625151 | J103: =VLOOKUP(D103,'Impact value reference table'!$B$3:$G$216,4,FALSE) -> 86.42 | K103: =(J103/(1000/$C$100))/100*E103 -> 1.6819826 | L103: =VLOOKUP(D103,'Impact value reference table'!$B$3:$G$216,5,FALSE) -> 41.01 | M103: =(L103/(1000/$C$100))/100*E103 -> 0.79817295 | N103: =VLOOKUP(D103,'Impact value reference table'!$B$3:$G$216,6,FALSE) -> 558.04 | O103: =(N103/(1000/$C$100))/100*E103 -> 10.861069 | P103: =VLOOKUP(D103,'Impact value reference table'!$B$3:$G$216,7,FALSE) -> #REF! | Q103: =(P103/(1000/$C$100))/100*E103 -> #REF!
A104: S#270 | B104: 5 | D104: =VLOOKUP($A104,'Food full composition_all'!$A$3:$AU$33,5+($B104*2),0) -> Flaxseed, unspecified | E104: =VLOOKUP($A104,'Food full composition_all'!$A$3:$AU$33,6+($B104*2),0) -> 4.3 | F104: =VLOOKUP(D104,'Impact value reference table'!$B$3:$G$216,2,FALSE) -> 3.55 | G104: =(F104/(1000/$C$100))/100*E104 -> 0.051224303 | H104: =VLOOKUP(D104,'Impact value reference table'!$B$3:$G$216,3,FALSE) -> 0.39 | I104: =(H104/(1000/$C$100))/100*E104 -> 0.0056274586 | J104: =VLOOKUP(D104,'Impact value reference table'!$B$3:$G$216,4,FALSE) -> 4.86 | K104: =(J104/(1000/$C$100))/100*E104 -> 0.070126792 | L104: =VLOOKUP(D104,'Impact value reference table'!$B$3:$G$216,5,FALSE) -> 3.89 | M104: =(L104/(1000/$C$100))/100*E104 -> 0.056130292 | N104: =VLOOKUP(D104,'Impact value reference table'!$B$3:$G$216,6,FALSE) -> 99.24 | O104: =(N104/(1000/$C$100))/100*E104 -> 1.4319718 | P104: =VLOOKUP(D104,'Impact value reference table'!$B$3:$G$216,7,FALSE) -> #REF! | Q104: =(P104/(1000/$C$100))/100*E104 -> #REF!
A105: S#270 | B105: 6 | D105: =VLOOKUP($A105,'Food full composition_all'!$A$3:$AU$33,5+($B105*2),0) -> Whole oats, raw | E105: =VLOOKUP($A105,'Food full composition_all'!$A$3:$AU$33,6+($B105*2),0) -> 3.3 | F105: =VLOOKUP(D105,'Impact value reference table'!$B$3:$G$216,2,FALSE) -> 7.6 | G105: =(F105/(1000/$C$100))/100*E105 -> 0.084160204 | H105: =VLOOKUP(D105,'Impact value reference table'!$B$3:$G$216,3,FALSE) -> 2.5 | I105: =(H105/(1000/$C$100))/100*E105 -> 0.027684277 | J105: =VLOOKUP(D105,'Impact value reference table'!$B$3:$G$216,4,FALSE) -> 4.1 | K105: =(J105/(1000/$C$100))/100*E105 -> 0.045402215 | L105: =VLOOKUP(D105,'Impact value reference table'!$B$3:$G$216,5,FALSE) -> 4.3 | M105: =(L105/(1000/$C$100))/100*E105 -> 0.047616957 | N105: =VLOOKUP(D105,'Impact value reference table'!$B$3:$G$216,6,FALSE) -> 184 | O105: =(N105/(1000/$C$100))/100*E105 -> 2.0375628 | P105: =VLOOKUP(D105,'Impact value reference table'!$B$3:$G$216,7,FALSE) -> #REF! | Q105: =(P105/(1000/$C$100))/100*E105 -> #REF!
A106: S#270 | B106: 7 | D106: =VLOOKUP($A106,'Food full composition_all'!$A$3:$AU$33,5+($B106*2),0) -> Corn gluten meal 21, unspecified | E106: =VLOOKUP($A106,'Food full composition_all'!$A$3:$AU$33,6+($B106*2),0) -> 3.3 | F106: =VLOOKUP(D106,'Impact value reference table'!$B$3:$G$216,2,FALSE) -> 0.7 | G106: =(F106/(1000/$C$100))/100*E106 -> 0.0077515977 | H106: =VLOOKUP(D106,'Impact value reference table'!$B$3:$G$216,3,FALSE) -> 0.4 | I106: =(H106/(1000/$C$100))/100*E106 -> 0.0044294844 | J106: =VLOOKUP(D106,'Impact value reference table'!$B$3:$G$216,4,FALSE) -> 2.6 | K106: =(J106/(1000/$C$100))/100*E106 -> 0.028791649 | L106: =VLOOKUP(D106,'Impact value reference table'!$B$3:$G$216,5,FALSE) -> 0.9 | M106: =(L106/(1000/$C$100))/100*E106 -> 0.0099663399 | N106: =VLOOKUP(D106,'Impact value reference table'!$B$3:$G$216,6,FALSE) -> 48 | O106: =(N106/(1000/$C$100))/100*E106 -> 0.53153813 | P106: =VLOOKUP(D106,'Impact value reference table'!$B$3:$G$216,7,FALSE) -> #REF! | Q106: =(P106/(1000/$C$100))/100*E106 -> #REF!
A107: S#270 | B107: 8 | D107: =VLOOKUP($A107,'Food full composition_all'!$A$3:$AU$33,5+($B107*2),0) -> Alfalfa | E107: =VLOOKUP($A107,'Food full composition_all'!$A$3:$AU$33,6+($B107*2),0) -> 0 | F107: =VLOOKUP(D107,'Impact value reference table'!$B$3:$G$216,2,FALSE) -> #N/A | G107: =(F107/(1000/$C$100))/100*E107 -> #N/A | H107: =VLOOKUP(D107,'Impact value reference table'!$B$3:$G$216,3,FALSE) -> #N/A | I107: =(H107/(1000/$C$100))/100*E107 -> #N/A | J107: =VLOOKUP(D107,'Impact value reference table'!$B$3:$G$216,4,FALSE) -> #N/A | K107: =(J107/(1000/$C$100))/100*E107 -> #N/A | L107: =VLOOKUP(D107,'Impact value reference table'!$B$3:$G$216,5,FALSE) -> #N/A | M107: =(L107/(1000/$C$100))/100*E107 -> #N/A | N107: =VLOOKUP(D107,'Impact value reference table'!$B$3:$G$216,6,FALSE) -> #N/A | O107: =(N107/(1000/$C$100))/100*E107 -> #N/A | P107: =VLOOKUP(D107,'Impact value reference table'!$B$3:$G$216,7,FALSE) -> #N/A | Q107: =(P107/(1000/$C$100))/100*E107 -> #N/A
A108: S#270 | B108: 9 | D108: =VLOOKUP($A108,'Food full composition_all'!$A$3:$AU$33,5+($B108*2),0) -> Brewer's yeast, unspecified | E108: =VLOOKUP($A108,'Food full composition_all'!$A$3:$AU$33,6+($B108*2),0) -> 2 | F108: =VLOOKUP(D108,'Impact value reference table'!$B$3:$G$216,2,FALSE) -> 0 | G108: =(F108/(1000/$C$100))/100*E108 -> 0 | H108: =VLOOKUP(D108,'Impact value reference table'!$B$3:$G$216,3,FALSE) -> 0 | I108: 0 | J108: =VLOOKUP(D108,'Impact value reference table'!$B$3:$G$216,4,FALSE) -> 0 | K108: 0 | L108: =VLOOKUP(D108,'Impact value reference table'!$B$3:$G$216,5,FALSE) -> 0 | M108: 0 | N108: =VLOOKUP(D108,'Impact value reference table'!$B$3:$G$216,6,FALSE) -> 0 | O108: =(N108/(1000/$C$100))/100*E108 -> 0 | P108: =VLOOKUP(D108,'Impact value reference table'!$B$3:$G$216,7,FALSE) -> #REF! | Q108: =(P108/(1000/$C$100))/100*E108 -> #REF!
A109: S#270 | B109: 10 | D109: =VLOOKUP($A109,'Food full composition_all'!$A$3:$AU$33,5+($B109*2),0) -> Pea, cooked | E109: =VLOOKUP($A109,'Food full composition_all'!$A$3:$AU$33,6+($B109*2),0) -> 0.3775 | F109: =VLOOKUP(D109,'Impact value reference table'!$B$3:$G$216,2,FALSE) -> 1.41 | G109: =(F109/(1000/$C$100))/100*E109 -> 0.0017861392 | H109: =VLOOKUP(D109,'Impact value reference table'!$B$3:$G$216,3,FALSE) -> 12.72 | I109: =(H109/(1000/$C$100))/100*E109 -> 0.016113256 | J109: =VLOOKUP(D109,'Impact value reference table'!$B$3:$G$216,4,FALSE) -> 2.69 | K109: =(J109/(1000/$C$100))/100*E109 -> 0.003407599 | L109: =VLOOKUP(D109,'Impact value reference table'!$B$3:$G$216,5,FALSE) -> 2.4 | M109: =(L109/(1000/$C$100))/100*E109 -> 0.003040237 | N109: =VLOOKUP(D109,'Impact value reference table'!$B$3:$G$216,6,FALSE) -> 125.81 | O109: =(N109/(1000/$C$100))/100*E109 -> 0.15937176 | P109: =VLOOKUP(D109,'Impact value reference table'!$B$3:$G$216,7,FALSE) -> #REF! | Q109: =(P109/(1000/$C$100))/100*E109 -> #REF!
A110: S#270 | B110: 11 | D110: =VLOOKUP($A110,'Food full composition_all'!$A$3:$AU$33,5+($B110*2),0) -> Minerals | E110: =VLOOKUP($A110,'Food full composition_all'!$A$3:$AU$33,6+($B110*2),0) -> 0 | F110: =VLOOKUP(D110,'Impact value reference table'!$B$3:$G$216,2,FALSE) -> #N/A | G110: =(F110/(1000/$C$100))/100*E110 -> #N/A | H110: =VLOOKUP(D110,'Impact value reference table'!$B$3:$G$216,3,FALSE) -> #N/A | I110: =(H110/(1000/$C$100))/100*E110 -> #N/A | J110: =VLOOKUP(D110,'Impact value reference table'!$B$3:$G$216,4,FALSE) -> #N/A | K110: =(J110/(1000/$C$100))/100*E110 -> #N/A | L110: =VLOOKUP(D110,'Impact value reference table'!$B$3:$G$216,5,FALSE) -> #N/A | M110: =(L110/(1000/$C$100))/100*E110 -> #N/A | N110: =VLOOKUP(D110,'Impact value reference table'!$B$3:$G$216,6,FALSE) -> #N/A | O110: =(N110/(1000/$C$100))/100*E110 -> #N/A | P110: =VLOOKUP(D110,'Impact value reference table'!$B$3:$G$216,7,FALSE) -> #N/A | Q110: =(P110/(1000/$C$100))/100*E110 -> #N/A
A111: S#270 | B111: 12 | D111: =VLOOKUP($A111,'Food full composition_all'!$A$3:$AU$33,5+($B111*2),0) -> Carrot, unspecified | E111: =VLOOKUP($A111,'Food full composition_all'!$A$3:$AU$33,6+($B111*2),0) -> 0.5 | F111: =VLOOKUP(D111,'Impact value reference table'!$B$3:$G$216,2,FALSE) -> 0.73 | G111: =(F111/(1000/$C$100))/100*E111 -> 0.0012248196 | H111: =VLOOKUP(D111,'Impact value reference table'!$B$3:$G$216,3,FALSE) -> 0.98 | I111: =(H111/(1000/$C$100))/100*E111 -> 0.0016442783 | J111: =VLOOKUP(D111,'Impact value reference table'!$B$3:$G$216,4,FALSE) -> 7.07 | K111: =(J111/(1000/$C$100))/100*E111 -> 0.011862293 | L111: =VLOOKUP(D111,'Impact value reference table'!$B$3:$G$216,5,FALSE) -> 3.9 | M111: =(L111/(1000/$C$100))/100*E111 -> 0.0065435565 | N111: =VLOOKUP(D111,'Impact value reference table'!$B$3:$G$216,6,FALSE) -> 68.29 | O111: =(N111/(1000/$C$100))/100*E111 -> 0.11457935 | P111: =VLOOKUP(D111,'Impact value reference table'!$B$3:$G$216,7,FALSE) -> #REF! | Q111: =(P111/(1000/$C$100))/100*E111 -> #REF!
...

Sheet Impact value reference table
A1: Table S4. Estimated environmental impact per 1000 kcal of ingredients for greenhouse gas emission, land use, acidifying emission, eutrophying emission, freshwater withdrawal, and stress-weighted water use. | B1: Estimated environmental impact per 1000 kcal of ingredients for greenhouse gas emission, land use, acidifying emission, eutrophying emission, freshwater withdrawal, and stress-weighted water use from Pedrinelli et al
C2: Land use (m2/1000 kcal) | D2: Co2eq emission (kg/1000 kcal) | E2: SO2eq emission (g/1000 kcal) | F2: PO43-eq (g/1000 kcal) | G2: Freshwater withdrawal (L/1000 kcal)
A3: Apple pomace, unspecified1 | B3: Apple pomace, unspecified | C3: 0.39 | D3: 0.26 | E3: 2.26 | F3: 0.97 | G3: 116.2
A4: Apple, raw2 | B4: Apple, raw | C4: 0.8 | D4: 1.2 | E4: 7.4 | F4: 10 | G4: 610
A5: Arracacha, cooked3 | B5: Arracacha, cooked | C5: 0.03 | D5: 0.05 | E5: 0.33 | F5: 0.18 | G5: 3.15
A6: Artichoke, raw2 | B6: Artichoke, raw | C6: 0.75 | D6: 0.94 | E6: 12.08 | F6: 4.34 | G6: 194.34
A7: Bacon, cooked2 | B7: Bacon, cooked | C7: 285.83 | D7: 87.14 | E7: 278.86 | F7: 263.17 | G7: 1268.8
A8: Banana, raw2 | B8: Banana, raw | C8: 2.13 | D8: 1.01 | E8: 7.19 | F8: 3.71 | G8: 129.21
A9: Barley, cooked2 | B9: Barley, cooked | C9: 0.37 | D9: 0.41 | E9: 0.44 | F9: 0.17 | G9: 1.01
A10: Barley, unspecified4 | B10: Barley, unspecified | C10: 0.2 | D10: 0.22 | E10: 0.24 | F10: 0.09 | G10: 0.55
A11: Beef heart, cooked2 | B11: Beef heart, cooked | C11: 283.07 | D11: 86.3 | E11: 276.17 | F11: 260.64 | G11: 1256.57
A12: Beef heart, raw2 | B12: Beef heart, raw | C12: 259.47 | D12: 79.11 | E12: 253.14 | F12: 238.9 | G12: 1151.8
A13: Beef kidney, cooked2 | B13: Beef kidney, cooked | C13: 328 | D13: 100 | E13: 320 | F13: 302 | G13: 1456
A14: Beef kidney, raw4 | B14: Beef kidney, raw | C14: 288.24 | D14: 87.88 | E14: 281.21 | F14: 265.39 | G14: 1279.52
... A50: Cellulose, unspecified4 | B50: Cellulose, unspecified | C50: 0 | D50: 0 | E50: 0 | F50: 0 | G50: 0
B51: Cereals | C51: =AVERAGE(C10,C77,C208,C198,C204) -> 1.98 | D51: =AVERAGE(D10,D77,D208,D198,D204) -> 1.144 | E51: =AVERAGE(E10,E77,E208,E198,E204) -> 3.868 | F51: =AVERAGE(F10,F77,F208,F198,F204) -> 3.598 | G51: =AVERAGE(G10,G77,G208,G198,G204) -> 216.91
A52: Chard, cooked2 | B52: Chard, cooked | C52: 0.91 | D52: 1.14 | E52: 14.55 | F52: 5.23 | G52: 234.09
A53: Chayote, cooked2 | B53: Chayote, cooked | C53: 1.67 | D53: 2.08 | E53: 26.67 | F53: 9.58 | G53: 429.17
A54: Cheese curds, unspecified2 | B54: Cheese curds, unspecified | C54: 45.39 | D54: 12.48 | E54: 85.1 | F54: 51.06 | G54: 2880.99
A55: Chia seeds, raw2 | B55: Chia seeds, raw | C55: 2.48 | D55: 0.27 | E55: 3.4 | F55: 2.72 | G55: 69.43
A56: Chicken breast, cooked2 | B56: Chicken breast, cooked | C56: 13.63 | D56: 10.94 | E56: 113.23 | F56: 53.74 | G56: 731.22
A57: Chicken breast, raw2 | B57: Chicken breast, raw | C57: 13.31 | D57: 10.69 | E57: 110.63 | F57: 52.5 | G57: 714.38
A58: Chicken breast, unspecified2 | B58: Chicken breast, unspecified | C58: 13.31 | D58: 10.69 | E58: 110.63 | F58: 52.5 | G58: 714.38
A59: Chicken drumsticks, cooked2 | B59: Chicken drumsticks, cooked | C59: 11.55 | D59: 9.28 | E59: 96.01 | F59: 45.56 | G59: 619.97
A60: Chicken gizzard, cooked2 | B60: Chicken gizzard, cooked | C60: 14.01 | D60: 11.25 | E60: 116.43 | F60: 55.25 | G60: 751.86
A61: Chicken gizzard, raw2 | B61: Chicken gizzard, raw | C61: 13.34 | D61: 10.71 | E61: 110.84 | F61: 52.6 | G61: 715.79
A62: Chicken liver hydrolysate, unspecified4 | B62: Chicken liver hydrolysate, unspecified | C62: 12.62 | D62: 10.13 | E62: 104.89 | F62: 49.78 | G62: 677.33
A63: Chicken liver, cooked2 | B63: Chicken liver, cooked | C63: 10.4 | D63: 8.35 | E63: 86.42 | F63: 41.01 | G63: 558.04
... A193: Turkey | B193: Turkey | C193: 12.42 | D193: 9.97 | E193: 103.19 | F193: 48.97 | G193: 666.39
A194: meal, unspecified4 | B194: meal, unspecified
A195: Turkey meat, cooked2 | B195: Turkey meat, cooked | C195: 9.57 | D195: 7.69 | E195: 79.55 | F195: 37.75 | G195: 513.69
A196: Turkey meat, unspecified2 | B196: Turkey meat, unspecified | C196: 9.43 | D196: 7.57 | E196: 78.37 | F196: 37.19 | G196: 506.11
A197: Turnip, cooked2 | B197: Turnip, cooked | C197: 0.1 | D197: 0.13 | E197: 0.94 | F197: 0.52 | G197: 9.04
A198: Wheat bran, unspecified4 | B198: Wheat bran, unspecified | C198: 0.6 | D198: 1.4 | E198: 5 | F198: 2.7 | G198: 242
A199: Wheat flour, unspecified4 | B199: Wheat flour, unspecified | C199: 0.6 | D199: 1.4 | E199: 5 | F199: 2.7 | G199: 242
A200: Wheat germ, unspecified4 | B200: Wheat germ, unspecified | C200: 0.6 | D200: 1.4 | E200: 5 | F200: 2.7 | G200: 242
A201: Wheat gluten, unspecified4 | B201: Wheat gluten, unspecified | C201: 0.6 | D201: 1.4 | E201: 5 | F201: 2.7 | G201: 242
A202: Whey protein concentrate, unspecified1 | B202: Whey protein concentrate, unspecified | C202: 79.2 | D202: 28.16 | E202: 176 | F202: 96.8 | G202: 5526.4
A203: White bread, unspecified2 | B203: White bread, unspecified | C203: 0.6 | D203: 1.4 | E203: 5 | F203: 2.7 | G203: 242
A204: White rice, cooked2 | B204: White rice, cooked | C204: 0.8 | D204: 1.2 | E204: 7.4 | F204: 10 | G204: 610
A205: Whole chicken, cooked2 | B205: Whole chicken, cooked | C205: 8 | D205: 6.42 | E205: 66.49 | F205: 31.55 | G205: 429.36
A206: Whole cornmeal, unspecified4 | B206: Whole cornmeal, unspecified | C206: 0.7 | D206: 0.4 | E206: 2.6 | F206: 0.9 | G206: 48
... A216: Zucchini, cooked2 | B216: Zucchini, cooked | C216: 2.67 | D216: 3.33 | E216: 42.67 | F216: 15.33 | G216: 686.67
A217: Legend: 1Composition from Butolo [1]; 2composition from the Brazilian Table of Food Composition [2]; 3composition from the Brazilian Association of the Pet Food Industry (ABINPET) [3]; 4composition from USDA’s FoodData Central [4]. | B217: Legend: 1Composition from Butolo [1]; 2composition from the Brazilian Table of Food Composition [2]; 3composition from the Brazilian Association of the Pet Food Industry (ABINPET) [3]; 4composition from USDA’s FoodData Central [4].

Sheet Impact calculations
B1: Ingredient no. | C1: Moisture from label | D1: Moisture adjustment factor | E1: Ingredient | F1: % of ingredient in formulation | G1: % of ingredient after moisture adjustment | H1: Ingredient Land use from impact table (m2/1000 kcal) | I1: Ingredient Land use for this ingredient, based on % of the food that is this ingredient (m2/1000 kcal), with moisture taken into account | J1: Ingredient Co2eq emission (kg/1000 kcal) | K1: Ingredient Co2eq emission by % (kg/1000 kcal) | L1: Ingredient SO2eq emission (g/1000 kcal) | M1: Ingredient SO2eq emission by % (g/1000 kcal) | N1: Ingredient PO43-eq (g/1000 kcal) | O1: Ingredient PO43-eq by % (g/1000 kcal) | P1: Ingredient Freshwater withdrawal (L/1000 kcal) | Q1: Ingredient Freshwater withdrawal by % (L/1000 kcal)
A2: S#259 | B2: 1 | C2: 8 | D2: =100/(100-C2) -> 1.0869565 | E2: =VLOOKUP($A2,'Food full composition_all'!$A$3:$AU$33,3+($B2*2),0) -> Potato starch, unspecified | F2: =VLOOKUP($A2,'Food full composition_all'!$A$3:$BR$33,4+($B2*2),0) -> 24.5 | G2: =F2*$D$2 -> 26.630435 | H2: =VLOOKUP(E2,'Impact value reference table'!$B$3:$G$216,2,FALSE) -> 1.2 | I2: =(H2/100)*G2 -> 0.31956522 | J2: =VLOOKUP(E2,'Impact value reference table'!$B$3:$G$216,3,FALSE) -> 0.6 | K2: =(J2/100)*G2 -> 0.15978261 | L2: =VLOOKUP(E2,'Impact value reference table'!$B$3:$G$216,4,FALSE) -> 5.3 | M2: =(L2/100)*G2 -> 1.411413 | N2: =VLOOKUP(E2,'Impact value reference table'!$B$3:$G$216,5,FALSE) -> 4.8 | O2: =(N2/100)*G2 -> 1.2782609 | P2: =VLOOKUP(E2,'Impact value reference table'!$B$3:$G$216,6,FALSE) -> 81 | Q2: =(P2/100)*G2 -> 21.570652
A3: S#259 | B3: 2 | E3: =VLOOKUP($A3,'Food full composition_all'!$A$3:$AU$33,3+($B3*2),0) -> Pea, unspecified | F3: =VLOOKUP($A3,'Food full composition_all'!$A$3:$BR$33,4+($B3*2),0) -> 16 | G3: =F3*$D$2 -> 17.391304 | H3: =VLOOKUP(E3,'Impact value reference table'!$B$3:$G$216,2,FALSE) -> 1.48 | I3: =(H3/100)*G3 -> 0.2573913 | J3: =VLOOKUP(E3,'Impact value reference table'!$B$3:$G$216,3,FALSE) -> 13.31 | K3: =(J3/100)*G3 -> 2.3147826 | L3: =VLOOKUP(E3,'Impact value reference table'!$B$3:$G$216,4,FALSE) -> 2.81 | M3: =(L3/100)*G3 -> 0.48869565 | N3: =VLOOKUP(E3,'Impact value reference table'!$B$3:$G$216,5,FALSE) -> 2.51 | O3: =(N3/100)*G3 -> 0.43652174 | P3: =VLOOKUP(E3,'Impact value reference table'!$B$3:$G$216,6,FALSE) -> 131.58 | Q3: =(P3/100)*G3 -> 22.883478
A4: S#259 | B4: 3 | E4: =VLOOKUP($A4,'Food full composition_all'!$A$3:$AU$33,3+($B4*2),0) -> Soy protein concentrate, unspecified | F4: =VLOOKUP($A4,'Food full composition_all'!$A$3:$BR$33,4+($B4*2),0) -> 11 | G4: =F4*$D$2 -> 11.956522 | H4: =VLOOKUP(E4,'Impact value reference table'!$B$3:$G$216,2,FALSE) -> 15.81 | I4: =(H4/100)*G4 -> 1.8903261 | J4: =VLOOKUP(E4,'Impact value reference table'!$B$3:$G$216,3,FALSE) -> 1.73 | K4: =(J4/100)*G4 -> 0.20684783 | L4: =VLOOKUP(E4,'Impact value reference table'!$B$3:$G$216,4,FALSE) -> 21.65 | M4: =(L4/100)*G4 -> 2.588587 | N4: =VLOOKUP(E4,'Impact value reference table'!$B$3:$G$216,5,FALSE) -> 17.32 | O4: =(N4/100)*G4 -> 2.0708696 | P4: =VLOOKUP(E4,'Impact value reference table'!$B$3:$G$216,6,FALSE) -> 441.72 | Q4: =(P4/100)*G4 -> 52.814348
A5: S#259 | B5: 4 | E5: =VLOOKUP($A5,'Food full composition_all'!$A$3:$AU$33,3+($B5*2),0) -> Brown rice, cooked | F5: =VLOOKUP($A5,'Food full composition_all'!$A$3:$BR$33,4+($B5*2),0) -> 7.5 | G5: =F5*$D$2 -> 8.1521739 | H5: =VLOOKUP(E5,'Impact value reference table'!$B$3:$G$216,2,FALSE) -> 0.8 | I5: =(H5/100)*G5 -> 0.065217391 | J5: =VLOOKUP(E5,'Impact value reference table'!$B$3:$G$216,3,FALSE) -> 1.2 | K5: =(J5/100)*G5 -> 0.097826087 | L5: =VLOOKUP(E5,'Impact value reference table'!$B$3:$G$216,4,FALSE) -> 7.4 | M5: =(L5/100)*G5 -> 0.60326087 | N5: =VLOOKUP(E5,'Impact value reference table'!$B$3:$G$216,5,FALSE) -> 10 | O5: =(N5/100)*G5 -> 0.81521739 | P5: =VLOOKUP(E5,'Impact value reference table'!$B$3:$G$216,6,FALSE) -> 610 | Q5: =(P5/100)*G5 -> 49.728261
A6: S#259 | B6: 5 | E6: =VLOOKUP($A6,'Food full composition_all'!$A$3:$AU$33,3+($B6*2),0) -> Brewer's yeast, unspecified | F6: =VLOOKUP($A6,'Food full composition_all'!$A$3:$BR$33,4+($B6*2),0) -> 5.8 | G6: =F6*$D$2 -> 6.3043478 | H6: =VLOOKUP(E6,'Impact value reference table'!$B$3:$G$216,2,FALSE) -> 0 | I6: =(H6/100)*G6 -> 0 | J6: =VLOOKUP(E6,'Impact value reference table'!$B$3:$G$216,3,FALSE) -> 0 | K6: =(J6/100)*G6 -> 0 | L6: =VLOOKUP(E6,'Impact value reference table'!$B$3:$G$216,4,FALSE) -> 0 | M6: =(L6/100)*G6 -> 0 | N6: =VLOOKUP(E6,'Impact value reference table'!$B$3:$G$216,5,FALSE) -> 0 | O6: =(N6/100)*G6 -> 0 | P6: =VLOOKUP(E6,'Impact value reference table'!$B$3:$G$216,6,FALSE) -> 0 | Q6: =(P6/100)*G6 -> 0
A7: S#259 | B7: 6 | E7: =VLOOKUP($A7,'Food full composition_all'!$A$3:$AU$33,3+($B7*2),0) -> Sweet potato, cooked | F7: =VLOOKUP($A7,'Food full composition_all'!$A$3:$BR$33,4+($B7*2),0) -> 4.3 | G7: =F7*$D$2 -> 4.673913 | H7: =VLOOKUP(E7,'Impact value reference table'!$B$3:$G$216,2,FALSE) -> 1.2 | I7: =(H7/100)*G7 -> 0.056086957 | J7: =VLOOKUP(E7,'Impact value reference table'!$B$3:$G$216,3,FALSE) -> 0.6 | K7: =(J7/100)*G7 -> 0.028043478 | L7: =VLOOKUP(E7,'Impact value reference table'!$B$3:$G$216,4,FALSE) -> 5.3 | M7: =(L7/100)*G7 -> 0.24771739 | N7: =VLOOKUP(E7,'Impact value reference table'!$B$3:$G$216,5,FALSE) -> 4.8 | O7: =(N7/100)*G7 -> 0.22434783 | P7: =VLOOKUP(E7,'Impact value reference table'!$B$3:$G$216,6,FALSE) -> 81 | Q7: =(P7/100)*G7 -> 3.7858696
A8: S#259 | B8: 7 | E8: =VLOOKUP($A8,'Food full composition_all'!$A$3:$AU$33,3+($B8*2),0) -> Whole oats, raw | F8: =VLOOKUP($A8,'Food full composition_all'!$A$3:$BR$33,4+($B8*2),0) -> 5.5 | G8: =F8*$D$2 -> 5.9782609 | H8: =VLOOKUP(E8,'Impact value reference table'!$B$3:$G$216,2,FALSE) -> 7.6 | I8: =(H8/100)*G8 -> 0.45434783 | J8: =VLOOKUP(E8,'Impact value reference table'!$B$3:$G$216,3,FALSE) -> 2.5 | K8: =(J8/100)*G8 -> 0.14945652 | L8: =VLOOKUP(E8,'Impact value reference table'!$B$3:$G$216,4,FALSE) -> 4.1 | M8: =(L8/100)*G8 -> 0.2451087 | N8: =VLOOKUP(E8,'Impact value reference table'!$B$3:$G$216,5,FALSE) -> 4.3 | O8: =(N8/100)*G8 -> 0.25706522 | P8: =VLOOKUP(E8,'Impact value reference table'!$B$3:$G$216,6,FALSE) -> 184 | Q8: =(P8/100)*G8 -> 11
A9: S#259 | B9: 8 | E9: =VLOOKUP($A9,'Food full composition_all'!$A$3:$AU$33,3+($B9*2),0) -> Pea, cooked | F9: =VLOOKUP($A9,'Food full composition_all'!$A$3:$BR$33,4+($B9*2),0) -> 4 | G9: =F9*$D$2 -> 4.3478261 | H9: =VLOOKUP(E9,'Impact value reference table'!$B$3:$G$216,2,FALSE) -> 1.41 | I9: =(H9/100)*G9 -> 0.061304348 | J9: =VLOOKUP(E9,'Impact value reference table'!$B$3:$G$216,3,FALSE) -> 12.72 | K9: =(J9/100)*G9 -> 0.55304348 | L9: =VLOOKUP(E9,'Impact value reference table'!$B$3:$G$216,4,FALSE) -> 2.69 | M9: =(L9/100)*G9 -> 0.11695652 | N9: =VLOOKUP(E9,'Impact value reference table'!$B$3:$G$216,5,FALSE) -> 2.4 | O9: =(N9/100)*G9 -> 0.10434783 | P9: =VLOOKUP(E9,'Impact value reference table'!$B$3:$G$216,6,FALSE) -> 125.81 | Q9: =(P9/100)*G9 -> 5.47
A10: S#259 | B10: 9 | E10: =VLOOKUP($A10,'Food full composition_all'!$A$3:$AU$33,3+($B10*2),0) -> Pea, cooked | F10: =VLOOKUP($A10,'Food full composition_all'!$A$3:$BR$33,4+($B10*2),0) -> 3 | G10: =F10*$D$2 -> 3.2608696 | H10: =VLOOKUP(E10,'Impact value reference table'!$B$3:$G$216,2,FALSE) -> 1.41 | I10: =(H10/100)*G10 -> 0.045978261 | J10: =VLOOKUP(E10,'Impact value reference table'!$B$3:$G$216,3,FALSE) -> 12.72 | K10: =(J10/100)*G10 -> 0.41478261 | L10: =VLOOKUP(E10,'Impact value reference table'!$B$3:$G$216,4,FALSE) -> 2.69 | M10: =(L10/100)*G10 -> 0.087717391 | N10: =VLOOKUP(E10,'Impact value reference table'!$B$3:$G$216,5,FALSE) -> 2.4 | O10: =(N10/100)*G10 -> 0.07826087 | P10: =VLOOKUP(E10,'Impact value reference table'!$B$3:$G$216,6,FALSE) -> 125.81 | Q10: =(P10/100)*G10 -> 4.1025
A11: S#259 | B11: 10 | E11: =VLOOKUP($A11,'Food full composition_all'!$A$3:$AU$33,3+($B11*2),0) -> Carrot, unspecified | F11: =VLOOKUP($A11,'Food full composition_all'!$A$3:$BR$33,4+($B11*2),0) -> 2 | G11: =F11*$D$2 -> 2.173913 | H11: =VLOOKUP(E11,'Impact value reference table'!$B$3:$G$216,2,FALSE) -> 0.73 | I11: =(H11/100)*G11 -> 0.015869565 | J11: =VLOOKUP(E11,'Impact value reference table'!$B$3:$G$216,3,FALSE) -> 0.98 | K11: =(J11/100)*G11 -> 0.021304348 | L11: =VLOOKUP(E11,'Impact value reference table'!$B$3:$G$216,4,FALSE) -> 7.07 | M11: =(L11/100)*G11 -> 0.15369565 | N11: =VLOOKUP(E11,'Impact value reference table'!$B$3:$G$216,5,FALSE) -> 3.9 | O11: =(N11/100)*G11 -> 0.084782609 | P11: =VLOOKUP(E11,'Impact value reference table'!$B$3:$G$216,6,FALSE) -> 68.29 | Q11: =(P11/100)*G11 -> 1.4845652
A12: S#259 | B12: 11 | E12: =VLOOKUP($A12,'Food full composition_all'!$A$3:$AU$33,3+($B12*2),0) -> Sunflower oil, unspecified | F12: =VLOOKUP($A12,'Food full composition_all'!$A$3:$BR$33,4+($B12*2),0) -> 0.09 | G12: =F12*$D$2 -> 0.097826087 | H12: =VLOOKUP(E12,'Impact value reference table'!$B$3:$G$216,2,FALSE) -> 2.08 | I12: =(H12/100)*G12 -> 0.0020347826 | J12: =VLOOKUP(E12,'Impact value reference table'!$B$3:$G$216,3,FALSE) -> 0.42 | K12: =(J12/100)*G12 -> 0.00041086957 | L12: =VLOOKUP(E12,'Impact value reference table'!$B$3:$G$216,4,FALSE) -> 3.11 | M12: =(L12/100)*G12 -> 0.0030423913 | N12: =VLOOKUP(E12,'Impact value reference table'!$B$3:$G$216,5,FALSE) -> 5.67 | O12: =(N12/100)*G12 -> 0.0055467391 | P12: =VLOOKUP(E12,'Impact value reference table'!$B$3:$G$216,6,FALSE) -> 112 | Q12: =(P12/100)*G12 -> 0.10956522
A13: S#259 | B13: 12 | E13: =VLOOKUP($A13,'Food full composition_all'!$A$3:$AU$33,3+($B13*2),0) -> Hydrolysed vegetables | F13: =VLOOKUP($A13,'Food full composition_all'!$A$3:$BR$33,4+($B13*2),0) -> 0 | G13: =F13*$D$2 -> 0 | I13: =(H13/100)*G13 -> 0 | K13: =(J13/100)*G13 -> 0 | M13: =(L13/100)*G13 -> 0 | O13: =(N13/100)*G13 -> 0 | Q13: =(P13/100)*G13 -> 0
A14: S#259 | B14: 13 | E14: =VLOOKUP($A14,'Food full composition_all'!$A$3:$AU$33,3+($B14*2),0) -> Lentil, cooked | F14: =VLOOKUP($A14,'Food full composition_all'!$A$3:$BR$33,4+($B14*2),0) -> 0.5 | G14: =F14*$D$2 -> 0.54347826 | H14: =VLOOKUP(E14,'Impact value reference table'!$B$3:$G$216,2,FALSE) -> 5.68 | I14: =(H14/100)*G14 -> 0.030869565 | J14: =VLOOKUP(E14,'Impact value reference table'!$B$3:$G$216,3,FALSE) -> 0.62 | K14: =(J14/100)*G14 -> 0.0033695652 | L14: =VLOOKUP(E14,'Impact value reference table'!$B$3:$G$216,4,FALSE) -> 7.78 | M14: =(L14/100)*G14 -> 0.042282609 | N14: =VLOOKUP(E14,'Impact value reference table'!$B$3:$G$216,5,FALSE) -> 6.22 | O14: =(N14/100)*G14 -> 0.033804348 | P14: =VLOOKUP(E14,'Impact value reference table'!$B$3:$G$216,6,FALSE) -> 158.63 | Q14: =(P14/100)*G14 -> 0.86211957
A15: S#259 | B15: 14 | E15: =VLOOKUP($A15,'Food full composition_all'!$A$3:$AU$33,3+($B15*2),0) -> Sunflower oil, unspecified | F15: =VLOOKUP($A15,'Food full composition_all'!$A$3:$BR$33,4+($B15*2),0) -> 0.5 | G15: =F15*$D$2 -> 0.54347826 | H15: =VLOOKUP(E15,'Impact value reference table'!$B$3:$G$216,2,FALSE) -> 2.08 | I15: =(H15/100)*G15 -> 0.011304348 | J15: =VLOOKUP(E15,'Impact value reference table'!$B$3:$G$216,3,FALSE) -> 0.42 | K15: =(J15/100)*G15 -> 0.0022826087 | L15: =VLOOKUP(E15,'Impact value reference table'!$B$3:$G$216,4,FALSE) -> 3.11 | M15: =(L15/100)*G15 -> 0.016902174 | N15: =VLOOKUP(E15,'Impact value reference table'!$B$3:$G$216,5,FALSE) -> 5.67 | O15: =(N15/100)*G15 -> 0.030815217 | P15: =VLOOKUP(E15,'Impact value reference table'!$B$3:$G$216,6,FALSE) -> 112 | Q15: =(P15/100)*G15 -> 0.60869565
A16: S#259 | B16: 15 | E16: =VLOOKUP($A16,'Food full composition_all'!$A$3:$AU$33,3+($B16*2),0) -> Minerals | F16: =VLOOKUP($A16,'Food full composition_all'!$A$3:$BR$33,4+($B16*2),0) -> 0 | G16: =F16*$D$2 -> 0 | I16: =(H16/100)*G16 -> 0 | K16: =(J16/100)*G16 -> 0 | M16: =(L16/100)*G16 -> 0 | O16: =(N16/100)*G16 -> 0 | Q16: =(P16/100)*G16 -> 0
A17: S#259 | B17: 16 | E17: =VLOOKUP($A17,'Food full composition_all'!$A$3:$AU$33,3+($B17*2),0) -> Micro algae | F17: =VLOOKUP($A17,'Food full composition_all'!$A$3:$BR$33,4+($B17*2),0) -> 0 | G17: =F17*$D$2 -> 0 | I17: =(H17/100)*G17 -> 0 | K17: =(J17/100)*G17 -> 0 | M17: =(L17/100)*G17 -> 0 | O17: =(N17/100)*G17 -> 0 | Q17: =(P17/100)*G17 -> 0
A18: S#259 | B18: 17 | E18: =VLOOKUP($A18,'Food full composition_all'!$A$3:$AU$33,3+($B18*2),0) -> Blueberry, unspecified | F18: =VLOOKUP($A18,'Food full composition_all'!$A$3:$BR$33,4+($B18*2),0) -> 0.5 | G18: =F18*$D$2 -> 0.54347826 | H18: =VLOOKUP(E18,'Impact value reference table'!$B$3:$G$216,2,FALSE) -> 4.21 | I18: =(H18/100)*G18 -> 0.022880435 | J18: =VLOOKUP(E18,'Impact value reference table'!$B$3:$G$216,3,FALSE) -> 2.63 | K18: =(J18/100)*G18 -> 0.014293478 | L18: =VLOOKUP(E18,'Impact value reference table'!$B$3:$G$216,4,FALSE) -> 21.05 | M18: =(L18/100)*G18 -> 0.11440217 | N18: =VLOOKUP(E18,'Impact value reference table'!$B$3:$G$216,5,FALSE) -> 10.7 | O18: =(N18/100)*G18 -> 0.058152174 | P18: =VLOOKUP(E18,'Impact value reference table'!$B$3:$G$216,6,FALSE) -> 736.84 | Q18: =(P18/100)*G18 -> 4.0045652
A19: S#259 | B19: 18 | E19: =VLOOKUP($A19,'Food full composition_all'!$A$3:$AU$33,3+($B19*2),0) -> Cranberries | F19: =VLOOKUP($A19,'Food full composition_all'!$A$3:$BR$33,4+($B19*2),0) -> 0 | G19: =F19*$D$2 -> 0 | I19: =(H19/100)*G19 -> 0 | K19: =(J19/100)*G19 -> 0 | M19: =(L19/100)*G19 -> 0 | O19: =(N19/100)*G19 -> 0 | Q19: =(P19/100)*G19 -> 0
A20: S#259 | B20: 19 | E20: =VLOOKUP($A20,'Food full composition_all'!$A$3:$AU$33,3+($B20*2),0) -> Pumpkin | F20: =VLOOKUP($A20,'Food full composition_all'!$A$3:$BR$33,4+($B20*2),0) -> 0 | G20: =F20*$D$2 -> 0 | I20: =(H20/100)*G20 -> 0 | K20: =(J20/100)*G20 -> 0 | M20: =(L20/100)*G20 -> 0 | O20: =(N20/100)*G20 -> 0 | Q20: =(P20/100)*G20 -> 0
A21: S#265 | B21: 1 | C21: 10 | D21: =100/(100-C21) -> 1.1111111 | E21: =VLOOKUP($A21,'Food full composition_all'!$A$3:$AU$33,3+($B21*2),0) -> Chicken meat, raw | F21: =VLOOKUP($A21,'Food full composition_all'!$A$3:$BR$33,4+($B21*2),0) -> 30 | G21: =F21*$D$21 -> 33.333333 | H21: =VLOOKUP(E21,'Impact value reference table'!$B$3:$G$216,2,FALSE) -> 8 | I21: =(H21/100)*G21 -> 2.6666667 | J21: =VLOOKUP(E21,'Impact value reference table'!$B$3:$G$216,3,FALSE) -> 6.42 | K21: =(J21/100)*G21 -> 2.14 | L21: =VLOOKUP(E21,'Impact value reference table'!$B$3:$G$216,4,FALSE) -> 66.49 | M21: =(L21/100)*G21 -> 22.163333 | N21: =VLOOKUP(E21,'Impact value reference table'!$B$3:$G$216,5,FALSE) -> 31.55 | O21: =(N21/100)*G21 -> 10.516667 | P21: =VLOOKUP(E21,'Impact value reference table'!$B$3:$G$216,6,FALSE) -> 429.36 | Q21: =(P21/100)*G21 -> 143.12
A22: S#265 | B22: 2 | E22: =VLOOKUP($A22,'Food full composition_all'!$A$3:$AU$33,3+($B22*2),0) -> Chicken meat, cooked | F22: =VLOOKUP($A22,'Food full composition_all'!$A$3:$BR$33,4+($B22*2),0) -> 22 | G22: =F22*$D$21 -> 24.444444 | H22: =VLOOKUP(E22,'Impact value reference table'!$B$3:$G$216,2,FALSE) -> 8 | I22: =(H22/100)*G22 -> 1.9555556 | J22: =VLOOKUP(E22,'Impact value reference table'!$B$3:$G$216,3,FALSE) -> 6.42 | K22: =(J22/100)*G22 -> 1.5693333 | L22: =VLOOKUP(E22,'Impact value reference table'!$B$3:$G$216,4,FALSE) -> 66.49 | M22: =(L22/100)*G22 -> 16.253111 | N22: =VLOOKUP(E22,'Impact value reference table'!$B$3:$G$216,5,FALSE) -> 31.55 | O22: =(N22/100)*G22 -> 7.7122222 | P22: =VLOOKUP(E22,'Impact value reference table'!$B$3:$G$216,6,FALSE) -> 429.36 | Q22: =(P22/100)*G22 -> 104.95467
A23: S#265 | B23: 3 | E23: =VLOOKUP($A23,'Food full composition_all'!$A$3:$AU$33,3+($B23*2),0) -> Pea, unspecified | F23: =VLOOKUP($A23,'Food full composition_all'!$A$3:$BR$33,4+($B23*2),0) -> 12 | G23: =F23*$D$21 -> 13.333333 | H23: =VLOOKUP(E23,'Impact value reference table'!$B$3:$G$216,2,FALSE) -> 1.48 | I23: =(H23/100)*G23 -> 0.19733333 | J23: =VLOOKUP(E23,'Impact value reference table'!$B$3:$G$216,3,FALSE) -> 13.31 | K23: =(J23/100)*G23 -> 1.7746667 | L23: =VLOOKUP(E23,'Impact value reference table'!$B$3:$G$216,4,FALSE) -> 2.81 | M23: =(L23/100)*G23 -> 0.37466667 | N23: =VLOOKUP(E23,'Impact value reference table'!$B$3:$G$216,5,FALSE) -> 2.51 | O23: =(N23/100)*G23 -> 0.33466667 | P23: =VLOOKUP(E23,'Impact value reference table'!$B$3:$G$216,6,FALSE) -> 131.58 | Q23: =(P23/100)*G23 -> 17.544
A24: S#265 | B24: 4 | E24: =VLOOKUP($A24,'Food full composition_all'!$A$3:$AU$33,3+($B24*2),0) -> Chickpea, cooked | F24: =VLOOKUP($A24,'Food full composition_all'!$A$3:$BR$33,4+($B24*2),0) -> 5.5 | G24: =F24*$D$21 -> 6.1111111 | H24: =VLOOKUP(E24,'Impact value reference table'!$B$3:$G$216,2,FALSE) -> 3.94 | I24: =(H24/100)*G24 -> 0.24077778 | J24: =VLOOKUP(E24,'Impact value reference table'!$B$3:$G$216,3,FALSE) -> 0.43 | K24: =(J24/100)*G24 -> 0.026277778 | L24: =VLOOKUP(E24,'Impact value reference table'!$B$3:$G$216,4,FALSE) -> 5.4 | M24: =(L24/100)*G24 -> 0.33 | N24: =VLOOKUP(E24,'Impact value reference table'!$B$3:$G$216,5,FALSE) -> 4.32 | O24: =(N24/100)*G24 -> 0.264 | P24: =VLOOKUP(E24,'Impact value reference table'!$B$3:$G$216,6,FALSE) -> 110.21 | Q24: =(P24/100)*G24 -> 6.7350556
A25: S#265 | B25: 5 | E25: =VLOOKUP($A25,'Food full composition_all'!$A$3:$AU$33,3+($B25*2),0) -> Pea, unspecified | F25: =VLOOKUP($A25,'Food full composition_all'!$A$3:$BR$33,4+($B25*2),0) -> 5.8 | G25: =F25*$D$21 -> 6.4444444 | H25: =VLOOKUP(E25,'Impact value reference table'!$B$3:$G$216,2,FALSE) -> 1.48 | I25: =(H25/100)*G25 -> 0.095377778 | J25: =VLOOKUP(E25,'Impact value reference table'!$B$3:$G$216,3,FALSE) -> 13.31 | K25: =(J25/100)*G25 -> 0.85775556 | L25: =VLOOKUP(E25,'Impact value reference table'!$B$3:$G$216,4,FALSE) -> 2.81 | M25: =(L25/100)*G25 -> 0.18108889 | N25: =VLOOKUP(E25,'Impact value reference table'!$B$3:$G$216,5,FALSE) -> 2.51 | O25: =(N25/100)*G25 -> 0.16175556 | P25: =VLOOKUP(E25,'Impact value reference table'!$B$3:$G$216,6,FALSE) -> 131.58 | Q25: =(P25/100)*G25 -> 8.4796
A26: S#265 | B26: 6 | E26: =VLOOKUP($A26,'Food full composition_all'!$A$3:$AU$33,3+($B26*2),0) -> Poultry fat, unspecified | F26: =VLOOKUP($A26,'Food full composition_all'!$A$3:$BR$33,4+($B26*2),0) -> 5 | G26: =F26*$D$21 -> 5.5555556 | H26: =VLOOKUP(E26,'Impact value reference table'!$B$3:$G$216,2,FALSE) -> 0 | I26: =(H26/100)*G26 -> 0 | J26: =VLOOKUP(E26,'Impact value reference table'!$B$3:$G$216,3,FALSE) -> 0 | K26: =(J26/100)*G26 -> 0 | L26: =VLOOKUP(E26,'Impact value reference table'!$B$3:$G$216,4,FALSE) -> 0 | M26: =(L26/100)*G26 -> 0 | N26: =VLOOKUP(E26,'Impact value reference table'!$B$3:$G$216,5,FALSE) -> 0 | O26: =(N26/100)*G26 -> 0 | P26: =VLOOKUP(E26,'Impact value reference table'!$B$3:$G$216,6,FALSE) -> 0 | Q26: =(P26/100)*G26 -> 0
A27: S#265 | B27: 7 | E27: =VLOOKUP($A27,'Food full composition_all'!$A$3:$AU$33,3+($B27*2),0) -> Sweet potato, cooked | F27: =VLOOKUP($A27,'Food full composition_all'!$A$3:$BR$33,4+($B27*2),0) -> 4 | G27: =F27*$D$21 -> 4.4444444 | H27: =VLOOKUP(E27,'Impact value reference table'!$B$3:$G$216,2,FALSE) -> 1.2 | I27: =(H27/100)*G27 -> 0.053333333 | J27: =VLOOKUP(E27,'Impact value reference table'!$B$3:$G$216,3,FALSE) -> 0.6 | K27: =(J27/100)*G27 -> 0.026666667 | L27: =VLOOKUP(E27,'Impact value reference table'!$B$3:$G$216,4,FALSE) -> 5.3 | M27: =(L27/100)*G27 -> 0.23555556 | N27: =VLOOKUP(E27,'Impact value reference table'!$B$3:$G$216,5,FALSE) -> 4.8 | O27: =(N27/100)*G27 -> 0.21333333 | P27: =VLOOKUP(E27,'Impact value reference table'!$B$3:$G$216,6,FALSE) -> 81 | Q27: =(P27/100)*G27 -> 3.6
A28: S#265 | B28: 8 | E28: =VLOOKUP($A28,'Food full composition_all'!$A$3:$AU$33,3+($B28*2),0) -> Chicken protein hydrolysate, unpecified | F28: =VLOOKUP($A28,'Food full composition_all'!$A$3:$BR$33,4+($B28*2),0) -> 3.5 | G28: =F28*$D$21 -> 3.8888889 | H28: =VLOOKUP(E28,'Impact value reference table'!$B$3:$G$216,2,FALSE) -> 17.46 | I28: =(H28/100)*G28 -> 0.679 | J28: =VLOOKUP(E28,'Impact value reference table'!$B$3:$G$216,3,FALSE) -> 14.02 | K28: =(J28/100)*G28 -> 0.54522222 | L28: =VLOOKUP(E28,'Impact value reference table'!$B$3:$G$216,4,FALSE) -> 145.08 | M28: =(L28/100)*G28 -> 5.642 | N28: =VLOOKUP(E28,'Impact value reference table'!$B$3:$G$216,5,FALSE) -> 68.85 | O28: =(N28/100)*G28 -> 2.6775 | P28: =VLOOKUP(E28,'Impact value reference table'!$B$3:$G$216,6,FALSE) -> 936.89 | Q28: =(P28/100)*G28 -> 36.434611
A29: S#265 | B29: 9 | E29: =VLOOKUP($A29,'Food full composition_all'!$A$3:$AU$33,3+($B29*2),0) -> Potato starch, unspecified | F29: =VLOOKUP($A29,'Food full composition_all'!$A$3:$BR$33,4+($B29*2),0) -> 1.2 | G29: =F29*$D$21 -> 1.3333333 | H29: =VLOOKUP(E29,'Impact value reference table'!$B$3:$G$216,2,FALSE) -> 1.2 | I29: =(H29/100)*G29 -> 0.016 | J29: =VLOOKUP(E29,'Impact value reference table'!$B$3:$G$216,3,FALSE) -> 0.6 | K29: =(J29/100)*G29 -> 0.008 | L29: =VLOOKUP(E29,'Impact value reference table'!$B$3:$G$216,4,FALSE) -> 5.3 | M29: =(L29/100)*G29 -> 0.070666667 | N29: =VLOOKUP(E29,'Impact value reference table'!$B$3:$G$216,5,FALSE) -> 4.8 | O29: =(N29/100)*G29 -> 0.064 | P29: =VLOOKUP(E29,'Impact value reference table'!$B$3:$G$216,6,FALSE) -> 81 | Q29: =(P29/100)*G29 -> 1.08
A30: S#265 | B30: 10 | E30: =VLOOKUP($A30,'Food full composition_all'!$A$3:$AU$33,3+($B30*2),0) -> Pea, unspecified | F30: =VLOOKUP($A30,'Food full composition_all'!$A$3:$BR$33,4+($B30*2),0) -> 2 | G30: =F30*$D$21 -> 2.2222222 | H30: =VLOOKUP(E30,'Impact value reference table'!$B$3:$G$216,2,FALSE) -> 1.48 | I30: =(H30/100)*G30 -> 0.032888889 | J30: =VLOOKUP(E30,'Impact value reference table'!$B$3:$G$216,3,FALSE) -> 13.31 | K30: =(J30/100)*G30 -> 0.29577778 | L30: =VLOOKUP(E30,'Impact value reference table'!$B$3:$G$216,4,FALSE) -> 2.81 | M30: =(L30/100)*G30 -> 0.062444444 | N30: =VLOOKUP(E30,'Impact value reference table'!$B$3:$G$216,5,FALSE) -> 2.51 | O30: =(N30/100)*G30 -> 0.055777778 | P30: =VLOOKUP(E30,'Impact value reference table'!$B$3:$G$216,6,FALSE) -> 131.58 | Q30: =(P30/100)*G30 -> 2.924
A31: S#265 | B31: 11 | E31: =VLOOKUP($A31,'Food full composition_all'!$A$3:$AU$33,3+($B31*2),0) -> Dried hicory root | F31: =VLOOKUP($A31,'Food full composition_all'!$A$3:$BR$33,4+($B31*2),0) -> 0 | G31: =F31*$D$21 -> 0 | I31: =(H31/100)*G31 -> 0 | K31: =(J31/100)*G31 -> 0 | M31: =(L31/100)*G31 -> 0 | O31: =(N31/100)*G31 -> 0 | Q31: =(P31/100)*G31 -> 0
A32: S#265 | B32: 12 | E32: =VLOOKUP($A32,'Food full composition_all'!$A$3:$AU$33,3+($B32*2),0) -> Minerals | F32: =VLOOKUP($A32,'Food full composition_all'!$A$3:$BR$33,4+($B32*2),0) -> 0 | G32: =F32*$D$21 -> 0 | I32: =(H32/100)*G32 -> 0 | K32: =(J32/100)*G32 -> 0 | M32: =(L32/100)*G32 -> 0 | O32: =(N32/100)*G32 -> 0 | Q32: =(P32/100)*G32 -> 0
A33: S#265 | B33: 13 | E33: =VLOOKUP($A33,'Food full composition_all'!$A$3:$AU$33,3+($B33*2),0) -> Carrot, cooked | F33: =VLOOKUP($A33,'Food full composition_all'!$A$3:$BR$33,4+($B33*2),0) -> 4 | G33: =F33*$D$21 -> 4.4444444 | H33: =VLOOKUP(E33,'Impact value reference table'!$B$3:$G$216,2,FALSE) -> 0.86 | I33: =(H33/100)*G33 -> 0.038222222 | J33: =VLOOKUP(E33,'Impact value reference table'!$B$3:$G$216,3,FALSE) -> 1.14 | K33: =(J33/100)*G33 -> 0.050666667 | L33: =VLOOKUP(E33,'Impact value reference table'!$B$3:$G$216,4,FALSE) -> 8.29 | M33: =(L33/100)*G33 -> 0.36844444 | N33: =VLOOKUP(E33,'Impact value reference table'!$B$3:$G$216,5,FALSE) -> 4.57 | O33: =(N33/100)*G33 -> 0.20311111 | P33: =VLOOKUP(E33,'Impact value reference table'!$B$3:$G$216,6,FALSE) -> 80 | Q33: =(P33/100)*G33 -> 3.5555556
A34: S#265 | B34: 14 | E34: =VLOOKUP($A34,'Food full composition_all'!$A$3:$AU$33,3+($B34*2),0) -> Broccoli, cooked | F34: =VLOOKUP($A34,'Food full composition_all'!$A$3:$BR$33,4+($B34*2),0) -> 4 | G34: =F34*$D$21 -> 4.4444444 | H34: =VLOOKUP(E34,'Impact value reference table'!$B$3:$G$216,2,FALSE) -> 2.52 | I34: =(H34/100)*G34 -> 0.112 | J34: =VLOOKUP(E34,'Impact value reference table'!$B$3:$G$216,3,FALSE) -> 4.08 | K34: =(J34/100)*G34 -> 0.18133333 | L34: =VLOOKUP(E34,'Impact value reference table'!$B$3:$G$216,4,FALSE) -> 5.58 | M34: =(L34/100)*G34 -> 0.248 | N34: =VLOOKUP(E34,'Impact value reference table'!$B$3:$G$216,5,FALSE) -> 3.4 | O34: =(N34/100)*G34 -> 0.15111111 | P34: =VLOOKUP(E34,'Impact value reference table'!$B$3:$G$216,6,FALSE) -> 80.92 | Q34: =(P34/100)*G34 -> 3.5964444
A35: S#265 | B35: 15 | E35: =VLOOKUP($A35,'Food full composition_all'!$A$3:$AU$33,3+($B35*2),0) -> Apple, raw | F35: =VLOOKUP($A35,'Food full composition_all'!$A$3:$BR$33,4+($B35*2),0) -> 2 | G35: =F35*$D$21 -> 2.2222222 | H35: =VLOOKUP(E35,'Impact value reference table'!$B$3:$G$216,2,FALSE) -> 0.8 | I35: =(H35/100)*G35 -> 0.017777778 | J35: =VLOOKUP(E35,'Impact value reference table'!$B$3:$G$216,3,FALSE) -> 1.2 | K35: =(J35/100)*G35 -> 0.026666667 | L35: =VLOOKUP(E35,'Impact value reference table'!$B$3:$G$216,4,FALSE) -> 7.4 | M35: =(L35/100)*G35 -> 0.16444444 | N35: =VLOOKUP(E35,'Impact value reference table'!$B$3:$G$216,5,FALSE) -> 10 | O35: =(N35/100)*G35 -> 0.22222222 | P35: =VLOOKUP(E35,'Impact value reference table'!$B$3:$G$216,6,FALSE) -> 610 | Q35: =(P35/100)*G35 -> 13.555556
A36: S#265 | B36: 16 | E36: =VLOOKUP($A36,'Food full composition_all'!$A$3:$AU$33,3+($B36*2),0) -> Dried kelp | F36: =VLOOKUP($A36,'Food full composition_all'!$A$3:$BR$33,4+($B36*2),0) -> 0 | G36: =F36*$D$21 -> 0 | I36: =(H36/100)*G36 -> 0 | K36: =(J36/100)*G36 -> 0 | M36: =(L36/100)*G36 -> 0 | O36: =(N36/100)*G36 -> 0 | Q36: =(P36/100)*G36 -> 0
A37: S#265 | B37: 17 | E37: =VLOOKUP($A37,'Food full composition_all'!$A$3:$AU$33,3+($B37*2),0) -> Dried rosemary | F37: =VLOOKUP($A37,'Food full composition_all'!$A$3:$BR$33,4+($B37*2),0) -> 0 | G37: =F37*$D$21 -> 0 | I37: =(H37/100)*G37 -> 0 | K37: =(J37/100)*G37 -> 0 | M37: =(L37/100)*G37 -> 0 | O37: =(N37/100)*G37 -> 0 | Q37: =(P37/100)*G37 -> 0
A38: S#266 | B38: 1 | C38: 10 | D38: =100/(100-C38) -> 1.1111111 | E38: =VLOOKUP($A38,'Food full composition_all'!$A$3:$AU$33,3+($B38*2),0) -> Brown rice, cooked | F38: =VLOOKUP($A38,'Food full composition_all'!$A$3:$BR$33,4+($B38*2),0) -> 37.8 | G38: =F38*$D$38 -> 42 | H38: =VLOOKUP(E38,'Impact value reference table'!$B$3:$G$216,2,FALSE) -> 0.8 | I38: =(H38/100)*G38 -> 0.336 | J38: =VLOOKUP(E38,'Impact value reference table'!$B$3:$G$216,3,FALSE) -> 1.2 | K38: =(J38/100)*G38 -> 0.504 | L38: =VLOOKUP(E38,'Impact value reference table'!$B$3:$G$216,4,FALSE) -> 7.4 | M38: =(L38/100)*G38 -> 3.108 | N38: =VLOOKUP(E38,'Impact value reference table'!$B$3:$G$216,5,FALSE) -> 10 | O38: =(N38/100)*G38 -> 4.2 | P38: =VLOOKUP(E38,'Impact value reference table'!$B$3:$G$216,6,FALSE) -> 610 | Q38: =(P38/100)*G38 -> 256.2
A39: S#266 | B39: 2 | E39: =VLOOKUP($A39,'Food full composition_all'!$A$3:$AU$33,3+($B39*2),0) -> Poultry by-product meal, unspecified | F39: =VLOOKUP($A39,'Food full composition_all'!$A$3:$BR$33,4+($B39*2),0) -> 27.5 | G39: =F39*$D$38 -> 30.555556 | H39: =VLOOKUP(E39,'Impact value reference table'!$B$3:$G$216,2,FALSE) -> 14.04 | I39: =(H39/100)*G39 -> 4.29 | J39: =VLOOKUP(E39,'Impact value reference table'!$B$3:$G$216,3,FALSE) -> 11.27 | K39: =(J39/100)*G39 -> 3.4436111 | L39: =VLOOKUP(E39,'Impact value reference table'!$B$3:$G$216,4,FALSE) -> 116.64 | M39: =(L39/100)*G39 -> 35.64 | N39: =VLOOKUP(E39,'Impact value reference table'!$B$3:$G$216,5,FALSE) -> 55.35 | O39: =(N39/100)*G39 -> 16.9125 | P39: =VLOOKUP(E39,'Impact value reference table'!$B$3:$G$216,6,FALSE) -> 753.21 | Q39: =(P39/100)*G39 -> 230.1475
A40: S#266 | B40: 3 | E40: =VLOOKUP($A40,'Food full composition_all'!$A$3:$AU$33,3+($B40*2),0) -> Oat bran, raw | F40: =VLOOKUP($A40,'Food full composition_all'!$A$3:$BR$33,4+($B40*2),0) -> 18.7 | G40: =F40*$D$38 -> 20.777778 | H40: =VLOOKUP(E40,'Impact value reference table'!$B$3:$G$216,2,FALSE) -> 7.6 | I40: =(H40/100)*G40 -> 1.5791111 | J40: =VLOOKUP(E40,'Impact value reference table'!$B$3:$G$216,3,FALSE) -> 2.5 | K40: =(J40/100)*G40 -> 0.51944444 | L40: =VLOOKUP(E40,'Impact value reference table'!$B$3:$G$216,4,FALSE) -> 4.1 | M40: =(L40/100)*G40 -> 0.85188889 | N40: =VLOOKUP(E40,'Impact value reference table'!$B$3:$G$216,5,FALSE) -> 4.3 | O40: =(N40/100)*G40 -> 0.89344444 | P40: =VLOOKUP(E40,'Impact value reference table'!$B$3:$G$216,6,FALSE) -> 184 | Q40: =(P40/100)*G40 -> 38.231111
A41: S#266 | B41: 4 | E41: =VLOOKUP($A41,'Food full composition_all'!$A$3:$AU$33,3+($B41*2),0) -> Pea, cooked | F41: =VLOOKUP($A41,'Food full composition_all'!$A$3:$BR$33,4+($B41*2),0) -> 7.2 | G41: =F41*$D$38 -> 8 | H41: =VLOOKUP(E41,'Impact value reference table'!$B$3:$G$216,2,FALSE) -> 1.41 | I41: =(H41/100)*G41 -> 0.1128 | J41: =VLOOKUP(E41,'Impact value reference table'!$B$3:$G$216,3,FALSE) -> 12.72 | K41: =(J41/100)*G41 -> 1.0176 | L41: =VLOOKUP(E41,'Impact value reference table'!$B$3:$G$216,4,FALSE) -> 2.69 | M41: =(L41/100)*G41 -> 0.2152 | N41: =VLOOKUP(E41,'Impact value reference table'!$B$3:$G$216,5,FALSE) -> 2.4 | O41: =(N41/100)*G41 -> 0.192 | P41: =VLOOKUP(E41,'Impact value reference table'!$B$3:$G$216,6,FALSE) -> 125.81 | Q41: =(P41/100)*G41 -> 10.0648
A42: S#266 | B42: 5 | E42: =VLOOKUP($A42,'Food full composition_all'!$A$3:$AU$33,3+($B42*2),0) -> Flaxseed, unspecified | F42: =VLOOKUP($A42,'Food full composition_all'!$A$3:$BR$33,4+($B42*2),0) -> 5.8 | G42: =F42*$D$38 -> 6.4444444 | H42: =VLOOKUP(E42,'Impact value reference table'!$B$3:$G$216,2,FALSE) -> 3.55 | I42: =(H42/100)*G42 -> 0.22877778 | J42: =VLOOKUP(E42,'Impact value reference table'!$B$3:$G$216,3,FALSE) -> 0.39 | K42: =(J42/100)*G42 -> 0.025133333 | L42: =VLOOKUP(E42,'Impact value reference table'!$B$3:$G$216,4,FALSE) -> 4.86 | M42: =(L42/100)*G42 -> 0.3132 | N42: =VLOOKUP(E42,'Impact value reference table'!$B$3:$G$216,5,FALSE) -> 3.89 | O42: =(N42/100)*G42 -> 0.25068889 | P42: =VLOOKUP(E42,'Impact value reference table'!$B$3:$G$216,6,FALSE) -> 99.24 | Q42: =(P42/100)*G42 -> 6.3954667
A43: S#266 | B43: 6 | E43: =VLOOKUP($A43,'Food full composition_all'!$A$3:$AU$33,3+($B43*2),0) -> Beet pulp, unspecified | F43: =VLOOKUP($A43,'Food full composition_all'!$A$3:$BR$33,4+($B43*2),0) -> 4.3 | G43: =F43*$D$38 -> 4.7777778 | H43: =VLOOKUP(E43,'Impact value reference table'!$B$3:$G$216,2,FALSE) -> 0.13 | I43: =(H43/100)*G43 -> 0.0062111111 | J43: =VLOOKUP(E43,'Impact value reference table'!$B$3:$G$216,3,FALSE) -> 0.17 | K43: =(J43/100)*G43 -> 0.0081222222 | L43: =VLOOKUP(E43,'Impact value reference table'!$B$3:$G$216,4,FALSE) -> 1.25 | M43: =(L43/100)*G43 -> 0.059722222 | N43: =VLOOKUP(E43,'Impact value reference table'!$B$3:$G$216,5,FALSE) -> 0.69 | O43: =(N43/100)*G43 -> 0.032966667 | P43: =VLOOKUP(E43,'Impact value reference table'!$B$3:$G$216,6,FALSE) -> 12.09 | Q43: =(P43/100)*G43 -> 0.57763333
A44: S#266 | B44: 7 | E44: =VLOOKUP($A44,'Food full composition_all'!$A$3:$AU$33,3+($B44*2),0) -> Poultry fat, unspecified | F44: =VLOOKUP($A44,'Food full composition_all'!$A$3:$BR$33,4+($B44*2),0) -> 3.3 | G44: =F44*$D$38 -> 3.6666667 | H44: =VLOOKUP(E44,'Impact value reference table'!$B$3:$G$216,2,FALSE) -> 0 | I44: =(H44/100)*G44 -> 0 | J44: =VLOOKUP(E44,'Impact value reference table'!$B$3:$G$216,3,FALSE) -> 0 | K44: =(J44/100)*G44 -> 0 | L44: =VLOOKUP(E44,'Impact value reference table'!$B$3:$G$216,4,FALSE) -> 0 | M44: =(L44/100)*G44 -> 0 | N44: =VLOOKUP(E44,'Impact value reference table'!$B$3:$G$216,5,FALSE) -> 0 | O44: =(N44/100)*G44 -> 0 | P44: =VLOOKUP(E44,'Impact value reference table'!$B$3:$G$216,6,FALSE) -> 0 | Q44: =(P44/100)*G44 -> 0
A45: S#266 | B45: 8 | E45: =VLOOKUP($A45,'Food full composition_all'!$A$3:$AU$33,3+($B45*2),0) -> Vitamins & minerals | F45: =VLOOKUP($A45,'Food full composition_all'!$A$3:$BR$33,4+($B45*2),0) -> 0 | G45: =F45*$D$38 -> 0 | I45: =(H45/100)*G45 -> 0 | K45: =(J45/100)*G45 -> 0 | M45: =(L45/100)*G45 -> 0 | O45: =(N45/100)*G45 -> 0 | Q45: =(P45/100)*G45 -> 0
A46: S#266 | B46: 9 | E46: =VLOOKUP($A46,'Food full composition_all'!$A$3:$AU$33,3+($B46*2),0) -> Herb blend | F46: =VLOOKUP($A46,'Food full composition_all'!$A$3:$BR$33,4+($B46*2),0) -> 0 | G46: =F46*$D$38 -> 0 | I46: =(H46/100)*G46 -> 0 | K46: =(J46/100)*G46 -> 0 | M46: =(L46/100)*G46 -> 0 | O46: =(N46/100)*G46 -> 0 | Q46: =(P46/100)*G46 -> 0
A47: S#266 | B47: 10 | E47: =VLOOKUP($A47,'Food full composition_all'!$A$3:$AU$33,3+($B47*2),0) -> MOS | F47: =VLOOKUP($A47,'Food full composition_all'!$A$3:$BR$33,4+($B47*2),0) -> 0 | G47: =F47*$D$38 -> 0 | I47: =(H47/100)*G47 -> 0 | K47: =(J47/100)*G47 -> 0 | M47: =(L47/100)*G47 -> 0 | O47: =(N47/100)*G47 -> 0 | Q47: =(P47/100)*G47 -> 0
A48: S#266 | B48: 11 | E48: =VLOOKUP($A48,'Food full composition_all'!$A$3:$AU$33,3+($B48*2),0) -> FOS | F48: =VLOOKUP($A48,'Food full composition_all'!$A$3:$BR$33,4+($B48*2),0) -> 0 | G48: =F48*$D$38 -> 0 | I48: =(H48/100)*G48 -> 0 | K48: =(J48/100)*G48 -> 0 | M48: =(L48/100)*G48 -> 0 | O48: =(N48/100)*G48 -> 0 | Q48: =(P48/100)*G48 -> 0
A49: S#266 | B49: 12 | E49: =VLOOKUP($A49,'Food full composition_all'!$A$3:$AU$33,3+($B49*2),0) -> Glucosamine | F49: =VLOOKUP($A49,'Food full composition_all'!$A$3:$BR$33,4+($B49*2),0) -> 0 | G49: =F49*$D$38 -> 0 | I49: =(H49/100)*G49 -> 0 | K49: =(J49/100)*G49 -> 0 | M49: =(L49/100)*G49 -> 0 | O49: =(N49/100)*G49 -> 0 | Q49: =(P49/100)*G49 -> 0
A50: S#266 | B50: 13 | E50: =VLOOKUP($A50,'Food full composition_all'!$A$3:$AU$33,3+($B50*2),0) -> Chondroitin sulphate | F50: =VLOOKUP($A50,'Food full composition_all'!$A$3:$BR$33,4+($B50*2),0) -> 0 | G50: =F50*$D$38 -> 0 | I50: =(H50/100)*G50 -> 0 | K50: =(J50/100)*G50 -> 0 | M50: =(L50/100)*G50 -> 0 | O50: =(N50/100)*G50 -> 0 | Q50: =(P50/100)*G50 -> 0
A51: S#266 | B51: 14 | E51: =VLOOKUP($A51,'Food full composition_all'!$A$3:$AU$33,3+($B51*2),0) -> Seaweed | F51: =VLOOKUP($A51,'Food full composition_all'!$A$3:$BR$33,4+($B51*2),0) -> 0 | G51: =F51*$D$38 -> 0 | I51: =(H51/100)*G51 -> 0 | K51: =(J51/100)*G51 -> 0 | M51: =(L51/100)*G51 -> 0 | O51: =(N51/100)*G51 -> 0 | Q51: =(P51/100)*G51 -> 0
A52: S#266 | B52: 15 | E52: =VLOOKUP($A52,'Food full composition_all'!$A$3:$AU$33,3+($B52*2),0) -> Yucca, cooked | F52: =VLOOKUP($A52,'Food full composition_all'!$A$3:$BR$33,4+($B52*2),0) -> 0.5 | G52: =F52*$D$38 -> 0.55555556 | H52: =VLOOKUP(E52,'Impact value reference table'!$B$3:$G$216,2,FALSE) -> 0.3 | I52: =(H52/100)*G52 -> 0.0016666667 | J52: =VLOOKUP(E52,'Impact value reference table'!$B$3:$G$216,3,FALSE) -> 0.4 | K52: =(J52/100)*G52 -> 0.0022222222 | L52: =VLOOKUP(E52,'Impact value reference table'!$B$3:$G$216,4,FALSE) -> 2.9 | M52: =(L52/100)*G52 -> 0.016111111 | N52: =VLOOKUP(E52,'Impact value reference table'!$B$3:$G$216,5,FALSE) -> 1.6 | O52: =(N52/100)*G52 -> 0.0088888889 | P52: =VLOOKUP(E52,'Impact value reference table'!$B$3:$G$216,6,FALSE) -> 28 | Q52: =(P52/100)*G52 -> 0.15555556
A53: S#267 | B53: 1 | C53: 10 | D53: =100/(100-C53) -> 1.1111111 | E53: =VLOOKUP($A53,'Food full composition_all'!$A$3:$AU$33,3+($B53*2),0) -> Chicken meat, raw | F53: =VLOOKUP($A53,'Food full composition_all'!$A$3:$BR$33,4+($B53*2),0) -> 40 | G53: =F53*$D$53 -> 44.444444 | H53: =VLOOKUP(E53,'Impact value reference table'!$B$3:$G$216,2,FALSE) -> 8 | I53: =(H53/100)*G53 -> 3.5555556 | J53: =VLOOKUP(E53,'Impact value reference table'!$B$3:$G$216,3,FALSE) -> 6.42 | K53: =(J53/100)*G53 -> 2.8533333 | L53: =VLOOKUP(E53,'Impact value reference table'!$B$3:$G$216,4,FALSE) -> 66.49 | M53: =(L53/100)*G53 -> 29.551111 | N53: =VLOOKUP(E53,'Impact value reference table'!$B$3:$G$216,5,FALSE) -> 31.55 | O53: =(N53/100)*G53 -> 14.022222 | P53: =VLOOKUP(E53,'Impact value reference table'!$B$3:$G$216,6,FALSE) -> 429.36 | Q53: =(P53/100)*G53 -> 190.82667
A54: S#267 | B54: 2 | E54: =VLOOKUP($A54,'Food full composition_all'!$A$3:$AU$33,3+($B54*2),0) -> White rice, cooked | F54: =VLOOKUP($A54,'Food full composition_all'!$A$3:$BR$33,4+($B54*2),0) -> 19 | G54: =F54*$D$53 -> 21.111111 | H54: =VLOOKUP(E54,'Impact value reference table'!$B$3:$G$216,2,FALSE) -> 0.8 | I54: =(H54/100)*G54 -> 0.16888889 | J54: =VLOOKUP(E54,'Impact value reference table'!$B$3:$G$216,3,FALSE) -> 1.2 | K54: =(J54/100)*G54 -> 0.25333333 | L54: =VLOOKUP(E54,'Impact value reference table'!$B$3:$G$216,4,FALSE) -> 7.4 | M54: =(L54/100)*G54 -> 1.5622222 | N54: =VLOOKUP(E54,'Impact value reference table'!$B$3:$G$216,5,FALSE) -> 10 | O54: =(N54/100)*G54 -> 2.1111111 | P54: =VLOOKUP(E54,'Impact value reference table'!$B$3:$G$216,6,FALSE) -> 610 | Q54: =(P54/100)*G54 -> 128.77778
A55: S#267 | B55: 3 | E55: =VLOOKUP($A55,'Food full composition_all'!$A$3:$AU$33,3+($B55*2),0) -> Potato, cooked | F55: =VLOOKUP($A55,'Food full composition_all'!$A$3:$BR$33,4+($B55*2),0) -> 18.7 | G55: =F55*$D$53 -> 20.777778 | H55: =VLOOKUP(E55,'Impact value reference table'!$B$3:$G$216,2,FALSE) -> 1.2 | I55: =(H55/100)*G55 -> 0.24933333 | J55: =VLOOKUP(E55,'Impact value reference table'!$B$3:$G$216,3,FALSE) -> 0.6 | K55: =(J55/100)*G55 -> 0.12466667 | L55: =VLOOKUP(E55,'Impact value reference table'!$B$3:$G$216,4,FALSE) -> 5.3 | M55: =(L55/100)*G55 -> 1.1012222 | N55: =VLOOKUP(E55,'Impact value reference table'!$B$3:$G$216,5,FALSE) -> 4.8 | O55: =(N55/100)*G55 -> 0.99733333 | P55: =VLOOKUP(E55,'Impact value reference table'!$B$3:$G$216,6,FALSE) -> 81 | Q55: =(P55/100)*G55 -> 16.83
A56: S#267 | B56: 4 | E56: =VLOOKUP($A56,'Food full composition_all'!$A$3:$AU$33,3+($B56*2),0) -> Poultry fat, unspecified | F56: =VLOOKUP($A56,'Food full composition_all'!$A$3:$BR$33,4+($B56*2),0) -> 7.2 | G56: =F56*$D$53 -> 8 | H56: =VLOOKUP(E56,'Impact value reference table'!$B$3:$G$216,2,FALSE) -> 0 | I56: =(H56/100)*G56 -> 0 | J56: =VLOOKUP(E56,'Impact value reference table'!$B$3:$G$216,3,FALSE) -> 0 | K56: =(J56/100)*G56 -> 0 | L56: =VLOOKUP(E56,'Impact value reference table'!$B$3:$G$216,4,FALSE) -> 0 | M56: =(L56/100)*G56 -> 0 | N56: =VLOOKUP(E56,'Impact value reference table'!$B$3:$G$216,5,FALSE) -> 0 | O56: =(N56/100)*G56 -> 0 | P56: =VLOOKUP(E56,'Impact value reference table'!$B$3:$G$216,6,FALSE) -> 0 | Q56: =(P56/100)*G56 -> 0
A57: S#267 | B57: 5 | E57: =VLOOKUP($A57,'Food full composition_all'!$A$3:$AU$33,3+($B57*2),0) -> Beet pulp, unspecified | F57: =VLOOKUP($A57,'Food full composition_all'!$A$3:$BR$33,4+($B57*2),0) -> 5.8 | G57: =F57*$D$53 -> 6.4444444 | H57: =VLOOKUP(E57,'Impact value reference table'!$B$3:$G$216,2,FALSE) -> 0.13 | I57: =(H57/100)*G57 -> 0.0083777778 | J57: =VLOOKUP(E57,'Impact value reference table'!$B$3:$G$216,3,FALSE) -> 0.17 | K57: =(J57/100)*G57 -> 0.010955556 | L57: =VLOOKUP(E57,'Impact value reference table'!$B$3:$G$216,4,FALSE) -> 1.25 | M57: =(L57/100)*G57 -> 0.080555556 | N57: =VLOOKUP(E57,'Impact value reference table'!$B$3:$G$216,5,FALSE) -> 0.69 | O57: =(N57/100)*G57 -> 0.044466667 | P57: =VLOOKUP(E57,'Impact value reference table'!$B$3:$G$216,6,FALSE) -> 12.09 | Q57: =(P57/100)*G57 -> 0.77913333
A58: S#267 | B58: 6 | E58: =VLOOKUP($A58,'Food full composition_all'!$A$3:$AU$33,3+($B58*2),0) -> Egg powder, unspecified | F58: =VLOOKUP($A58,'Food full composition_all'!$A$3:$BR$33,4+($B58*2),0) -> 4.3 | G58: =F58*$D$53 -> 4.7777778 | H58: =VLOOKUP(E58,'Impact value reference table'!$B$3:$G$216,2,FALSE) -> 5.16 | I58: =(H58/100)*G58 -> 0.24653333 | J58: =VLOOKUP(E58,'Impact value reference table'!$B$3:$G$216,3,FALSE) -> 3.8 | K58: =(J58/100)*G58 -> 0.18155556 | L58: =VLOOKUP(E58,'Impact value reference table'!$B$3:$G$216,4,FALSE) -> 43.42 | M58: =(L58/100)*G58 -> 2.0745111 | N58: =VLOOKUP(E58,'Impact value reference table'!$B$3:$G$216,5,FALSE) -> 18.09 | O58: =(N58/100)*G58 -> 0.8643 | P58: =VLOOKUP(E58,'Impact value reference table'!$B$3:$G$216,6,FALSE) -> 471.26 | Q58: =(P58/100)*G58 -> 22.515756
A59: S#267 | B59: 7 | E59: =VLOOKUP($A59,'Food full composition_all'!$A$3:$AU$33,3+($B59*2),0) -> Chicken meat, raw | F59: =VLOOKUP($A59,'Food full composition_all'!$A$3:$BR$33,4+($B59*2),0) -> 3.3 | G59: =F59*$D$53 -> 3.6666667 | H59: =VLOOKUP(E59,'Impact value reference table'!$B$3:$G$216,2,FALSE) -> 8 | I59: =(H59/100)*G59 -> 0.29333333 | J59: =VLOOKUP(E59,'Impact value reference table'!$B$3:$G$216,3,FALSE) -> 6.42 | K59: =(J59/100)*G59 -> 0.2354 | L59: =VLOOKUP(E59,'Impact value reference table'!$B$3:$G$216,4,FALSE) -> 66.49 | M59: =(L59/100)*G59 -> 2.4379667 | N59: =VLOOKUP(E59,'Impact value reference table'!$B$3:$G$216,5,FALSE) -> 31.55 | O59: =(N59/100)*G59 -> 1.1568333 | P59: =VLOOKUP(E59,'Impact value reference table'!$B$3:$G$216,6,FALSE) -> 429.36 | Q59: =(P59/100)*G59 -> 15.7432
A60: S#267 | B60: 8 | E60: =VLOOKUP($A60,'Food full composition_all'!$A$3:$AU$33,3+($B60*2),0) -> Fish meal, unspecified | F60: =VLOOKUP($A60,'Food full composition_all'!$A$3:$BR$33,4+($B60*2),0) -> 3.3 | G60: =F60*$D$53 -> 3.6666667 | H60: =VLOOKUP(E60,'Impact value reference table'!$B$3:$G$216,2,FALSE) -> 8.56 | I60: =(H60/100)*G60 -> 0.31386667 | J60: =VLOOKUP(E60,'Impact value reference table'!$B$3:$G$216,3,FALSE) -> 13.88 | K60: =(J60/100)*G60 -> 0.50893333 | L60: =VLOOKUP(E60,'Impact value reference table'!$B$3:$G$216,4,FALSE) -> 67.09 | M60: =(L60/100)*G60 -> 2.4599667 | N60: =VLOOKUP(E60,'Impact value reference table'!$B$3:$G$216,5,FALSE) -> 238.28 | O60: =(N60/100)*G60 -> 8.7369333 | P60: =VLOOKUP(E60,'Impact value reference table'!$B$3:$G$216,6,FALSE) -> 3745.45 | Q60: =(P60/100)*G60 -> 137.33317
A61: S#267 | B61: 9 | E61: =VLOOKUP($A61,'Food full composition_all'!$A$3:$AU$33,3+($B61*2),0) -> Brewer's yeast, unspecified | F61: =VLOOKUP($A61,'Food full composition_all'!$A$3:$BR$33,4+($B61*2),0) -> 1.2 | G61: =F61*$D$53 -> 1.3333333 | H61: =VLOOKUP(E61,'Impact value reference table'!$B$3:$G$216,2,FALSE) -> 0 | I61: =(H61/100)*G61 -> 0 | J61: =VLOOKUP(E61,'Impact value reference table'!$B$3:$G$216,3,FALSE) -> 0 | K61: =(J61/100)*G61 -> 0 | L61: =VLOOKUP(E61,'Impact value reference table'!$B$3:$G$216,4,FALSE) -> 0 | M61: =(L61/100)*G61 -> 0 | N61: =VLOOKUP(E61,'Impact value reference table'!$B$3:$G$216,5,FALSE) -> 0 | O61: =(N61/100)*G61 -> 0 | P61: =VLOOKUP(E61,'Impact value reference table'!$B$3:$G$216,6,FALSE) -> 0 | Q61: =(P61/100)*G61 -> 0
A62: S#267 | B62: 10 | E62: =VLOOKUP($A62,'Food full composition_all'!$A$3:$AU$33,3+($B62*2),0) -> Krill | F62: =VLOOKUP($A62,'Food full composition_all'!$A$3:$BR$33,4+($B62*2),0) -> 0 | G62: =F62*$D$53 -> 0 | I62: =(H62/100)*G62 -> 0 | K62: =(J62/100)*G62 -> 0 | M62: =(L62/100)*G62 -> 0 | O62: =(N62/100)*G62 -> 0 | Q62: =(P62/100)*G62 -> 0
A63: S#267 | B63: 11 | E63: =VLOOKUP($A63,'Food full composition_all'!$A$3:$AU$33,3+($B63*2),0) -> Flaxseed, unspecified | F63: =VLOOKUP($A63,'Food full composition_all'!$A$3:$BR$33,4+($B63*2),0) -> 0.3775 | G63: =F63*$D$53 -> 0.41944444 | H63: =VLOOKUP(E63,'Impact value reference table'!$B$3:$G$216,2,FALSE) -> 3.55 | I63: =(H63/100)*G63 -> 0.014890278 | J63: =VLOOKUP(E63,'Impact value reference table'!$B$3:$G$216,3,FALSE) -> 0.39 | K63: =(J63/100)*G63 -> 0.0016358333 | L63: =VLOOKUP(E63,'Impact value reference table'!$B$3:$G$216,4,FALSE) -> 4.86 | M63: =(L63/100)*G63 -> 0.020385 | N63: =VLOOKUP(E63,'Impact value reference table'!$B$3:$G$216,5,FALSE) -> 3.89 | O63: =(N63/100)*G63 -> 0.016316389 | P63: =VLOOKUP(E63,'Impact value reference table'!$B$3:$G$216,6,FALSE) -> 99.24 | Q63: =(P63/100)*G63 -> 0.41625667
A64: S#267 | B64: 12 | E64: =VLOOKUP($A64,'Food full composition_all'!$A$3:$AU$33,3+($B64*2),0) -> Minerals | F64: =VLOOKUP($A64,'Food full composition_all'!$A$3:$BR$33,4+($B64*2),0) -> 0 | G64: =F64*$D$53 -> 0 | I64: =(H64/100)*G64 -> 0 | K64: =(J64/100)*G64 -> 0 | M64: =(L64/100)*G64 -> 0 | O64: =(N64/100)*G64 -> 0 | Q64: =(P64/100)*G64 -> 0
A65: S#267 | B65: 13 | E65: =VLOOKUP($A65,'Food full composition_all'!$A$3:$AU$33,3+($B65*2),0) -> Prebiotic FOS | F65: =VLOOKUP($A65,'Food full composition_all'!$A$3:$BR$33,4+($B65*2),0) -> 0 | G65: =F65*$D$53 -> 0 | I65: =(H65/100)*G65 -> 0 | K65: =(J65/100)*G65 -> 0 | M65: =(L65/100)*G65 -> 0 | O65: =(N65/100)*G65 -> 0 | Q65: =(P65/100)*G65 -> 0
A66: S#267 | B66: 14 | E66: =VLOOKUP($A66,'Food full composition_all'!$A$3:$AU$33,3+($B66*2),0) -> Prebiotic MOS | F66: =VLOOKUP($A66,'Food full composition_all'!$A$3:$BR$33,4+($B66*2),0) -> 0 | G66: =F66*$D$53 -> 0 | I66: =(H66/100)*G66 -> 0 | K66: =(J66/100)*G66 -> 0 | M66: =(L66/100)*G66 -> 0 | O66: =(N66/100)*G66 -> 0 | Q66: =(P66/100)*G66 -> 0
A67: S#267 | B67: 15 | E67: =VLOOKUP($A67,'Food full composition_all'!$A$3:$AU$33,3+($B67*2),0) -> Yucca, cooked | F67: =VLOOKUP($A67,'Food full composition_all'!$A$3:$BR$33,4+($B67*2),0) -> 0.5 | G67: =F67*$D$53 -> 0.55555556 | H67: =VLOOKUP(E67,'Impact value reference table'!$B$3:$G$216,2,FALSE) -> 0.3 | I67: =(H67/100)*G67 -> 0.0016666667 | J67: =VLOOKUP(E67,'Impact value reference table'!$B$3:$G$216,3,FALSE) -> 0.4 | K67: =(J67/100)*G67 -> 0.0022222222 | L67: =VLOOKUP(E67,'Impact value reference table'!$B$3:$G$216,4,FALSE) -> 2.9 | M67: =(L67/100)*G67 -> 0.016111111 | N67: =VLOOKUP(E67,'Impact value reference table'!$B$3:$G$216,5,FALSE) -> 1.6 | O67: =(N67/100)*G67 -> 0.0088888889 | P67: =VLOOKUP(E67,'Impact value reference table'!$B$3:$G$216,6,FALSE) -> 28 | Q67: =(P67/100)*G67 -> 0.15555556
A68: S#267 | B68: 16 | E68: =VLOOKUP($A68,'Food full composition_all'!$A$3:$AU$33,3+($B68*2),0) -> Glucosamine | F68: =VLOOKUP($A68,'Food full composition_all'!$A$3:$BR$33,4+($B68*2),0) -> 0 | G68: =F68*$D$53 -> 0 | I68: =(H68/100)*G68 -> 0 | K68: =(J68/100)*G68 -> 0 | M68: =(L68/100)*G68 -> 0 | O68: =(N68/100)*G68 -> 0 | Q68: =(P68/100)*G68 -> 0
A69: S#267 | B69: 17 | E69: =VLOOKUP($A69,'Food full composition_all'!$A$3:$AU$33,3+($B69*2),0) -> MSM | F69: =VLOOKUP($A69,'Food full composition_all'!$A$3:$BR$33,4+($B69*2),0) -> 0 | G69: =F69*$D$53 -> 0 | I69: =(H69/100)*G69 -> 0 | K69: =(J69/100)*G69 -> 0 | M69: =(L69/100)*G69 -> 0 | O69: =(N69/100)*G69 -> 0 | Q69: =(P69/100)*G69 -> 0
A70: S#267 | B70: 18 | E70: =VLOOKUP($A70,'Food full composition_all'!$A$3:$AU$33,3+($B70*2),0) -> Chondroitin | F70: =VLOOKUP($A70,'Food full composition_all'!$A$3:$BR$33,4+($B70*2),0) -> 0 | G70: =F70*$D$53 -> 0 | I70: =(H70/100)*G70 -> 0 | K70: =(J70/100)*G70 -> 0 | M70: =(L70/100)*G70 -> 0 | O70: =(N70/100)*G70 -> 0 | Q70: =(P70/100)*G70 -> 0
A71: S#267 | B71: 19 | E71: =VLOOKUP($A71,'Food full composition_all'!$A$3:$AU$33,3+($B71*2),0) -> Cranberries | F71: =VLOOKUP($A71,'Food full composition_all'!$A$3:$BR$33,4+($B71*2),0) -> 0 | G71: =F71*$D$53 -> 0 | I71: =(H71/100)*G71 -> 0 | K71: =(J71/100)*G71 -> 0 | M71: =(L71/100)*G71 -> 0 | O71: =(N71/100)*G71 -> 0 | Q71: =(P71/100)*G71 -> 0
A72: S#267 | B72: 20 | E72: =VLOOKUP($A72,'Food full composition_all'!$A$3:$AU$33,3+($B72*2),0) -> Nucleotides | F72: =VLOOKUP($A72,'Food full composition_all'!$A$3:$BR$33,4+($B72*2),0) -> 0 | G72: =F72*$D$53 -> 0 | I72: =(H72/100)*G72 -> 0 | K72: =(J72/100)*G72 -> 0 | M72: =(L72/100)*G72 -> 0 | O72: =(N72/100)*G72 -> 0 | Q72: =(P72/100)*G72 -> 0
A73: S#268 | B73: 1 | C73: 10 | D73: =100/(100-C73) -> 1.1111111 | E73: =VLOOKUP($A73,'Food full composition_all'!$A$3:$AU$33,3+($B73*2),0) -> Mechanically separated chicken meat, unspecified | F73: =VLOOKUP($A73,'Food full composition_all'!$A$3:$BR$33,4+($B73*2),0) -> 30 | G73: =F73*$D$73 -> 33.333333 | H73: =VLOOKUP(E73,'Impact value reference table'!$B$3:$G$216,2,FALSE) -> 3.49 | I73: =(H73/100)*G73 -> 1.1633333 | J73: =VLOOKUP(E73,'Impact value reference table'!$B$3:$G$216,3,FALSE) -> 2.8 | K73: =(J73/100)*G73 -> 0.93333333 | L73: =VLOOKUP(E73,'Impact value reference table'!$B$3:$G$216,4,FALSE) -> 29.02 | M73: =(L73/100)*G73 -> 9.6733333 | N73: =VLOOKUP(E73,'Impact value reference table'!$B$3:$G$216,5,FALSE) -> 13.77 | O73: =(N73/100)*G73 -> 4.59 | P73: =VLOOKUP(E73,'Impact value reference table'!$B$3:$G$216,6,FALSE) -> 187.41 | Q73: =(P73/100)*G73 -> 62.47
A74: S#268 | B74: 2 | E74: =VLOOKUP($A74,'Food full composition_all'!$A$3:$AU$33,3+($B74*2),0) -> Corn gluten meal 21, unspecified | F74: =VLOOKUP($A74,'Food full composition_all'!$A$3:$BR$33,4+($B74*2),0) -> 17 | G74: =F74*$D$73 -> 18.888889 | H74: =VLOOKUP(E74,'Impact value reference table'!$B$3:$G$216,2,FALSE) -> 0.7 | I74: =(H74/100)*G74 -> 0.13222222 | J74: =VLOOKUP(E74,'Impact value reference table'!$B$3:$G$216,3,FALSE) -> 0.4 | K74: =(J74/100)*G74 -> 0.075555556 | L74: =VLOOKUP(E74,'Impact value reference table'!$B$3:$G$216,4,FALSE) -> 2.6 | M74: =(L74/100)*G74 -> 0.49111111 | N74: =VLOOKUP(E74,'Impact value reference table'!$B$3:$G$216,5,FALSE) -> 0.9 | O74: =(N74/100)*G74 -> 0.17 | P74: =VLOOKUP(E74,'Impact value reference table'!$B$3:$G$216,6,FALSE) -> 48 | Q74: =(P74/100)*G74 -> 9.0666667
A75: S#268 | B75: 3 | E75: =VLOOKUP($A75,'Food full composition_all'!$A$3:$AU$33,3+($B75*2),0) -> Corn gluten meal 21, unspecified | F75: =VLOOKUP($A75,'Food full composition_all'!$A$3:$BR$33,4+($B75*2),0) -> 18.7 | G75: =F75*$D$73 -> 20.777778 | H75: =VLOOKUP(E75,'Impact value reference table'!$B$3:$G$216,2,FALSE) -> 0.7 | I75: =(H75/100)*G75 -> 0.14544444 | J75: =VLOOKUP(E75,'Impact value reference table'!$B$3:$G$216,3,FALSE) -> 0.4 | K75: =(J75/100)*G75 -> 0.083111111 | L75: =VLOOKUP(E75,'Impact value reference table'!$B$3:$G$216,4,FALSE) -> 2.6 | M75: =(L75/100)*G75 -> 0.54022222 | N75: =VLOOKUP(E75,'Impact value reference table'!$B$3:$G$216,5,FALSE) -> 0.9 | O75: =(N75/100)*G75 -> 0.187 | P75: =VLOOKUP(E75,'Impact value reference table'!$B$3:$G$216,6,FALSE) -> 48 | Q75: =(P75/100)*G75 -> 9.9733333
A76: S#268 | B76: 4 | E76: =VLOOKUP($A76,'Food full composition_all'!$A$3:$AU$33,3+($B76*2),0) -> Barley, unspecified | F76: =VLOOKUP($A76,'Food full composition_all'!$A$3:$BR$33,4+($B76*2),0) -> 7.2 | G76: =F76*$D$73 -> 8 | H76: =VLOOKUP(E76,'Impact value reference table'!$B$3:$G$216,2,FALSE) -> 0.2 | I76: =(H76/100)*G76 -> 0.016 | J76: =VLOOKUP(E76,'Impact value reference table'!$B$3:$G$216,3,FALSE) -> 0.22 | K76: =(J76/100)*G76 -> 0.0176 | L76: =VLOOKUP(E76,'Impact value reference table'!$B$3:$G$216,4,FALSE) -> 0.24 | M76: =(L76/100)*G76 -> 0.0192 | N76: =VLOOKUP(E76,'Impact value reference table'!$B$3:$G$216,5,FALSE) -> 0.09 | O76: =(N76/100)*G76 -> 0.0072 | P76: =VLOOKUP(E76,'Impact value reference table'!$B$3:$G$216,6,FALSE) -> 0.55 | Q76: =(P76/100)*G76 -> 0.044
A77: S#268 | B77: 5 | E77: =VLOOKUP($A77,'Food full composition_all'!$A$3:$AU$33,3+($B77*2),0) -> Poultry fat, unspecified | F77: =VLOOKUP($A77,'Food full composition_all'!$A$3:$BR$33,4+($B77*2),0) -> 5.8 | G77: =F77*$D$73 -> 6.4444444 | H77: =VLOOKUP(E77,'Impact value reference table'!$B$3:$G$216,2,FALSE) -> 0 | I77: =(H77/100)*G77 -> 0 | J77: =VLOOKUP(E77,'Impact value reference table'!$B$3:$G$216,3,FALSE) -> 0 | K77: =(J77/100)*G77 -> 0 | L77: =VLOOKUP(E77,'Impact value reference table'!$B$3:$G$216,4,FALSE) -> 0 | M77: =(L77/100)*G77 -> 0 | N77: =VLOOKUP(E77,'Impact value reference table'!$B$3:$G$216,5,FALSE) -> 0 | O77: =(N77/100)*G77 -> 0 | P77: =VLOOKUP(E77,'Impact value reference table'!$B$3:$G$216,6,FALSE) -> 0 | Q77: =(P77/100)*G77 -> 0
A78: S#268 | B78: 6 | E78: =VLOOKUP($A78,'Food full composition_all'!$A$3:$AU$33,3+($B78*2),0) -> Chicken meat, raw | F78: =VLOOKUP($A78,'Food full composition_all'!$A$3:$BR$33,4+($B78*2),0) -> 4.8 | G78: =F78*$D$73 -> 5.3333333 | H78: =VLOOKUP(E78,'Impact value reference table'!$B$3:$G$216,2,FALSE) -> 8 | I78: =(H78/100)*G78 -> 0.42666667 | J78: =VLOOKUP(E78,'Impact value reference table'!$B$3:$G$216,3,FALSE) -> 6.42 | K78: =(J78/100)*G78 -> 0.3424 | L78: =VLOOKUP(E78,'Impact value reference table'!$B$3:$G$216,4,FALSE) -> 66.49 | M78: =(L78/100)*G78 -> 3.5461333 | N78: =VLOOKUP(E78,'Impact value reference table'!$B$3:$G$216,5,FALSE) -> 31.55 | O78: =(N78/100)*G78 -> 1.6826667 | P78: =VLOOKUP(E78,'Impact value reference table'!$B$3:$G$216,6,FALSE) -> 429.36 | Q78: =(P78/100)*G78 -> 22.8992
A79: S#268 | B79: 7 | E79: =VLOOKUP($A79,'Food full composition_all'!$A$3:$AU$33,3+($B79*2),0) -> Sorghum, unspecified | F79: =VLOOKUP($A79,'Food full composition_all'!$A$3:$BR$33,4+($B79*2),0) -> 3.3 | G79: =F79*$D$73 -> 3.6666667 | H79: =VLOOKUP(E79,'Impact value reference table'!$B$3:$G$216,2,FALSE) -> 2.25 | I79: =(H79/100)*G79 -> 0.0825 | J79: =VLOOKUP(E79,'Impact value reference table'!$B$3:$G$216,3,FALSE) -> 0.25 | K79: =(J79/100)*G79 -> 0.0091666667 | L79: =VLOOKUP(E79,'Impact value reference table'!$B$3:$G$216,4,FALSE) -> 3.08 | M79: =(L79/100)*G79 -> 0.11293333 | N79: =VLOOKUP(E79,'Impact value reference table'!$B$3:$G$216,5,FALSE) -> 2.47 | O79: =(N79/100)*G79 -> 0.090566667 | P79: =VLOOKUP(E79,'Impact value reference table'!$B$3:$G$216,6,FALSE) -> 62.9 | Q79: =(P79/100)*G79 -> 2.3063333
A80: S#268 | B80: 8 | E80: =VLOOKUP($A80,'Food full composition_all'!$A$3:$AU$33,3+($B80*2),0) -> Beet pulp, unspecified | F80: =VLOOKUP($A80,'Food full composition_all'!$A$3:$BR$33,4+($B80*2),0) -> 2.9 | G80: =F80*$D$73 -> 3.2222222 | H80: =VLOOKUP(E80,'Impact value reference table'!$B$3:$G$216,2,FALSE) -> 0.13 | I80: =(H80/100)*G80 -> 0.0041888889 | J80: =VLOOKUP(E80,'Impact value reference table'!$B$3:$G$216,3,FALSE) -> 0.17 | K80: =(J80/100)*G80 -> 0.0054777778 | L80: =VLOOKUP(E80,'Impact value reference table'!$B$3:$G$216,4,FALSE) -> 1.25 | M80: =(L80/100)*G80 -> 0.040277778 | N80: =VLOOKUP(E80,'Impact value reference table'!$B$3:$G$216,5,FALSE) -> 0.69 | O80: =(N80/100)*G80 -> 0.022233333 | P80: =VLOOKUP(E80,'Impact value reference table'!$B$3:$G$216,6,FALSE) -> 12.09 | Q80: =(P80/100)*G80 -> 0.38956667
A81: S#268 | B81: 9 | E81: =VLOOKUP($A81,'Food full composition_all'!$A$3:$AU$33,3+($B81*2),0) -> Poultry fat, unspecified | F81: =VLOOKUP($A81,'Food full composition_all'!$A$3:$BR$33,4+($B81*2),0) -> 1.2 | G81: =F81*$D$73 -> 1.3333333 | H81: =VLOOKUP(E81,'Impact value reference table'!$B$3:$G$216,2,FALSE) -> 0 | I81: =(H81/100)*G81 -> 0 | J81: =VLOOKUP(E81,'Impact value reference table'!$B$3:$G$216,3,FALSE) -> 0 | K81: =(J81/100)*G81 -> 0 | L81: =VLOOKUP(E81,'Impact value reference table'!$B$3:$G$216,4,FALSE) -> 0 | M81: =(L81/100)*G81 -> 0 | N81: =VLOOKUP(E81,'Impact value reference table'!$B$3:$G$216,5,FALSE) -> 0 | O81: =(N81/100)*G81 -> 0 | P81: =VLOOKUP(E81,'Impact value reference table'!$B$3:$G$216,6,FALSE) -> 0 | Q81: =(P81/100)*G81 -> 0
A82: S#268 | B82: 10 | E82: =VLOOKUP($A82,'Food full composition_all'!$A$3:$AU$33,3+($B82*2),0) -> Minerals | F82: =VLOOKUP($A82,'Food full composition_all'!$A$3:$BR$33,4+($B82*2),0) -> 0 | G82: =F82*$D$73 -> 0 | I82: =(H82/100)*G82 -> 0 | K82: =(J82/100)*G82 -> 0 | M82: =(L82/100)*G82 -> 0 | O82: =(N82/100)*G82 -> 0 | Q82: =(P82/100)*G82 -> 0
A83: S#268 | B83: 11 | E83: =VLOOKUP($A83,'Food full composition_all'!$A$3:$AU$33,3+($B83*2),0) -> Fructooligosaccharides | F83: =VLOOKUP($A83,'Food full composition_all'!$A$3:$BR$33,4+($B83*2),0) -> 0 | G83: =F83*$D$73 -> 0 | I83: =(H83/100)*G83 -> 0 | K83: =(J83/100)*G83 -> 0 | M83: =(L83/100)*G83 -> 0 | O83: =(N83/100)*G83 -> 0 | Q83: =(P83/100)*G83 -> 0
A84: S#268 | B84: 12 | E84: =VLOOKUP($A84,'Food full composition_all'!$A$3:$AU$33,3+($B84*2),0) -> Brewer's yeast, unspecified | F84: =VLOOKUP($A84,'Food full composition_all'!$A$3:$BR$33,4+($B84*2),0) -> 0.6025 | G84: =F84*$D$73 -> 0.66944444 | H84: =VLOOKUP(E84,'Impact value reference table'!$B$3:$G$216,2,FALSE) -> 0 | I84: =(H84/100)*G84 -> 0 | J84: =VLOOKUP(E84,'Impact value reference table'!$B$3:$G$216,3,FALSE) -> 0 | K84: =(J84/100)*G84 -> 0 | L84: =VLOOKUP(E84,'Impact value reference table'!$B$3:$G$216,4,FALSE) -> 0 | M84: =(L84/100)*G84 -> 0 | N84: =VLOOKUP(E84,'Impact value reference table'!$B$3:$G$216,5,FALSE) -> 0 | O84: =(N84/100)*G84 -> 0 | P84: =VLOOKUP(E84,'Impact value reference table'!$B$3:$G$216,6,FALSE) -> 0 | Q84: =(P84/100)*G84 -> 0
A85: S#269 | B85: 1 | C85: 10 | D85: =100/(100-C85) -> 1.1111111 | E85: =VLOOKUP($A85,'Food full composition_all'!$A$3:$AU$33,3+($B85*2),0) -> Chicken meat, raw | F85: =VLOOKUP($A85,'Food full composition_all'!$A$3:$BR$33,4+($B85*2),0) -> 20 | G85: =F85*$D$85 -> 22.222222 | H85: =VLOOKUP(E85,'Impact value reference table'!$B$3:$G$216,2,FALSE) -> 8 | I85: =(H85/100)*G85 -> 1.7777778 | J85: =VLOOKUP(E85,'Impact value reference table'!$B$3:$G$216,3,FALSE) -> 6.42 | K85: =(J85/100)*G85 -> 1.4266667 | L85: =VLOOKUP(E85,'Impact value reference table'!$B$3:$G$216,4,FALSE) -> 66.49 | M85: =(L85/100)*G85 -> 14.775556 | N85: =VLOOKUP(E85,'Impact value reference table'!$B$3:$G$216,5,FALSE) -> 31.55 | O85: =(N85/100)*G85 -> 7.0111111 | P85: =VLOOKUP(E85,'Impact value reference table'!$B$3:$G$216,6,FALSE) -> 429.36 | Q85: =(P85/100)*G85 -> 95.413333
A86: S#269 | B86: 2 | E86: =VLOOKUP($A86,'Food full composition_all'!$A$3:$AU$33,3+($B86*2),0) -> Wheat gluten, unspecified | F86: =VLOOKUP($A86,'Food full composition_all'!$A$3:$BR$33,4+($B86*2),0) -> 17 | G86: =F86*$D$85 -> 18.888889 | H86: =VLOOKUP(E86,'Impact value reference table'!$B$3:$G$216,2,FALSE) -> 0.6 | I86: =(H86/100)*G86 -> 0.11333333 | J86: =VLOOKUP(E86,'Impact value reference table'!$B$3:$G$216,3,FALSE) -> 1.4 | K86: =(J86/100)*G86 -> 0.26444444 | L86: =VLOOKUP(E86,'Impact value reference table'!$B$3:$G$216,4,FALSE) -> 5 | M86: =(L86/100)*G86 -> 0.94444444 | N86: =VLOOKUP(E86,'Impact value reference table'!$B$3:$G$216,5,FALSE) -> 2.7 | O86: =(N86/100)*G86 -> 0.51 | P86: =VLOOKUP(E86,'Impact value reference table'!$B$3:$G$216,6,FALSE) -> 242 | Q86: =(P86/100)*G86 -> 45.711111
A87: S#269 | B87: 3 | E87: =VLOOKUP($A87,'Food full composition_all'!$A$3:$AU$33,3+($B87*2),0) -> Poultry by-product meal, unspecified | F87: =VLOOKUP($A87,'Food full composition_all'!$A$3:$BR$33,4+($B87*2),0) -> 18.7 | G87: =F87*$D$85 -> 20.777778 | H87: =VLOOKUP(E87,'Impact value reference table'!$B$3:$G$216,2,FALSE) -> 14.04 | I87: =(H87/100)*G87 -> 2.9172 | J87: =VLOOKUP(E87,'Impact value reference table'!$B$3:$G$216,3,FALSE) -> 11.27 | K87: =(J87/100)*G87 -> 2.3416556 | L87: =VLOOKUP(E87,'Impact value reference table'!$B$3:$G$216,4,FALSE) -> 116.64 | M87: =(L87/100)*G87 -> 24.2352 | N87: =VLOOKUP(E87,'Impact value reference table'!$B$3:$G$216,5,FALSE) -> 55.35 | O87: =(N87/100)*G87 -> 11.5005 | P87: =VLOOKUP(E87,'Impact value reference table'!$B$3:$G$216,6,FALSE) -> 753.21 | Q87: =(P87/100)*G87 -> 156.5003
A88: S#269 | B88: 4 | E88: =VLOOKUP($A88,'Food full composition_all'!$A$3:$AU$33,3+($B88*2),0) -> Corn gluten meal 21, unspecified | F88: =VLOOKUP($A88,'Food full composition_all'!$A$3:$BR$33,4+($B88*2),0) -> 7.2 | G88: =F88*$D$85 -> 8 | H88: =VLOOKUP(E88,'Impact value reference table'!$B$3:$G$216,2,FALSE) -> 0.7 | I88: =(H88/100)*G88 -> 0.056 | J88: =VLOOKUP(E88,'Impact value reference table'!$B$3:$G$216,3,FALSE) -> 0.4 | K88: =(J88/100)*G88 -> 0.032 | L88: =VLOOKUP(E88,'Impact value reference table'!$B$3:$G$216,4,FALSE) -> 2.6 | M88: =(L88/100)*G88 -> 0.208 | N88: =VLOOKUP(E88,'Impact value reference table'!$B$3:$G$216,5,FALSE) -> 0.9 | O88: =(N88/100)*G88 -> 0.072 | P88: =VLOOKUP(E88,'Impact value reference table'!$B$3:$G$216,6,FALSE) -> 48 | Q88: =(P88/100)*G88 -> 3.84
A89: S#269 | B89: 5 | E89: =VLOOKUP($A89,'Food full composition_all'!$A$3:$AU$33,3+($B89*2),0) -> White rice, cooked | F89: =VLOOKUP($A89,'Food full composition_all'!$A$3:$BR$33,4+($B89*2),0) -> 9 | G89: =F89*$D$85 -> 10 | H89: =VLOOKUP(E89,'Impact value reference table'!$B$3:$G$216,2,FALSE) -> 0.8 | I89: =(H89/100)*G89 -> 0.08 | J89: =VLOOKUP(E89,'Impact value reference table'!$B$3:$G$216,3,FALSE) -> 1.2 | K89: =(J89/100)*G89 -> 0.12 | L89: =VLOOKUP(E89,'Impact value reference table'!$B$3:$G$216,4,FALSE) -> 7.4 | M89: =(L89/100)*G89 -> 0.74 | N89: =VLOOKUP(E89,'Impact value reference table'!$B$3:$G$216,5,FALSE) -> 10 | O89: =(N89/100)*G89 -> 1 | P89: =VLOOKUP(E89,'Impact value reference table'!$B$3:$G$216,6,FALSE) -> 610 | Q89: =(P89/100)*G89 -> 61
A90: S#269 | B90: 6 | E90: =VLOOKUP($A90,'Food full composition_all'!$A$3:$AU$33,3+($B90*2),0) -> Poultry fat, unspecified | F90: =VLOOKUP($A90,'Food full composition_all'!$A$3:$BR$33,4+($B90*2),0) -> 4.3 | G90: =F90*$D$85 -> 4.7777778 | H90: =VLOOKUP(E90,'Impact value reference table'!$B$3:$G$216,2,FALSE) -> 0 | I90: =(H90/100)*G90 -> 0 | J90: =VLOOKUP(E90,'Impact value reference table'!$B$3:$G$216,3,FALSE) -> 0 | K90: =(J90/100)*G90 -> 0 | L90: =VLOOKUP(E90,'Impact value reference table'!$B$3:$G$216,4,FALSE) -> 0 | M90: =(L90/100)*G90 -> 0 | N90: =VLOOKUP(E90,'Impact value reference table'!$B$3:$G$216,5,FALSE) -> 0 | O90: =(N90/100)*G90 -> 0 | P90: =VLOOKUP(E90,'Impact value reference table'!$B$3:$G$216,6,FALSE) -> 0 | Q90: =(P90/100)*G90 -> 0
A91: S#269 | B91: 7 | E91: =VLOOKUP($A91,'Food full composition_all'!$A$3:$AU$33,3+($B91*2),0) -> Beet pulp, unspecified | F91: =VLOOKUP($A91,'Food full composition_all'!$A$3:$BR$33,4+($B91*2),0) -> 3.3 | G91: =F91*$D$85 -> 3.6666667 | H91: =VLOOKUP(E91,'Impact value reference table'!$B$3:$G$216,2,FALSE) -> 0.13 | I91: =(H91/100)*G91 -> 0.0047666667 | J91: =VLOOKUP(E91,'Impact value reference table'!$B$3:$G$216,3,FALSE) -> 0.17 | K91: =(J91/100)*G91 -> 0.0062333333 | L91: =VLOOKUP(E91,'Impact value reference table'!$B$3:$G$216,4,FALSE) -> 1.25 | M91: =(L91/100)*G91 -> 0.045833333 | N91: =VLOOKUP(E91,'Impact value reference table'!$B$3:$G$216,5,FALSE) -> 0.69 | O91: =(N91/100)*G91 -> 0.0253 | P91: =VLOOKUP(E91,'Impact value reference table'!$B$3:$G$216,6,FALSE) -> 12.09 | Q91: =(P91/100)*G91 -> 0.4433
A92: S#269 | B92: 8 | E92: =VLOOKUP($A92,'Food full composition_all'!$A$3:$AU$33,3+($B92*2),0) -> Digest | F92: =VLOOKUP($A92,'Food full composition_all'!$A$3:$BR$33,4+($B92*2),0) -> 0 | G92: =F92*$D$85 -> 0 | I92: =(H92/100)*G92 -> 0 | K92: =(J92/100)*G92 -> 0 | M92: =(L92/100)*G92 -> 0 | O92: =(N92/100)*G92 -> 0 | Q92: =(P92/100)*G92 -> 0
A93: S#269 | B93: 9 | E93: =VLOOKUP($A93,'Food full composition_all'!$A$3:$AU$33,3+($B93*2),0) -> Soy flour, unspecified | F93: =VLOOKUP($A93,'Food full composition_all'!$A$3:$BR$33,4+($B93*2),0) -> 1.2 | G93: =F93*$D$85 -> 1.3333333 | H93: =VLOOKUP(E93,'Impact value reference table'!$B$3:$G$216,2,FALSE) -> 10.66 | I93: =(H93/100)*G93 -> 0.14213333 | J93: =VLOOKUP(E93,'Impact value reference table'!$B$3:$G$216,3,FALSE) -> 1.17 | K93: =(J93/100)*G93 -> 0.0156 | L93: =VLOOKUP(E93,'Impact value reference table'!$B$3:$G$216,4,FALSE) -> 14.6 | M93: =(L93/100)*G93 -> 0.19466667 | N93: =VLOOKUP(E93,'Impact value reference table'!$B$3:$G$216,5,FALSE) -> 11.68 | O93: =(N93/100)*G93 -> 0.15573333 | P93: =VLOOKUP(E93,'Impact value reference table'!$B$3:$G$216,6,FALSE) -> 297.83 | Q93: =(P93/100)*G93 -> 3.9710667
A94: S#269 | B94: 10 | E94: =VLOOKUP($A94,'Food full composition_all'!$A$3:$AU$33,3+($B94*2),0) -> Corn gluten meal 21, unspecified | F94: =VLOOKUP($A94,'Food full composition_all'!$A$3:$BR$33,4+($B94*2),0) -> 2 | G94: =F94*$D$85 -> 2.2222222 | H94: =VLOOKUP(E94,'Impact value reference table'!$B$3:$G$216,2,FALSE) -> 0.7 | I94: =(H94/100)*G94 -> 0.015555556 | J94: =VLOOKUP(E94,'Impact value reference table'!$B$3:$G$216,3,FALSE) -> 0.4 | K94: =(J94/100)*G94 -> 0.0088888889 | L94: =VLOOKUP(E94,'Impact value reference table'!$B$3:$G$216,4,FALSE) -> 2.6 | M94: =(L94/100)*G94 -> 0.057777778 | N94: =VLOOKUP(E94,'Impact value reference table'!$B$3:$G$216,5,FALSE) -> 0.9 | O94: =(N94/100)*G94 -> 0.02 | P94: =VLOOKUP(E94,'Impact value reference table'!$B$3:$G$216,6,FALSE) -> 48 | Q94: =(P94/100)*G94 -> 1.0666667
A95: S#269 | B95: 11 | E95: =VLOOKUP($A95,'Food full composition_all'!$A$3:$AU$33,3+($B95*2),0) -> Wheat gluten, unspecified | F95: =VLOOKUP($A95,'Food full composition_all'!$A$3:$BR$33,4+($B95*2),0) -> 0.3775 | G95: =F95*$D$85 -> 0.41944444 | H95: =VLOOKUP(E95,'Impact value reference table'!$B$3:$G$216,2,FALSE) -> 0.6 | I95: =(H95/100)*G95 -> 0.0025166667 | J95: =VLOOKUP(E95,'Impact value reference table'!$B$3:$G$216,3,FALSE) -> 1.4 | K95: =(J95/100)*G95 -> 0.0058722222 | L95: =VLOOKUP(E95,'Impact value reference table'!$B$3:$G$216,4,FALSE) -> 5 | M95: =(L95/100)*G95 -> 0.020972222 | N95: =VLOOKUP(E95,'Impact value reference table'!$B$3:$G$216,5,FALSE) -> 2.7 | O95: =(N95/100)*G95 -> 0.011325 | P95: =VLOOKUP(E95,'Impact value reference table'!$B$3:$G$216,6,FALSE) -> 242 | Q95: =(P95/100)*G95 -> 1.0150556
A96: S#269 | B96: 12 | E96: =VLOOKUP($A96,'Food full composition_all'!$A$3:$AU$33,3+($B96*2),0) -> Minerals | F96: =VLOOKUP($A96,'Food full composition_all'!$A$3:$BR$33,4+($B96*2),0) -> 0 | G96: =F96*$D$85 -> 0 | I96: =(H96/100)*G96 -> 0 | K96: =(J96/100)*G96 -> 0 | M96: =(L96/100)*G96 -> 0 | O96: =(N96/100)*G96 -> 0 | Q96: =(P96/100)*G96 -> 0
A97: S#269 | B97: 13 | E97: =VLOOKUP($A97,'Food full composition_all'!$A$3:$AU$33,3+($B97*2),0) -> Egg powder, unspecified | F97: =VLOOKUP($A97,'Food full composition_all'!$A$3:$BR$33,4+($B97*2),0) -> 0.5 | G97: =F97*$D$85 -> 0.55555556 | H97: =VLOOKUP(E97,'Impact value reference table'!$B$3:$G$216,2,FALSE) -> 5.16 | I97: =(H97/100)*G97 -> 0.028666667 | J97: =VLOOKUP(E97,'Impact value reference table'!$B$3:$G$216,3,FALSE) -> 3.8 | K97: =(J97/100)*G97 -> 0.021111111 | L97: =VLOOKUP(E97,'Impact value reference table'!$B$3:$G$216,4,FALSE) -> 43.42 | M97: =(L97/100)*G97 -> 0.24122222 | N97: =VLOOKUP(E97,'Impact value reference table'!$B$3:$G$216,5,FALSE) -> 18.09 | O97: =(N97/100)*G97 -> 0.1005 | P97: =VLOOKUP(E97,'Impact value reference table'!$B$3:$G$216,6,FALSE) -> 471.26 | Q97: =(P97/100)*G97 -> 2.6181111
A98: S#269 | B98: 14 | E98: =VLOOKUP($A98,'Food full composition_all'!$A$3:$AU$33,3+($B98*2),0) -> Fish oil, unspecified | F98: =VLOOKUP($A98,'Food full composition_all'!$A$3:$BR$33,4+($B98*2),0) -> 0.5 | G98: =F98*$D$85 -> 0.55555556 | H98: =VLOOKUP(E98,'Impact value reference table'!$B$3:$G$216,2,FALSE) -> 0 | I98: =(H98/100)*G98 -> 0 | J98: =VLOOKUP(E98,'Impact value reference table'!$B$3:$G$216,3,FALSE) -> 0 | K98: =(J98/100)*G98 -> 0 | L98: =VLOOKUP(E98,'Impact value reference table'!$B$3:$G$216,4,FALSE) -> 0 | M98: =(L98/100)*G98 -> 0 | N98: =VLOOKUP(E98,'Impact value reference table'!$B$3:$G$216,5,FALSE) -> 0 | O98: =(N98/100)*G98 -> 0 | P98: =VLOOKUP(E98,'Impact value reference table'!$B$3:$G$216,6,FALSE) -> 0 | Q98: =(P98/100)*G98 -> 0
A99: S#270 | B99: 1 | C99: 10 | D99: =100/(100-C99) -> 1.1111111 | E99: =VLOOKUP($A99,'Food full composition_all'!$A$3:$AU$33,3+($B99*2),0) -> Corn gluten meal 21, unspecified | F99: =VLOOKUP($A99,'Food full composition_all'!$A$3:$BR$33,4+($B99*2),0) -> 24.5 | G99: =F99*$D$99 -> 27.222222 | H99: =VLOOKUP(E99,'Impact value reference table'!$B$3:$G$216,2,FALSE) -> 0.7 | I99: =(H99/100)*G99 -> 0.19055556 | J99: =VLOOKUP(E99,'Impact value reference table'!$B$3:$G$216,3,FALSE) -> 0.4 | K99: =(J99/100)*G99 -> 0.10888889 | L99: =VLOOKUP(E99,'Impact value reference table'!$B$3:$G$216,4,FALSE) -> 2.6 | M99: =(L99/100)*G99 -> 0.70777778 | N99: =VLOOKUP(E99,'Impact value reference table'!$B$3:$G$216,5,FALSE) -> 0.9 | O99: =(N99/100)*G99 -> 0.245 | P99: =VLOOKUP(E99,'Impact value reference table'!$B$3:$G$216,6,FALSE) -> 48 | Q99: =(P99/100)*G99 -> 13.066667
A100: S#270 | B100: 2 | E100: =VLOOKUP($A100,'Food full composition_all'!$A$3:$AU$33,3+($B100*2),0) -> Poultry by-product meal, unspecified | F100: =VLOOKUP($A100,'Food full composition_all'!$A$3:$BR$33,4+($B100*2),0) -> 26 | G100: =F100*$D$99 -> 28.888889 | H100: =VLOOKUP(E100,'Impact value reference table'!$B$3:$G$216,2,FALSE) -> 14.04 | I100: =(H100/100)*G100 -> 4.056 | J100: =VLOOKUP(E100,'Impact value reference table'!$B$3:$G$216,3,FALSE) -> 11.27 | K100: =(J100/100)*G100 -> 3.2557778 | L100: =VLOOKUP(E100,'Impact value reference table'!$B$3:$G$216,4,FALSE) -> 116.64 | M100: =(L100/100)*G100 -> 33.696 | N100: =VLOOKUP(E100,'Impact value reference table'!$B$3:$G$216,5,FALSE) -> 55.35 | O100: =(N100/100)*G100 -> 15.99 | P100: =VLOOKUP(E100,'Impact value reference table'!$B$3:$G$216,6,FALSE) -> 753.21 | Q100: =(P100/100)*G100 -> 217.594
...

Sheet Impact (per1000kcal)
A1: SampleID | B1: Ingredients | C1: % of ingredients listed | D1: Adjustment factor | E1: Land use by % (m2/1000kcal DM) | F1: Land use * adjustment factor | G1: Co2eq emission (kg/1000kcal DM) | H1: CO2 emission (kg)* adjustment factor | I1: SO2eq emission (g/1000kcal DM) | J1: SO2 emission * adjustment factor | K1: PO43-eq (g/1000kcal DM) | L1: PO43- * adjustment factor | M1: Freshwater withdrawal (L/1000kcal DM) | N1: Freshwater withdrawal * adjustment factor
A2: S#259 | B2: Plant-based | C2: ='Food full composition_all'!$BS$3 -> 85.19 | D2: =100/C2 -> 1.1738467 | E2: =SUM('Impact calculations'!I2:I20) -> 3.2331761 | F2: =E2*D2 -> 3.7952531 | G2: =SUM('Impact calculations'!K2:K20) -> 3.9662261 | H2: =G2*D2 -> 4.6557414 | I2: =SUM('Impact calculations'!$M$2:$M$20) -> 6.1197815 | J2: =I2*D2 -> 7.1836853 | K2: =SUM('Impact calculations'!$O$2:$O$20) -> 5.4779924 | L2: =K2*D2 -> 6.4303233 | M2: =SUM('Impact calculations'!Q2:Q20) -> 178.42462 | N2: =M2*D2 -> 209.44315
A3: S#265 | B3: Standard Poultry | C3: ='Food full composition_all'!$BS$4 -> 101 | D3: =100/C3 -> 0.99009901 | E3: =SUM('Impact calculations'!I21:I37) -> 6.1049333 | F3: =E3*D3 -> 6.0444884 | G3: =SUM('Impact calculations'!K21:K37) -> 7.5023667 | H3: =G3*D3 -> 7.4280858 | I3: =SUM('Impact calculations'!$M$21:$M$37) -> 46.093756 | J3: =I3*D3 -> 45.637382 | K3: =SUM('Impact calculations'!$O$21:$O$37) -> 22.576367 | L3: =K3*D3 -> 22.352838 | M3: =SUM('Impact calculations'!Q21:Q37) -> 345.57949 | N3: =M3*D3 -> 342.15791
A4: S#266 | B4: Standard Poultry | C4: ='Food full composition_all'!$BS$5 -> 105.1 | D4: =100/C4 -> 0.95147479 | E4: =SUM('Impact calculations'!I38:I52) -> 6.5545667 | F4: =E4*D4 -> 6.2365049 | G4: =SUM('Impact calculations'!K38:K52) -> 5.5201333 | H4: =G4*D4 -> 5.2522677 | I4: =SUM('Impact calculations'!$M$38:$M$52) -> 40.204122 | J4: =I4*D4 -> 38.253209 | K4: =SUM('Impact calculations'!$O$38:$O$52) -> 22.490489 | L4: =K4*D4 -> 21.399133 | M4: =SUM('Impact calculations'!Q38:Q52) -> 541.77207 | N4: =M4*D4 -> 515.48246
A5: S#267 | B5: Standard Poultry | C5: ='Food full composition_all'!$BS$6 -> 103.6775 | D5: =100/C5 -> 0.96452943 | E5: =SUM('Impact calculations'!I53:I72) -> 4.8524458 | F5: =E5*D5 -> 4.6803268 | G5: =SUM('Impact calculations'!K53:K72) -> 4.1720358 | H5: =G5*D5 -> 4.0240513 | I5: =SUM('Impact calculations'!$M$53:$M$72) -> 39.304052 | J5: =I5*D5 -> 37.909915 | K5: =SUM('Impact calculations'!$O$53:$O$72) -> 27.958405 | L5: =K5*D5 -> 26.966705 | M5: =SUM('Impact calculations'!Q53:Q72) -> 513.37751 | N5: =M5*D5 -> 495.16772
A6: S#268 | B6: Small and Medium dog Poultry | C6: ='Food full composition_all'!$BS$7 -> 91.5025 | D6: =100/C6 -> 1.0928663 | E6: =SUM('Impact calculations'!I73:I84) -> 1.9703556 | F6: =E6*D6 -> 2.1533352 | G6: =SUM('Impact calculations'!K73:K84) -> 1.4666444 | H6: =G6*D6 -> 1.6028463 | I6: =SUM('Impact calculations'!$M$73:$M$84) -> 14.423211 | J6: =I6*D6 -> 15.762642 | K6: =SUM('Impact calculations'!$O$73:$O$84) -> 6.7496667 | L6: =K6*D6 -> 7.3764833 | M6: =SUM('Impact calculations'!Q73:Q84) -> 107.1491 | N6: =M6*D6 -> 117.09964
A7: S#269 | B7: Standard Poultry | C7: ='Food full composition_all'!$BS$8 -> 84.0775 | D7: =100/C7 -> 1.1893788 | E7: =SUM('Impact calculations'!I85:I98) -> 5.13795 | F7: =E7*D7 -> 6.110969 | G7: =SUM('Impact calculations'!K85:K98) -> 4.2424722 | H7: =G7*D7 -> 5.0459067 | I7: =SUM('Impact calculations'!$M$85:$M$98) -> 41.463672 | J7: =I7*D7 -> 49.316015 | K7: =SUM('Impact calculations'!$O$85:$O$98) -> 20.406469 | L7: =K7*D7 -> 24.271023 | M7: =SUM('Impact calculations'!Q85:Q98) -> 371.57894 | N7: =M7*D7 -> 441.94814
A8: S#270 | B8: Standard Poultry | C8: ='Food full composition_all'!$BS$9 -> 95.2775 | D8: =100/C8 -> 1.0495657 | E8: =SUM('Impact calculations'!I99:I120) -> 5.4468031 | F8: =E8*D8 -> 5.7167779 | G8: =SUM('Impact calculations'!K99:K120) -> 4.1554311 | H8: =G8*D8 -> 4.3613981 | I8: =SUM('Impact calculations'!$M$99:$M$120) -> 40.928716 | J8: =I8*D8 -> 42.957379 | K8: =SUM('Impact calculations'!$O$99:$O$120) -> 19.850567 | L8: =K8*D8 -> 20.834475 | M8: =SUM('Impact calculations'!Q99:Q120) -> 314.82291 | N8: =M8*D8 -> 330.42735
A9: S#271 | B9: Standard Beef | C9: ='Food full composition_all'!$BS$10 -> 91.9775 | D9: =100/C9 -> 1.0872224 | E9: =SUM('Impact calculations'!I121:I141) -> 90.6691 | F9: =E9*D9 -> 98.577478 | G9: =SUM('Impact calculations'!K121:K141) -> 28.063811 | H9: =G9*D9 -> 30.511605 | I9: =SUM('Impact calculations'!$M$121:$M$141) -> 92.758089 | J9: =I9*D9 -> 100.84867 | K9: =SUM('Impact calculations'!$O$121:$O$141) -> 85.683267 | L9: =K9*D9 -> 93.156768 | M9: =SUM('Impact calculations'!Q121:Q141) -> 499.90711 | N9: =M9*D9 -> 543.51022
A10: S#272 | B10: Standard Beef | C10: ='Food full composition_all'!$BS$11 -> 59.7 | D10: =100/C10 -> 1.6750419 | E10: =SUM('Impact calculations'!I142:I147) -> 66.709178 | F10: =E10*D10 -> 111.74067 | G10: =SUM('Impact calculations'!K142:K147) -> 20.339489 | H10: =G10*D10 -> 34.069496 | I10: =SUM('Impact calculations'!$M$142:$M$147) -> 65.888411 | J10: =I10*D10 -> 110.36585 | K10: =SUM('Impact calculations'!$O$142:$O$147) -> 62.663322 | L10: =K10*D10 -> 104.96369 | M10: =SUM('Impact calculations'!Q142:Q147) -> 372.72833 | N10: =M10*D10 -> 624.33557
A11: S#273 | B11: Small dog Beef | C11: ='Food full composition_all'!$BS$12 -> 86.9 | D11: =100/C11 -> 1.150748 | E11: =SUM('Impact calculations'!I148:I155) -> 61.7251 | F11: =E11*D11 -> 71.030035 | G11: =SUM('Impact calculations'!K148:K155) -> 18.606067 | H11: =G11*D11 -> 21.410894 | I11: =SUM('Impact calculations'!$M$148:$M$155) -> 62.215889 | J11: =I11*D11 -> 71.594809 | K11: =SUM('Impact calculations'!$O$148:$O$155) -> 58.4383 | L11: =K11*D11 -> 67.247756 | M11: =SUM('Impact calculations'!Q148:Q155) -> 442.38812 | N11: =M11*D11 -> 509.07724
A12: S#274 | B12: Standard Lamb | C12: ='Food full composition_all'!$BS$13 -> 84 | D12: =100/C12 -> 1.1904762 | E12: =SUM('Impact calculations'!I156:I166) -> 73.083978 | F12: =E12*D12 -> 87.004735 | G12: =SUM('Impact calculations'!K156:K166) -> 8.2608111 | H12: =G12*D12 -> 9.8342989 | I12: =SUM('Impact calculations'!$M$156:$M$166) -> 29.868156 | J12: =I12*D12 -> 35.557328 | K12: =SUM('Impact calculations'!$O$156:$O$166) -> 20.908189 | L12: =K12*D12 -> 24.890701 | M12: =SUM('Impact calculations'!Q156:Q166) -> 438.21969 | N12: =M12*D12 -> 521.69011
